BEGIN:VCALENDAR
VERSION:2.0
PRODID:-//The DeWinton Community Hall - ECPv6.15.20//NONSGML v1.0//EN
CALSCALE:GREGORIAN
METHOD:PUBLISH
X-WR-CALNAME:The DeWinton Community Hall
X-ORIGINAL-URL:https://www.dewintonca.com
X-WR-CALDESC:Events for The DeWinton Community Hall
REFRESH-INTERVAL;VALUE=DURATION:PT1H
X-Robots-Tag:noindex
X-PUBLISHED-TTL:PT1H
BEGIN:VTIMEZONE
TZID:America/Edmonton
BEGIN:DAYLIGHT
TZOFFSETFROM:-0700
TZOFFSETTO:-0600
TZNAME:MDT
DTSTART:20290311T090000
END:DAYLIGHT
BEGIN:STANDARD
TZOFFSETFROM:-0600
TZOFFSETTO:-0700
TZNAME:MST
DTSTART:20291104T080000
END:STANDARD
BEGIN:DAYLIGHT
TZOFFSETFROM:-0700
TZOFFSETTO:-0600
TZNAME:MDT
DTSTART:20300310T090000
END:DAYLIGHT
BEGIN:STANDARD
TZOFFSETFROM:-0600
TZOFFSETTO:-0700
TZNAME:MST
DTSTART:20301103T080000
END:STANDARD
BEGIN:DAYLIGHT
TZOFFSETFROM:-0700
TZOFFSETTO:-0600
TZNAME:MDT
DTSTART:20310309T090000
END:DAYLIGHT
BEGIN:STANDARD
TZOFFSETFROM:-0600
TZOFFSETTO:-0700
TZNAME:MST
DTSTART:20311102T080000
END:STANDARD
END:VTIMEZONE
BEGIN:VEVENT
DTSTART;TZID=America/Edmonton:20300204T091500
DTEND;TZID=America/Edmonton:20300204T103000
DTSTAMP:20260425T204720
CREATED:20251104T012604Z
LAST-MODIFIED:20251104T012609Z
UID:10003066-1896426900-1896431400@www.dewintonca.com
SUMMARY:Stretching/Yoga
DESCRIPTION:Join us every Monday and Thursday from 9:15 to 10:30 am to limber up your joints and slow down your mind.
URL:https://www.dewintonca.com/event/stretching-yoga-3/2030-02-04/
CATEGORIES:Program
ATTACH;FMTTYPE=image/jpeg:https://www.dewintonca.com/wp-content/uploads/2020/08/stretching-e1738681881428.jpg
END:VEVENT
BEGIN:VEVENT
DTSTART;TZID=America/Edmonton:20300204T183000
DTEND;TZID=America/Edmonton:20300204T213000
DTSTAMP:20260425T204720
CREATED:20250204T144249Z
LAST-MODIFIED:20250210T225120Z
UID:10002797-1896460200-1896471000@www.dewintonca.com
SUMMARY:Canasta
DESCRIPTION:Looking to unwind with a fun card game? Join us for Canasta classes every Monday night from 6:30 – 9:30pm! Whether you’re a beginner or a seasoned player\, you’ll learn new strategies\, sharpen your skills\, and have a great time. Best of all—it’s FREE for community members! Grab your cards and come have some fun with us!
URL:https://www.dewintonca.com/event/canasta/2030-02-04/
LOCATION:DeWinton Community Hall\, 114 Macleod Trail E\, DeWinton\, Alberta\, T0L 0X0\, Canada
CATEGORIES:Program
ATTACH;FMTTYPE=image/jpeg:https://www.dewintonca.com/wp-content/uploads/2025/02/CANASTA-Presentation-43.jpg
END:VEVENT
BEGIN:VEVENT
DTSTART;TZID=America/Edmonton:20300206T093000
DTEND;TZID=America/Edmonton:20300206T143000
DTSTAMP:20260425T204720
CREATED:20250109T220122Z
LAST-MODIFIED:20250125T032639Z
UID:10003168-1896600600-1896618600@www.dewintonca.com
SUMMARY:Quilting
DESCRIPTION:Free for Members. Drop in with your equipment and supplies
URL:https://www.dewintonca.com/event/quilting/2030-02-06/
CATEGORIES:Program
ATTACH;FMTTYPE=image/jpeg:https://www.dewintonca.com/wp-content/uploads/2021/03/Quilting.jpg
END:VEVENT
BEGIN:VEVENT
DTSTART;TZID=America/Edmonton:20300206T130000
DTEND;TZID=America/Edmonton:20300206T150000
DTSTAMP:20260425T204720
CREATED:20250118T233839Z
LAST-MODIFIED:20250125T032551Z
UID:10003222-1896613200-1896620400@www.dewintonca.com
SUMMARY:Bridge
DESCRIPTION:Join us at the hall for a friendly round or two of Bridge. Free to attend for DCA members
URL:https://www.dewintonca.com/event/bridge/2030-02-06/
CATEGORIES:Program
ATTACH;FMTTYPE=image/jpeg:https://www.dewintonca.com/wp-content/uploads/2025/01/Cards-scaled-e1738682093441.jpg
END:VEVENT
BEGIN:VEVENT
DTSTART;TZID=America/Edmonton:20300207T091500
DTEND;TZID=America/Edmonton:20300207T103000
DTSTAMP:20260425T204720
CREATED:20250109T212155Z
LAST-MODIFIED:20250125T032629Z
UID:10003116-1896686100-1896690600@www.dewintonca.com
SUMMARY:Stretching/Yoga
DESCRIPTION:Join us every Monday and Thursday from 9:15 to 10:30 am to limber up your joints and slow down your mind.
URL:https://www.dewintonca.com/event/stretching-yoga/2030-02-07/
CATEGORIES:Program
ATTACH;FMTTYPE=image/jpeg:https://www.dewintonca.com/wp-content/uploads/2020/08/stretching-e1738681881428.jpg
END:VEVENT
BEGIN:VEVENT
DTSTART;TZID=America/Edmonton:20300211T091500
DTEND;TZID=America/Edmonton:20300211T103000
DTSTAMP:20260425T204720
CREATED:20251104T012604Z
LAST-MODIFIED:20251104T012609Z
UID:10003067-1897031700-1897036200@www.dewintonca.com
SUMMARY:Stretching/Yoga
DESCRIPTION:Join us every Monday and Thursday from 9:15 to 10:30 am to limber up your joints and slow down your mind.
URL:https://www.dewintonca.com/event/stretching-yoga-3/2030-02-11/
CATEGORIES:Program
ATTACH;FMTTYPE=image/jpeg:https://www.dewintonca.com/wp-content/uploads/2020/08/stretching-e1738681881428.jpg
END:VEVENT
BEGIN:VEVENT
DTSTART;TZID=America/Edmonton:20300211T183000
DTEND;TZID=America/Edmonton:20300211T213000
DTSTAMP:20260425T204720
CREATED:20250204T144249Z
LAST-MODIFIED:20250210T225120Z
UID:10003282-1897065000-1897075800@www.dewintonca.com
SUMMARY:Canasta
DESCRIPTION:Looking to unwind with a fun card game? Join us for Canasta classes every Monday night from 6:30 – 9:30pm! Whether you’re a beginner or a seasoned player\, you’ll learn new strategies\, sharpen your skills\, and have a great time. Best of all—it’s FREE for community members! Grab your cards and come have some fun with us!
URL:https://www.dewintonca.com/event/canasta/2030-02-11/
LOCATION:DeWinton Community Hall\, 114 Macleod Trail E\, DeWinton\, Alberta\, T0L 0X0\, Canada
CATEGORIES:Program
ATTACH;FMTTYPE=image/jpeg:https://www.dewintonca.com/wp-content/uploads/2025/02/CANASTA-Presentation-43.jpg
END:VEVENT
BEGIN:VEVENT
DTSTART;TZID=America/Edmonton:20300213T093000
DTEND;TZID=America/Edmonton:20300213T143000
DTSTAMP:20260425T204720
CREATED:20250109T220122Z
LAST-MODIFIED:20250125T032639Z
UID:10003169-1897205400-1897223400@www.dewintonca.com
SUMMARY:Quilting
DESCRIPTION:Free for Members. Drop in with your equipment and supplies
URL:https://www.dewintonca.com/event/quilting/2030-02-13/
CATEGORIES:Program
ATTACH;FMTTYPE=image/jpeg:https://www.dewintonca.com/wp-content/uploads/2021/03/Quilting.jpg
END:VEVENT
BEGIN:VEVENT
DTSTART;TZID=America/Edmonton:20300213T130000
DTEND;TZID=America/Edmonton:20300213T150000
DTSTAMP:20260425T204720
CREATED:20250118T233839Z
LAST-MODIFIED:20250125T032551Z
UID:10003223-1897218000-1897225200@www.dewintonca.com
SUMMARY:Bridge
DESCRIPTION:Join us at the hall for a friendly round or two of Bridge. Free to attend for DCA members
URL:https://www.dewintonca.com/event/bridge/2030-02-13/
CATEGORIES:Program
ATTACH;FMTTYPE=image/jpeg:https://www.dewintonca.com/wp-content/uploads/2025/01/Cards-scaled-e1738682093441.jpg
END:VEVENT
BEGIN:VEVENT
DTSTART;TZID=America/Edmonton:20300214T091500
DTEND;TZID=America/Edmonton:20300214T103000
DTSTAMP:20260425T204720
CREATED:20250109T212155Z
LAST-MODIFIED:20250125T032629Z
UID:10003117-1897290900-1897295400@www.dewintonca.com
SUMMARY:Stretching/Yoga
DESCRIPTION:Join us every Monday and Thursday from 9:15 to 10:30 am to limber up your joints and slow down your mind.
URL:https://www.dewintonca.com/event/stretching-yoga/2030-02-14/
CATEGORIES:Program
ATTACH;FMTTYPE=image/jpeg:https://www.dewintonca.com/wp-content/uploads/2020/08/stretching-e1738681881428.jpg
END:VEVENT
BEGIN:VEVENT
DTSTART;TZID=America/Edmonton:20300218T091500
DTEND;TZID=America/Edmonton:20300218T103000
DTSTAMP:20260425T204720
CREATED:20251104T012604Z
LAST-MODIFIED:20251104T012609Z
UID:10003068-1897636500-1897641000@www.dewintonca.com
SUMMARY:Stretching/Yoga
DESCRIPTION:Join us every Monday and Thursday from 9:15 to 10:30 am to limber up your joints and slow down your mind.
URL:https://www.dewintonca.com/event/stretching-yoga-3/2030-02-18/
CATEGORIES:Program
ATTACH;FMTTYPE=image/jpeg:https://www.dewintonca.com/wp-content/uploads/2020/08/stretching-e1738681881428.jpg
END:VEVENT
BEGIN:VEVENT
DTSTART;TZID=America/Edmonton:20300218T183000
DTEND;TZID=America/Edmonton:20300218T213000
DTSTAMP:20260425T204720
CREATED:20250204T144249Z
LAST-MODIFIED:20250210T225120Z
UID:10003283-1897669800-1897680600@www.dewintonca.com
SUMMARY:Canasta
DESCRIPTION:Looking to unwind with a fun card game? Join us for Canasta classes every Monday night from 6:30 – 9:30pm! Whether you’re a beginner or a seasoned player\, you’ll learn new strategies\, sharpen your skills\, and have a great time. Best of all—it’s FREE for community members! Grab your cards and come have some fun with us!
URL:https://www.dewintonca.com/event/canasta/2030-02-18/
LOCATION:DeWinton Community Hall\, 114 Macleod Trail E\, DeWinton\, Alberta\, T0L 0X0\, Canada
CATEGORIES:Program
ATTACH;FMTTYPE=image/jpeg:https://www.dewintonca.com/wp-content/uploads/2025/02/CANASTA-Presentation-43.jpg
END:VEVENT
BEGIN:VEVENT
DTSTART;TZID=America/Edmonton:20300220T093000
DTEND;TZID=America/Edmonton:20300220T143000
DTSTAMP:20260425T204720
CREATED:20250109T220122Z
LAST-MODIFIED:20250125T032639Z
UID:10003170-1897810200-1897828200@www.dewintonca.com
SUMMARY:Quilting
DESCRIPTION:Free for Members. Drop in with your equipment and supplies
URL:https://www.dewintonca.com/event/quilting/2030-02-20/
CATEGORIES:Program
ATTACH;FMTTYPE=image/jpeg:https://www.dewintonca.com/wp-content/uploads/2021/03/Quilting.jpg
END:VEVENT
BEGIN:VEVENT
DTSTART;TZID=America/Edmonton:20300220T130000
DTEND;TZID=America/Edmonton:20300220T150000
DTSTAMP:20260425T204720
CREATED:20250118T233839Z
LAST-MODIFIED:20250125T032551Z
UID:10003224-1897822800-1897830000@www.dewintonca.com
SUMMARY:Bridge
DESCRIPTION:Join us at the hall for a friendly round or two of Bridge. Free to attend for DCA members
URL:https://www.dewintonca.com/event/bridge/2030-02-20/
CATEGORIES:Program
ATTACH;FMTTYPE=image/jpeg:https://www.dewintonca.com/wp-content/uploads/2025/01/Cards-scaled-e1738682093441.jpg
END:VEVENT
BEGIN:VEVENT
DTSTART;TZID=America/Edmonton:20300221T091500
DTEND;TZID=America/Edmonton:20300221T103000
DTSTAMP:20260425T204720
CREATED:20250109T212155Z
LAST-MODIFIED:20250125T032629Z
UID:10003118-1897895700-1897900200@www.dewintonca.com
SUMMARY:Stretching/Yoga
DESCRIPTION:Join us every Monday and Thursday from 9:15 to 10:30 am to limber up your joints and slow down your mind.
URL:https://www.dewintonca.com/event/stretching-yoga/2030-02-21/
CATEGORIES:Program
ATTACH;FMTTYPE=image/jpeg:https://www.dewintonca.com/wp-content/uploads/2020/08/stretching-e1738681881428.jpg
END:VEVENT
BEGIN:VEVENT
DTSTART;TZID=America/Edmonton:20300225T091500
DTEND;TZID=America/Edmonton:20300225T103000
DTSTAMP:20260425T204720
CREATED:20251104T012604Z
LAST-MODIFIED:20251104T012609Z
UID:10003069-1898241300-1898245800@www.dewintonca.com
SUMMARY:Stretching/Yoga
DESCRIPTION:Join us every Monday and Thursday from 9:15 to 10:30 am to limber up your joints and slow down your mind.
URL:https://www.dewintonca.com/event/stretching-yoga-3/2030-02-25/
CATEGORIES:Program
ATTACH;FMTTYPE=image/jpeg:https://www.dewintonca.com/wp-content/uploads/2020/08/stretching-e1738681881428.jpg
END:VEVENT
BEGIN:VEVENT
DTSTART;TZID=America/Edmonton:20300225T183000
DTEND;TZID=America/Edmonton:20300225T213000
DTSTAMP:20260425T204720
CREATED:20250204T144249Z
LAST-MODIFIED:20250210T225120Z
UID:10003284-1898274600-1898285400@www.dewintonca.com
SUMMARY:Canasta
DESCRIPTION:Looking to unwind with a fun card game? Join us for Canasta classes every Monday night from 6:30 – 9:30pm! Whether you’re a beginner or a seasoned player\, you’ll learn new strategies\, sharpen your skills\, and have a great time. Best of all—it’s FREE for community members! Grab your cards and come have some fun with us!
URL:https://www.dewintonca.com/event/canasta/2030-02-25/
LOCATION:DeWinton Community Hall\, 114 Macleod Trail E\, DeWinton\, Alberta\, T0L 0X0\, Canada
CATEGORIES:Program
ATTACH;FMTTYPE=image/jpeg:https://www.dewintonca.com/wp-content/uploads/2025/02/CANASTA-Presentation-43.jpg
END:VEVENT
BEGIN:VEVENT
DTSTART;TZID=America/Edmonton:20300227T093000
DTEND;TZID=America/Edmonton:20300227T143000
DTSTAMP:20260425T204720
CREATED:20250109T220122Z
LAST-MODIFIED:20250125T032639Z
UID:10003171-1898415000-1898433000@www.dewintonca.com
SUMMARY:Quilting
DESCRIPTION:Free for Members. Drop in with your equipment and supplies
URL:https://www.dewintonca.com/event/quilting/2030-02-27/
CATEGORIES:Program
ATTACH;FMTTYPE=image/jpeg:https://www.dewintonca.com/wp-content/uploads/2021/03/Quilting.jpg
END:VEVENT
BEGIN:VEVENT
DTSTART;TZID=America/Edmonton:20300227T130000
DTEND;TZID=America/Edmonton:20300227T150000
DTSTAMP:20260425T204720
CREATED:20250118T233839Z
LAST-MODIFIED:20250125T032551Z
UID:10003225-1898427600-1898434800@www.dewintonca.com
SUMMARY:Bridge
DESCRIPTION:Join us at the hall for a friendly round or two of Bridge. Free to attend for DCA members
URL:https://www.dewintonca.com/event/bridge/2030-02-27/
CATEGORIES:Program
ATTACH;FMTTYPE=image/jpeg:https://www.dewintonca.com/wp-content/uploads/2025/01/Cards-scaled-e1738682093441.jpg
END:VEVENT
BEGIN:VEVENT
DTSTART;TZID=America/Edmonton:20300228T091500
DTEND;TZID=America/Edmonton:20300228T103000
DTSTAMP:20260425T204720
CREATED:20250109T212155Z
LAST-MODIFIED:20250125T032629Z
UID:10003119-1898500500-1898505000@www.dewintonca.com
SUMMARY:Stretching/Yoga
DESCRIPTION:Join us every Monday and Thursday from 9:15 to 10:30 am to limber up your joints and slow down your mind.
URL:https://www.dewintonca.com/event/stretching-yoga/2030-02-28/
CATEGORIES:Program
ATTACH;FMTTYPE=image/jpeg:https://www.dewintonca.com/wp-content/uploads/2020/08/stretching-e1738681881428.jpg
END:VEVENT
END:VCALENDAR