BEGIN:VCALENDAR
VERSION:2.0
PRODID:-//The DeWinton Community Hall - ECPv6.15.20//NONSGML v1.0//EN
CALSCALE:GREGORIAN
METHOD:PUBLISH
X-WR-CALNAME:The DeWinton Community Hall
X-ORIGINAL-URL:https://www.dewintonca.com
X-WR-CALDESC:Events for The DeWinton Community Hall
REFRESH-INTERVAL;VALUE=DURATION:PT1H
X-Robots-Tag:noindex
X-PUBLISHED-TTL:PT1H
BEGIN:VTIMEZONE
TZID:America/Edmonton
BEGIN:DAYLIGHT
TZOFFSETFROM:-0700
TZOFFSETTO:-0600
TZNAME:MDT
DTSTART:20280312T090000
END:DAYLIGHT
BEGIN:STANDARD
TZOFFSETFROM:-0600
TZOFFSETTO:-0700
TZNAME:MST
DTSTART:20281105T080000
END:STANDARD
BEGIN:DAYLIGHT
TZOFFSETFROM:-0700
TZOFFSETTO:-0600
TZNAME:MDT
DTSTART:20290311T090000
END:DAYLIGHT
BEGIN:STANDARD
TZOFFSETFROM:-0600
TZOFFSETTO:-0700
TZNAME:MST
DTSTART:20291104T080000
END:STANDARD
BEGIN:DAYLIGHT
TZOFFSETFROM:-0700
TZOFFSETTO:-0600
TZNAME:MDT
DTSTART:20300310T090000
END:DAYLIGHT
BEGIN:STANDARD
TZOFFSETFROM:-0600
TZOFFSETTO:-0700
TZNAME:MST
DTSTART:20301103T080000
END:STANDARD
END:VTIMEZONE
BEGIN:VEVENT
DTSTART;TZID=America/Edmonton:20290409T183000
DTEND;TZID=America/Edmonton:20290409T213000
DTSTAMP:20260425T092214
CREATED:20250204T144249Z
LAST-MODIFIED:20250210T225120Z
UID:10002754-1870453800-1870464600@www.dewintonca.com
SUMMARY:Canasta
DESCRIPTION:Looking to unwind with a fun card game? Join us for Canasta classes every Monday night from 6:30 – 9:30pm! Whether you’re a beginner or a seasoned player\, you’ll learn new strategies\, sharpen your skills\, and have a great time. Best of all—it’s FREE for community members! Grab your cards and come have some fun with us!
URL:https://www.dewintonca.com/event/canasta/2029-04-09/
LOCATION:DeWinton Community Hall\, 114 Macleod Trail E\, DeWinton\, Alberta\, T0L 0X0\, Canada
CATEGORIES:Program
ATTACH;FMTTYPE=image/jpeg:https://www.dewintonca.com/wp-content/uploads/2025/02/CANASTA-Presentation-43.jpg
END:VEVENT
BEGIN:VEVENT
DTSTART;TZID=America/Edmonton:20290411T093000
DTEND;TZID=America/Edmonton:20290411T143000
DTSTAMP:20260425T092214
CREATED:20250109T220122Z
LAST-MODIFIED:20250125T032639Z
UID:10001337-1870594200-1870612200@www.dewintonca.com
SUMMARY:Quilting
DESCRIPTION:Free for Members. Drop in with your equipment and supplies
URL:https://www.dewintonca.com/event/quilting/2029-04-11/
CATEGORIES:Program
ATTACH;FMTTYPE=image/jpeg:https://www.dewintonca.com/wp-content/uploads/2021/03/Quilting.jpg
END:VEVENT
BEGIN:VEVENT
DTSTART;TZID=America/Edmonton:20290411T130000
DTEND;TZID=America/Edmonton:20290411T150000
DTSTAMP:20260425T092214
CREATED:20250118T233839Z
LAST-MODIFIED:20250125T032551Z
UID:10001670-1870606800-1870614000@www.dewintonca.com
SUMMARY:Bridge
DESCRIPTION:Join us at the hall for a friendly round or two of Bridge. Free to attend for DCA members
URL:https://www.dewintonca.com/event/bridge/2029-04-11/
CATEGORIES:Program
ATTACH;FMTTYPE=image/jpeg:https://www.dewintonca.com/wp-content/uploads/2025/01/Cards-scaled-e1738682093441.jpg
END:VEVENT
BEGIN:VEVENT
DTSTART;TZID=America/Edmonton:20290412T091500
DTEND;TZID=America/Edmonton:20290412T103000
DTSTAMP:20260425T092214
CREATED:20250109T212155Z
LAST-MODIFIED:20250125T032629Z
UID:10000296-1870679700-1870684200@www.dewintonca.com
SUMMARY:Stretching/Yoga
DESCRIPTION:Join us every Monday and Thursday from 9:15 to 10:30 am to limber up your joints and slow down your mind.
URL:https://www.dewintonca.com/event/stretching-yoga/2029-04-12/
CATEGORIES:Program
ATTACH;FMTTYPE=image/jpeg:https://www.dewintonca.com/wp-content/uploads/2020/08/stretching-e1738681881428.jpg
END:VEVENT
BEGIN:VEVENT
DTSTART;TZID=America/Edmonton:20290416T091500
DTEND;TZID=America/Edmonton:20290416T103000
DTSTAMP:20260425T092214
CREATED:20251104T012604Z
LAST-MODIFIED:20251104T012609Z
UID:10003024-1871025300-1871029800@www.dewintonca.com
SUMMARY:Stretching/Yoga
DESCRIPTION:Join us every Monday and Thursday from 9:15 to 10:30 am to limber up your joints and slow down your mind.
URL:https://www.dewintonca.com/event/stretching-yoga-3/2029-04-16/
CATEGORIES:Program
ATTACH;FMTTYPE=image/jpeg:https://www.dewintonca.com/wp-content/uploads/2020/08/stretching-e1738681881428.jpg
END:VEVENT
BEGIN:VEVENT
DTSTART;TZID=America/Edmonton:20290416T183000
DTEND;TZID=America/Edmonton:20290416T213000
DTSTAMP:20260425T092214
CREATED:20250204T144249Z
LAST-MODIFIED:20250210T225120Z
UID:10002755-1871058600-1871069400@www.dewintonca.com
SUMMARY:Canasta
DESCRIPTION:Looking to unwind with a fun card game? Join us for Canasta classes every Monday night from 6:30 – 9:30pm! Whether you’re a beginner or a seasoned player\, you’ll learn new strategies\, sharpen your skills\, and have a great time. Best of all—it’s FREE for community members! Grab your cards and come have some fun with us!
URL:https://www.dewintonca.com/event/canasta/2029-04-16/
LOCATION:DeWinton Community Hall\, 114 Macleod Trail E\, DeWinton\, Alberta\, T0L 0X0\, Canada
CATEGORIES:Program
ATTACH;FMTTYPE=image/jpeg:https://www.dewintonca.com/wp-content/uploads/2025/02/CANASTA-Presentation-43.jpg
END:VEVENT
BEGIN:VEVENT
DTSTART;TZID=America/Edmonton:20290418T093000
DTEND;TZID=America/Edmonton:20290418T143000
DTSTAMP:20260425T092214
CREATED:20250109T220122Z
LAST-MODIFIED:20250125T032639Z
UID:10001338-1871199000-1871217000@www.dewintonca.com
SUMMARY:Quilting
DESCRIPTION:Free for Members. Drop in with your equipment and supplies
URL:https://www.dewintonca.com/event/quilting/2029-04-18/
CATEGORIES:Program
ATTACH;FMTTYPE=image/jpeg:https://www.dewintonca.com/wp-content/uploads/2021/03/Quilting.jpg
END:VEVENT
BEGIN:VEVENT
DTSTART;TZID=America/Edmonton:20290418T130000
DTEND;TZID=America/Edmonton:20290418T150000
DTSTAMP:20260425T092214
CREATED:20250118T233839Z
LAST-MODIFIED:20250125T032551Z
UID:10001671-1871211600-1871218800@www.dewintonca.com
SUMMARY:Bridge
DESCRIPTION:Join us at the hall for a friendly round or two of Bridge. Free to attend for DCA members
URL:https://www.dewintonca.com/event/bridge/2029-04-18/
CATEGORIES:Program
ATTACH;FMTTYPE=image/jpeg:https://www.dewintonca.com/wp-content/uploads/2025/01/Cards-scaled-e1738682093441.jpg
END:VEVENT
BEGIN:VEVENT
DTSTART;TZID=America/Edmonton:20290419T091500
DTEND;TZID=America/Edmonton:20290419T103000
DTSTAMP:20260425T092214
CREATED:20250109T212155Z
LAST-MODIFIED:20250125T032629Z
UID:10000297-1871284500-1871289000@www.dewintonca.com
SUMMARY:Stretching/Yoga
DESCRIPTION:Join us every Monday and Thursday from 9:15 to 10:30 am to limber up your joints and slow down your mind.
URL:https://www.dewintonca.com/event/stretching-yoga/2029-04-19/
CATEGORIES:Program
ATTACH;FMTTYPE=image/jpeg:https://www.dewintonca.com/wp-content/uploads/2020/08/stretching-e1738681881428.jpg
END:VEVENT
BEGIN:VEVENT
DTSTART;TZID=America/Edmonton:20290423T091500
DTEND;TZID=America/Edmonton:20290423T103000
DTSTAMP:20260425T092214
CREATED:20251104T012604Z
LAST-MODIFIED:20251104T012609Z
UID:10003025-1871630100-1871634600@www.dewintonca.com
SUMMARY:Stretching/Yoga
DESCRIPTION:Join us every Monday and Thursday from 9:15 to 10:30 am to limber up your joints and slow down your mind.
URL:https://www.dewintonca.com/event/stretching-yoga-3/2029-04-23/
CATEGORIES:Program
ATTACH;FMTTYPE=image/jpeg:https://www.dewintonca.com/wp-content/uploads/2020/08/stretching-e1738681881428.jpg
END:VEVENT
BEGIN:VEVENT
DTSTART;TZID=America/Edmonton:20290423T183000
DTEND;TZID=America/Edmonton:20290423T213000
DTSTAMP:20260425T092214
CREATED:20250204T144249Z
LAST-MODIFIED:20250210T225120Z
UID:10002756-1871663400-1871674200@www.dewintonca.com
SUMMARY:Canasta
DESCRIPTION:Looking to unwind with a fun card game? Join us for Canasta classes every Monday night from 6:30 – 9:30pm! Whether you’re a beginner or a seasoned player\, you’ll learn new strategies\, sharpen your skills\, and have a great time. Best of all—it’s FREE for community members! Grab your cards and come have some fun with us!
URL:https://www.dewintonca.com/event/canasta/2029-04-23/
LOCATION:DeWinton Community Hall\, 114 Macleod Trail E\, DeWinton\, Alberta\, T0L 0X0\, Canada
CATEGORIES:Program
ATTACH;FMTTYPE=image/jpeg:https://www.dewintonca.com/wp-content/uploads/2025/02/CANASTA-Presentation-43.jpg
END:VEVENT
BEGIN:VEVENT
DTSTART;TZID=America/Edmonton:20290425T093000
DTEND;TZID=America/Edmonton:20290425T143000
DTSTAMP:20260425T092214
CREATED:20250109T220122Z
LAST-MODIFIED:20250125T032639Z
UID:10001339-1871803800-1871821800@www.dewintonca.com
SUMMARY:Quilting
DESCRIPTION:Free for Members. Drop in with your equipment and supplies
URL:https://www.dewintonca.com/event/quilting/2029-04-25/
CATEGORIES:Program
ATTACH;FMTTYPE=image/jpeg:https://www.dewintonca.com/wp-content/uploads/2021/03/Quilting.jpg
END:VEVENT
BEGIN:VEVENT
DTSTART;TZID=America/Edmonton:20290425T130000
DTEND;TZID=America/Edmonton:20290425T150000
DTSTAMP:20260425T092214
CREATED:20250118T233839Z
LAST-MODIFIED:20250125T032551Z
UID:10001672-1871816400-1871823600@www.dewintonca.com
SUMMARY:Bridge
DESCRIPTION:Join us at the hall for a friendly round or two of Bridge. Free to attend for DCA members
URL:https://www.dewintonca.com/event/bridge/2029-04-25/
CATEGORIES:Program
ATTACH;FMTTYPE=image/jpeg:https://www.dewintonca.com/wp-content/uploads/2025/01/Cards-scaled-e1738682093441.jpg
END:VEVENT
BEGIN:VEVENT
DTSTART;TZID=America/Edmonton:20290426T091500
DTEND;TZID=America/Edmonton:20290426T103000
DTSTAMP:20260425T092214
CREATED:20250109T212155Z
LAST-MODIFIED:20250125T032629Z
UID:10000298-1871889300-1871893800@www.dewintonca.com
SUMMARY:Stretching/Yoga
DESCRIPTION:Join us every Monday and Thursday from 9:15 to 10:30 am to limber up your joints and slow down your mind.
URL:https://www.dewintonca.com/event/stretching-yoga/2029-04-26/
CATEGORIES:Program
ATTACH;FMTTYPE=image/jpeg:https://www.dewintonca.com/wp-content/uploads/2020/08/stretching-e1738681881428.jpg
END:VEVENT
BEGIN:VEVENT
DTSTART;TZID=America/Edmonton:20290430T091500
DTEND;TZID=America/Edmonton:20290430T103000
DTSTAMP:20260425T092214
CREATED:20251104T012604Z
LAST-MODIFIED:20251104T012609Z
UID:10003026-1872234900-1872239400@www.dewintonca.com
SUMMARY:Stretching/Yoga
DESCRIPTION:Join us every Monday and Thursday from 9:15 to 10:30 am to limber up your joints and slow down your mind.
URL:https://www.dewintonca.com/event/stretching-yoga-3/2029-04-30/
CATEGORIES:Program
ATTACH;FMTTYPE=image/jpeg:https://www.dewintonca.com/wp-content/uploads/2020/08/stretching-e1738681881428.jpg
END:VEVENT
BEGIN:VEVENT
DTSTART;TZID=America/Edmonton:20290430T183000
DTEND;TZID=America/Edmonton:20290430T213000
DTSTAMP:20260425T092214
CREATED:20250204T144249Z
LAST-MODIFIED:20250210T225120Z
UID:10002757-1872268200-1872279000@www.dewintonca.com
SUMMARY:Canasta
DESCRIPTION:Looking to unwind with a fun card game? Join us for Canasta classes every Monday night from 6:30 – 9:30pm! Whether you’re a beginner or a seasoned player\, you’ll learn new strategies\, sharpen your skills\, and have a great time. Best of all—it’s FREE for community members! Grab your cards and come have some fun with us!
URL:https://www.dewintonca.com/event/canasta/2029-04-30/
LOCATION:DeWinton Community Hall\, 114 Macleod Trail E\, DeWinton\, Alberta\, T0L 0X0\, Canada
CATEGORIES:Program
ATTACH;FMTTYPE=image/jpeg:https://www.dewintonca.com/wp-content/uploads/2025/02/CANASTA-Presentation-43.jpg
END:VEVENT
BEGIN:VEVENT
DTSTART;TZID=America/Edmonton:20290502T093000
DTEND;TZID=America/Edmonton:20290502T143000
DTSTAMP:20260425T092214
CREATED:20250109T220122Z
LAST-MODIFIED:20250125T032639Z
UID:10001340-1872408600-1872426600@www.dewintonca.com
SUMMARY:Quilting
DESCRIPTION:Free for Members. Drop in with your equipment and supplies
URL:https://www.dewintonca.com/event/quilting/2029-05-02/
CATEGORIES:Program
ATTACH;FMTTYPE=image/jpeg:https://www.dewintonca.com/wp-content/uploads/2021/03/Quilting.jpg
END:VEVENT
BEGIN:VEVENT
DTSTART;TZID=America/Edmonton:20290502T130000
DTEND;TZID=America/Edmonton:20290502T150000
DTSTAMP:20260425T092214
CREATED:20250118T233839Z
LAST-MODIFIED:20250125T032551Z
UID:10001673-1872421200-1872428400@www.dewintonca.com
SUMMARY:Bridge
DESCRIPTION:Join us at the hall for a friendly round or two of Bridge. Free to attend for DCA members
URL:https://www.dewintonca.com/event/bridge/2029-05-02/
CATEGORIES:Program
ATTACH;FMTTYPE=image/jpeg:https://www.dewintonca.com/wp-content/uploads/2025/01/Cards-scaled-e1738682093441.jpg
END:VEVENT
BEGIN:VEVENT
DTSTART;TZID=America/Edmonton:20290503T091500
DTEND;TZID=America/Edmonton:20290503T103000
DTSTAMP:20260425T092214
CREATED:20250109T212155Z
LAST-MODIFIED:20250125T032629Z
UID:10000299-1872494100-1872498600@www.dewintonca.com
SUMMARY:Stretching/Yoga
DESCRIPTION:Join us every Monday and Thursday from 9:15 to 10:30 am to limber up your joints and slow down your mind.
URL:https://www.dewintonca.com/event/stretching-yoga/2029-05-03/
CATEGORIES:Program
ATTACH;FMTTYPE=image/jpeg:https://www.dewintonca.com/wp-content/uploads/2020/08/stretching-e1738681881428.jpg
END:VEVENT
BEGIN:VEVENT
DTSTART;TZID=America/Edmonton:20290507T091500
DTEND;TZID=America/Edmonton:20290507T103000
DTSTAMP:20260425T092214
CREATED:20251104T012604Z
LAST-MODIFIED:20251104T012609Z
UID:10003027-1872839700-1872844200@www.dewintonca.com
SUMMARY:Stretching/Yoga
DESCRIPTION:Join us every Monday and Thursday from 9:15 to 10:30 am to limber up your joints and slow down your mind.
URL:https://www.dewintonca.com/event/stretching-yoga-3/2029-05-07/
CATEGORIES:Program
ATTACH;FMTTYPE=image/jpeg:https://www.dewintonca.com/wp-content/uploads/2020/08/stretching-e1738681881428.jpg
END:VEVENT
BEGIN:VEVENT
DTSTART;TZID=America/Edmonton:20290507T183000
DTEND;TZID=America/Edmonton:20290507T213000
DTSTAMP:20260425T092214
CREATED:20250204T144249Z
LAST-MODIFIED:20250210T225120Z
UID:10002758-1872873000-1872883800@www.dewintonca.com
SUMMARY:Canasta
DESCRIPTION:Looking to unwind with a fun card game? Join us for Canasta classes every Monday night from 6:30 – 9:30pm! Whether you’re a beginner or a seasoned player\, you’ll learn new strategies\, sharpen your skills\, and have a great time. Best of all—it’s FREE for community members! Grab your cards and come have some fun with us!
URL:https://www.dewintonca.com/event/canasta/2029-05-07/
LOCATION:DeWinton Community Hall\, 114 Macleod Trail E\, DeWinton\, Alberta\, T0L 0X0\, Canada
CATEGORIES:Program
ATTACH;FMTTYPE=image/jpeg:https://www.dewintonca.com/wp-content/uploads/2025/02/CANASTA-Presentation-43.jpg
END:VEVENT
BEGIN:VEVENT
DTSTART;TZID=America/Edmonton:20290509T093000
DTEND;TZID=America/Edmonton:20290509T143000
DTSTAMP:20260425T092214
CREATED:20250109T220122Z
LAST-MODIFIED:20250125T032639Z
UID:10001341-1873013400-1873031400@www.dewintonca.com
SUMMARY:Quilting
DESCRIPTION:Free for Members. Drop in with your equipment and supplies
URL:https://www.dewintonca.com/event/quilting/2029-05-09/
CATEGORIES:Program
ATTACH;FMTTYPE=image/jpeg:https://www.dewintonca.com/wp-content/uploads/2021/03/Quilting.jpg
END:VEVENT
BEGIN:VEVENT
DTSTART;TZID=America/Edmonton:20290509T130000
DTEND;TZID=America/Edmonton:20290509T150000
DTSTAMP:20260425T092214
CREATED:20250118T233839Z
LAST-MODIFIED:20250125T032551Z
UID:10001674-1873026000-1873033200@www.dewintonca.com
SUMMARY:Bridge
DESCRIPTION:Join us at the hall for a friendly round or two of Bridge. Free to attend for DCA members
URL:https://www.dewintonca.com/event/bridge/2029-05-09/
CATEGORIES:Program
ATTACH;FMTTYPE=image/jpeg:https://www.dewintonca.com/wp-content/uploads/2025/01/Cards-scaled-e1738682093441.jpg
END:VEVENT
BEGIN:VEVENT
DTSTART;TZID=America/Edmonton:20290510T091500
DTEND;TZID=America/Edmonton:20290510T103000
DTSTAMP:20260425T092214
CREATED:20250109T212155Z
LAST-MODIFIED:20250125T032629Z
UID:10000300-1873098900-1873103400@www.dewintonca.com
SUMMARY:Stretching/Yoga
DESCRIPTION:Join us every Monday and Thursday from 9:15 to 10:30 am to limber up your joints and slow down your mind.
URL:https://www.dewintonca.com/event/stretching-yoga/2029-05-10/
CATEGORIES:Program
ATTACH;FMTTYPE=image/jpeg:https://www.dewintonca.com/wp-content/uploads/2020/08/stretching-e1738681881428.jpg
END:VEVENT
BEGIN:VEVENT
DTSTART;TZID=America/Edmonton:20290514T091500
DTEND;TZID=America/Edmonton:20290514T103000
DTSTAMP:20260425T092214
CREATED:20251104T012604Z
LAST-MODIFIED:20251104T012609Z
UID:10003028-1873444500-1873449000@www.dewintonca.com
SUMMARY:Stretching/Yoga
DESCRIPTION:Join us every Monday and Thursday from 9:15 to 10:30 am to limber up your joints and slow down your mind.
URL:https://www.dewintonca.com/event/stretching-yoga-3/2029-05-14/
CATEGORIES:Program
ATTACH;FMTTYPE=image/jpeg:https://www.dewintonca.com/wp-content/uploads/2020/08/stretching-e1738681881428.jpg
END:VEVENT
BEGIN:VEVENT
DTSTART;TZID=America/Edmonton:20290514T183000
DTEND;TZID=America/Edmonton:20290514T213000
DTSTAMP:20260425T092214
CREATED:20250204T144249Z
LAST-MODIFIED:20250210T225120Z
UID:10002759-1873477800-1873488600@www.dewintonca.com
SUMMARY:Canasta
DESCRIPTION:Looking to unwind with a fun card game? Join us for Canasta classes every Monday night from 6:30 – 9:30pm! Whether you’re a beginner or a seasoned player\, you’ll learn new strategies\, sharpen your skills\, and have a great time. Best of all—it’s FREE for community members! Grab your cards and come have some fun with us!
URL:https://www.dewintonca.com/event/canasta/2029-05-14/
LOCATION:DeWinton Community Hall\, 114 Macleod Trail E\, DeWinton\, Alberta\, T0L 0X0\, Canada
CATEGORIES:Program
ATTACH;FMTTYPE=image/jpeg:https://www.dewintonca.com/wp-content/uploads/2025/02/CANASTA-Presentation-43.jpg
END:VEVENT
BEGIN:VEVENT
DTSTART;TZID=America/Edmonton:20290516T093000
DTEND;TZID=America/Edmonton:20290516T143000
DTSTAMP:20260425T092214
CREATED:20250109T220122Z
LAST-MODIFIED:20250125T032639Z
UID:10001342-1873618200-1873636200@www.dewintonca.com
SUMMARY:Quilting
DESCRIPTION:Free for Members. Drop in with your equipment and supplies
URL:https://www.dewintonca.com/event/quilting/2029-05-16/
CATEGORIES:Program
ATTACH;FMTTYPE=image/jpeg:https://www.dewintonca.com/wp-content/uploads/2021/03/Quilting.jpg
END:VEVENT
BEGIN:VEVENT
DTSTART;TZID=America/Edmonton:20290516T130000
DTEND;TZID=America/Edmonton:20290516T150000
DTSTAMP:20260425T092214
CREATED:20250118T233839Z
LAST-MODIFIED:20250125T032551Z
UID:10001675-1873630800-1873638000@www.dewintonca.com
SUMMARY:Bridge
DESCRIPTION:Join us at the hall for a friendly round or two of Bridge. Free to attend for DCA members
URL:https://www.dewintonca.com/event/bridge/2029-05-16/
CATEGORIES:Program
ATTACH;FMTTYPE=image/jpeg:https://www.dewintonca.com/wp-content/uploads/2025/01/Cards-scaled-e1738682093441.jpg
END:VEVENT
BEGIN:VEVENT
DTSTART;TZID=America/Edmonton:20290517T091500
DTEND;TZID=America/Edmonton:20290517T103000
DTSTAMP:20260425T092214
CREATED:20250109T212155Z
LAST-MODIFIED:20250125T032629Z
UID:10000301-1873703700-1873708200@www.dewintonca.com
SUMMARY:Stretching/Yoga
DESCRIPTION:Join us every Monday and Thursday from 9:15 to 10:30 am to limber up your joints and slow down your mind.
URL:https://www.dewintonca.com/event/stretching-yoga/2029-05-17/
CATEGORIES:Program
ATTACH;FMTTYPE=image/jpeg:https://www.dewintonca.com/wp-content/uploads/2020/08/stretching-e1738681881428.jpg
END:VEVENT
BEGIN:VEVENT
DTSTART;TZID=America/Edmonton:20290521T091500
DTEND;TZID=America/Edmonton:20290521T103000
DTSTAMP:20260425T092214
CREATED:20251104T012604Z
LAST-MODIFIED:20251104T012609Z
UID:10003029-1874049300-1874053800@www.dewintonca.com
SUMMARY:Stretching/Yoga
DESCRIPTION:Join us every Monday and Thursday from 9:15 to 10:30 am to limber up your joints and slow down your mind.
URL:https://www.dewintonca.com/event/stretching-yoga-3/2029-05-21/
CATEGORIES:Program
ATTACH;FMTTYPE=image/jpeg:https://www.dewintonca.com/wp-content/uploads/2020/08/stretching-e1738681881428.jpg
END:VEVENT
END:VCALENDAR