BEGIN:VCALENDAR
VERSION:2.0
PRODID:-//The DeWinton Community Hall - ECPv6.15.20//NONSGML v1.0//EN
CALSCALE:GREGORIAN
METHOD:PUBLISH
X-WR-CALNAME:The DeWinton Community Hall
X-ORIGINAL-URL:https://www.dewintonca.com
X-WR-CALDESC:Events for The DeWinton Community Hall
REFRESH-INTERVAL;VALUE=DURATION:PT1H
X-Robots-Tag:noindex
X-PUBLISHED-TTL:PT1H
BEGIN:VTIMEZONE
TZID:America/Edmonton
BEGIN:DAYLIGHT
TZOFFSETFROM:-0700
TZOFFSETTO:-0600
TZNAME:MDT
DTSTART:20280312T090000
END:DAYLIGHT
BEGIN:STANDARD
TZOFFSETFROM:-0600
TZOFFSETTO:-0700
TZNAME:MST
DTSTART:20281105T080000
END:STANDARD
BEGIN:DAYLIGHT
TZOFFSETFROM:-0700
TZOFFSETTO:-0600
TZNAME:MDT
DTSTART:20290311T090000
END:DAYLIGHT
BEGIN:STANDARD
TZOFFSETFROM:-0600
TZOFFSETTO:-0700
TZNAME:MST
DTSTART:20291104T080000
END:STANDARD
BEGIN:DAYLIGHT
TZOFFSETFROM:-0700
TZOFFSETTO:-0600
TZNAME:MDT
DTSTART:20300310T090000
END:DAYLIGHT
BEGIN:STANDARD
TZOFFSETFROM:-0600
TZOFFSETTO:-0700
TZNAME:MST
DTSTART:20301103T080000
END:STANDARD
END:VTIMEZONE
BEGIN:VEVENT
DTSTART;TZID=America/Edmonton:20290709T183000
DTEND;TZID=America/Edmonton:20290709T213000
DTSTAMP:20260425T134509
CREATED:20250204T144249Z
LAST-MODIFIED:20250210T225120Z
UID:10002767-1878316200-1878327000@www.dewintonca.com
SUMMARY:Canasta
DESCRIPTION:Looking to unwind with a fun card game? Join us for Canasta classes every Monday night from 6:30 – 9:30pm! Whether you’re a beginner or a seasoned player\, you’ll learn new strategies\, sharpen your skills\, and have a great time. Best of all—it’s FREE for community members! Grab your cards and come have some fun with us!
URL:https://www.dewintonca.com/event/canasta/2029-07-09/
LOCATION:DeWinton Community Hall\, 114 Macleod Trail E\, DeWinton\, Alberta\, T0L 0X0\, Canada
CATEGORIES:Program
ATTACH;FMTTYPE=image/jpeg:https://www.dewintonca.com/wp-content/uploads/2025/02/CANASTA-Presentation-43.jpg
END:VEVENT
BEGIN:VEVENT
DTSTART;TZID=America/Edmonton:20290711T093000
DTEND;TZID=America/Edmonton:20290711T143000
DTSTAMP:20260425T134509
CREATED:20250109T220122Z
LAST-MODIFIED:20250125T032639Z
UID:10001350-1878456600-1878474600@www.dewintonca.com
SUMMARY:Quilting
DESCRIPTION:Free for Members. Drop in with your equipment and supplies
URL:https://www.dewintonca.com/event/quilting/2029-07-11/
CATEGORIES:Program
ATTACH;FMTTYPE=image/jpeg:https://www.dewintonca.com/wp-content/uploads/2021/03/Quilting.jpg
END:VEVENT
BEGIN:VEVENT
DTSTART;TZID=America/Edmonton:20290711T130000
DTEND;TZID=America/Edmonton:20290711T150000
DTSTAMP:20260425T134509
CREATED:20250118T233839Z
LAST-MODIFIED:20250125T032551Z
UID:10001683-1878469200-1878476400@www.dewintonca.com
SUMMARY:Bridge
DESCRIPTION:Join us at the hall for a friendly round or two of Bridge. Free to attend for DCA members
URL:https://www.dewintonca.com/event/bridge/2029-07-11/
CATEGORIES:Program
ATTACH;FMTTYPE=image/jpeg:https://www.dewintonca.com/wp-content/uploads/2025/01/Cards-scaled-e1738682093441.jpg
END:VEVENT
BEGIN:VEVENT
DTSTART;TZID=America/Edmonton:20290712T091500
DTEND;TZID=America/Edmonton:20290712T103000
DTSTAMP:20260425T134509
CREATED:20250109T212155Z
LAST-MODIFIED:20250125T032629Z
UID:10000309-1878542100-1878546600@www.dewintonca.com
SUMMARY:Stretching/Yoga
DESCRIPTION:Join us every Monday and Thursday from 9:15 to 10:30 am to limber up your joints and slow down your mind.
URL:https://www.dewintonca.com/event/stretching-yoga/2029-07-12/
CATEGORIES:Program
ATTACH;FMTTYPE=image/jpeg:https://www.dewintonca.com/wp-content/uploads/2020/08/stretching-e1738681881428.jpg
END:VEVENT
BEGIN:VEVENT
DTSTART;TZID=America/Edmonton:20290716T091500
DTEND;TZID=America/Edmonton:20290716T103000
DTSTAMP:20260425T134509
CREATED:20251104T012604Z
LAST-MODIFIED:20251104T012609Z
UID:10003037-1878887700-1878892200@www.dewintonca.com
SUMMARY:Stretching/Yoga
DESCRIPTION:Join us every Monday and Thursday from 9:15 to 10:30 am to limber up your joints and slow down your mind.
URL:https://www.dewintonca.com/event/stretching-yoga-3/2029-07-16/
CATEGORIES:Program
ATTACH;FMTTYPE=image/jpeg:https://www.dewintonca.com/wp-content/uploads/2020/08/stretching-e1738681881428.jpg
END:VEVENT
BEGIN:VEVENT
DTSTART;TZID=America/Edmonton:20290716T183000
DTEND;TZID=America/Edmonton:20290716T213000
DTSTAMP:20260425T134509
CREATED:20250204T144249Z
LAST-MODIFIED:20250210T225120Z
UID:10002768-1878921000-1878931800@www.dewintonca.com
SUMMARY:Canasta
DESCRIPTION:Looking to unwind with a fun card game? Join us for Canasta classes every Monday night from 6:30 – 9:30pm! Whether you’re a beginner or a seasoned player\, you’ll learn new strategies\, sharpen your skills\, and have a great time. Best of all—it’s FREE for community members! Grab your cards and come have some fun with us!
URL:https://www.dewintonca.com/event/canasta/2029-07-16/
LOCATION:DeWinton Community Hall\, 114 Macleod Trail E\, DeWinton\, Alberta\, T0L 0X0\, Canada
CATEGORIES:Program
ATTACH;FMTTYPE=image/jpeg:https://www.dewintonca.com/wp-content/uploads/2025/02/CANASTA-Presentation-43.jpg
END:VEVENT
BEGIN:VEVENT
DTSTART;TZID=America/Edmonton:20290718T093000
DTEND;TZID=America/Edmonton:20290718T143000
DTSTAMP:20260425T134509
CREATED:20250109T220122Z
LAST-MODIFIED:20250125T032639Z
UID:10001351-1879061400-1879079400@www.dewintonca.com
SUMMARY:Quilting
DESCRIPTION:Free for Members. Drop in with your equipment and supplies
URL:https://www.dewintonca.com/event/quilting/2029-07-18/
CATEGORIES:Program
ATTACH;FMTTYPE=image/jpeg:https://www.dewintonca.com/wp-content/uploads/2021/03/Quilting.jpg
END:VEVENT
BEGIN:VEVENT
DTSTART;TZID=America/Edmonton:20290718T130000
DTEND;TZID=America/Edmonton:20290718T150000
DTSTAMP:20260425T134509
CREATED:20250118T233839Z
LAST-MODIFIED:20250125T032551Z
UID:10001684-1879074000-1879081200@www.dewintonca.com
SUMMARY:Bridge
DESCRIPTION:Join us at the hall for a friendly round or two of Bridge. Free to attend for DCA members
URL:https://www.dewintonca.com/event/bridge/2029-07-18/
CATEGORIES:Program
ATTACH;FMTTYPE=image/jpeg:https://www.dewintonca.com/wp-content/uploads/2025/01/Cards-scaled-e1738682093441.jpg
END:VEVENT
BEGIN:VEVENT
DTSTART;TZID=America/Edmonton:20290719T091500
DTEND;TZID=America/Edmonton:20290719T103000
DTSTAMP:20260425T134509
CREATED:20250109T212155Z
LAST-MODIFIED:20250125T032629Z
UID:10000310-1879146900-1879151400@www.dewintonca.com
SUMMARY:Stretching/Yoga
DESCRIPTION:Join us every Monday and Thursday from 9:15 to 10:30 am to limber up your joints and slow down your mind.
URL:https://www.dewintonca.com/event/stretching-yoga/2029-07-19/
CATEGORIES:Program
ATTACH;FMTTYPE=image/jpeg:https://www.dewintonca.com/wp-content/uploads/2020/08/stretching-e1738681881428.jpg
END:VEVENT
BEGIN:VEVENT
DTSTART;TZID=America/Edmonton:20290723T091500
DTEND;TZID=America/Edmonton:20290723T103000
DTSTAMP:20260425T134509
CREATED:20251104T012604Z
LAST-MODIFIED:20251104T012609Z
UID:10003038-1879492500-1879497000@www.dewintonca.com
SUMMARY:Stretching/Yoga
DESCRIPTION:Join us every Monday and Thursday from 9:15 to 10:30 am to limber up your joints and slow down your mind.
URL:https://www.dewintonca.com/event/stretching-yoga-3/2029-07-23/
CATEGORIES:Program
ATTACH;FMTTYPE=image/jpeg:https://www.dewintonca.com/wp-content/uploads/2020/08/stretching-e1738681881428.jpg
END:VEVENT
BEGIN:VEVENT
DTSTART;TZID=America/Edmonton:20290723T183000
DTEND;TZID=America/Edmonton:20290723T213000
DTSTAMP:20260425T134509
CREATED:20250204T144249Z
LAST-MODIFIED:20250210T225120Z
UID:10002769-1879525800-1879536600@www.dewintonca.com
SUMMARY:Canasta
DESCRIPTION:Looking to unwind with a fun card game? Join us for Canasta classes every Monday night from 6:30 – 9:30pm! Whether you’re a beginner or a seasoned player\, you’ll learn new strategies\, sharpen your skills\, and have a great time. Best of all—it’s FREE for community members! Grab your cards and come have some fun with us!
URL:https://www.dewintonca.com/event/canasta/2029-07-23/
LOCATION:DeWinton Community Hall\, 114 Macleod Trail E\, DeWinton\, Alberta\, T0L 0X0\, Canada
CATEGORIES:Program
ATTACH;FMTTYPE=image/jpeg:https://www.dewintonca.com/wp-content/uploads/2025/02/CANASTA-Presentation-43.jpg
END:VEVENT
BEGIN:VEVENT
DTSTART;TZID=America/Edmonton:20290725T093000
DTEND;TZID=America/Edmonton:20290725T143000
DTSTAMP:20260425T134509
CREATED:20250109T220122Z
LAST-MODIFIED:20250125T032639Z
UID:10001352-1879666200-1879684200@www.dewintonca.com
SUMMARY:Quilting
DESCRIPTION:Free for Members. Drop in with your equipment and supplies
URL:https://www.dewintonca.com/event/quilting/2029-07-25/
CATEGORIES:Program
ATTACH;FMTTYPE=image/jpeg:https://www.dewintonca.com/wp-content/uploads/2021/03/Quilting.jpg
END:VEVENT
BEGIN:VEVENT
DTSTART;TZID=America/Edmonton:20290725T130000
DTEND;TZID=America/Edmonton:20290725T150000
DTSTAMP:20260425T134509
CREATED:20250118T233839Z
LAST-MODIFIED:20250125T032551Z
UID:10001685-1879678800-1879686000@www.dewintonca.com
SUMMARY:Bridge
DESCRIPTION:Join us at the hall for a friendly round or two of Bridge. Free to attend for DCA members
URL:https://www.dewintonca.com/event/bridge/2029-07-25/
CATEGORIES:Program
ATTACH;FMTTYPE=image/jpeg:https://www.dewintonca.com/wp-content/uploads/2025/01/Cards-scaled-e1738682093441.jpg
END:VEVENT
BEGIN:VEVENT
DTSTART;TZID=America/Edmonton:20290726T091500
DTEND;TZID=America/Edmonton:20290726T103000
DTSTAMP:20260425T134509
CREATED:20250109T212155Z
LAST-MODIFIED:20250125T032629Z
UID:10000311-1879751700-1879756200@www.dewintonca.com
SUMMARY:Stretching/Yoga
DESCRIPTION:Join us every Monday and Thursday from 9:15 to 10:30 am to limber up your joints and slow down your mind.
URL:https://www.dewintonca.com/event/stretching-yoga/2029-07-26/
CATEGORIES:Program
ATTACH;FMTTYPE=image/jpeg:https://www.dewintonca.com/wp-content/uploads/2020/08/stretching-e1738681881428.jpg
END:VEVENT
BEGIN:VEVENT
DTSTART;TZID=America/Edmonton:20290730T091500
DTEND;TZID=America/Edmonton:20290730T103000
DTSTAMP:20260425T134509
CREATED:20251104T012604Z
LAST-MODIFIED:20251104T012609Z
UID:10003039-1880097300-1880101800@www.dewintonca.com
SUMMARY:Stretching/Yoga
DESCRIPTION:Join us every Monday and Thursday from 9:15 to 10:30 am to limber up your joints and slow down your mind.
URL:https://www.dewintonca.com/event/stretching-yoga-3/2029-07-30/
CATEGORIES:Program
ATTACH;FMTTYPE=image/jpeg:https://www.dewintonca.com/wp-content/uploads/2020/08/stretching-e1738681881428.jpg
END:VEVENT
BEGIN:VEVENT
DTSTART;TZID=America/Edmonton:20290730T183000
DTEND;TZID=America/Edmonton:20290730T213000
DTSTAMP:20260425T134509
CREATED:20250204T144249Z
LAST-MODIFIED:20250210T225120Z
UID:10002770-1880130600-1880141400@www.dewintonca.com
SUMMARY:Canasta
DESCRIPTION:Looking to unwind with a fun card game? Join us for Canasta classes every Monday night from 6:30 – 9:30pm! Whether you’re a beginner or a seasoned player\, you’ll learn new strategies\, sharpen your skills\, and have a great time. Best of all—it’s FREE for community members! Grab your cards and come have some fun with us!
URL:https://www.dewintonca.com/event/canasta/2029-07-30/
LOCATION:DeWinton Community Hall\, 114 Macleod Trail E\, DeWinton\, Alberta\, T0L 0X0\, Canada
CATEGORIES:Program
ATTACH;FMTTYPE=image/jpeg:https://www.dewintonca.com/wp-content/uploads/2025/02/CANASTA-Presentation-43.jpg
END:VEVENT
BEGIN:VEVENT
DTSTART;TZID=America/Edmonton:20290801T093000
DTEND;TZID=America/Edmonton:20290801T143000
DTSTAMP:20260425T134509
CREATED:20250109T220122Z
LAST-MODIFIED:20250125T032639Z
UID:10001353-1880271000-1880289000@www.dewintonca.com
SUMMARY:Quilting
DESCRIPTION:Free for Members. Drop in with your equipment and supplies
URL:https://www.dewintonca.com/event/quilting/2029-08-01/
CATEGORIES:Program
ATTACH;FMTTYPE=image/jpeg:https://www.dewintonca.com/wp-content/uploads/2021/03/Quilting.jpg
END:VEVENT
BEGIN:VEVENT
DTSTART;TZID=America/Edmonton:20290801T130000
DTEND;TZID=America/Edmonton:20290801T150000
DTSTAMP:20260425T134509
CREATED:20250118T233839Z
LAST-MODIFIED:20250125T032551Z
UID:10001686-1880283600-1880290800@www.dewintonca.com
SUMMARY:Bridge
DESCRIPTION:Join us at the hall for a friendly round or two of Bridge. Free to attend for DCA members
URL:https://www.dewintonca.com/event/bridge/2029-08-01/
CATEGORIES:Program
ATTACH;FMTTYPE=image/jpeg:https://www.dewintonca.com/wp-content/uploads/2025/01/Cards-scaled-e1738682093441.jpg
END:VEVENT
BEGIN:VEVENT
DTSTART;TZID=America/Edmonton:20290802T091500
DTEND;TZID=America/Edmonton:20290802T103000
DTSTAMP:20260425T134509
CREATED:20250109T212155Z
LAST-MODIFIED:20250125T032629Z
UID:10000312-1880356500-1880361000@www.dewintonca.com
SUMMARY:Stretching/Yoga
DESCRIPTION:Join us every Monday and Thursday from 9:15 to 10:30 am to limber up your joints and slow down your mind.
URL:https://www.dewintonca.com/event/stretching-yoga/2029-08-02/
CATEGORIES:Program
ATTACH;FMTTYPE=image/jpeg:https://www.dewintonca.com/wp-content/uploads/2020/08/stretching-e1738681881428.jpg
END:VEVENT
BEGIN:VEVENT
DTSTART;TZID=America/Edmonton:20290806T091500
DTEND;TZID=America/Edmonton:20290806T103000
DTSTAMP:20260425T134509
CREATED:20251104T012604Z
LAST-MODIFIED:20251104T012609Z
UID:10003040-1880702100-1880706600@www.dewintonca.com
SUMMARY:Stretching/Yoga
DESCRIPTION:Join us every Monday and Thursday from 9:15 to 10:30 am to limber up your joints and slow down your mind.
URL:https://www.dewintonca.com/event/stretching-yoga-3/2029-08-06/
CATEGORIES:Program
ATTACH;FMTTYPE=image/jpeg:https://www.dewintonca.com/wp-content/uploads/2020/08/stretching-e1738681881428.jpg
END:VEVENT
BEGIN:VEVENT
DTSTART;TZID=America/Edmonton:20290806T183000
DTEND;TZID=America/Edmonton:20290806T213000
DTSTAMP:20260425T134509
CREATED:20250204T144249Z
LAST-MODIFIED:20250210T225120Z
UID:10002771-1880735400-1880746200@www.dewintonca.com
SUMMARY:Canasta
DESCRIPTION:Looking to unwind with a fun card game? Join us for Canasta classes every Monday night from 6:30 – 9:30pm! Whether you’re a beginner or a seasoned player\, you’ll learn new strategies\, sharpen your skills\, and have a great time. Best of all—it’s FREE for community members! Grab your cards and come have some fun with us!
URL:https://www.dewintonca.com/event/canasta/2029-08-06/
LOCATION:DeWinton Community Hall\, 114 Macleod Trail E\, DeWinton\, Alberta\, T0L 0X0\, Canada
CATEGORIES:Program
ATTACH;FMTTYPE=image/jpeg:https://www.dewintonca.com/wp-content/uploads/2025/02/CANASTA-Presentation-43.jpg
END:VEVENT
BEGIN:VEVENT
DTSTART;TZID=America/Edmonton:20290808T093000
DTEND;TZID=America/Edmonton:20290808T143000
DTSTAMP:20260425T134509
CREATED:20250109T220122Z
LAST-MODIFIED:20250125T032639Z
UID:10001354-1880875800-1880893800@www.dewintonca.com
SUMMARY:Quilting
DESCRIPTION:Free for Members. Drop in with your equipment and supplies
URL:https://www.dewintonca.com/event/quilting/2029-08-08/
CATEGORIES:Program
ATTACH;FMTTYPE=image/jpeg:https://www.dewintonca.com/wp-content/uploads/2021/03/Quilting.jpg
END:VEVENT
BEGIN:VEVENT
DTSTART;TZID=America/Edmonton:20290808T130000
DTEND;TZID=America/Edmonton:20290808T150000
DTSTAMP:20260425T134509
CREATED:20250118T233839Z
LAST-MODIFIED:20250125T032551Z
UID:10001687-1880888400-1880895600@www.dewintonca.com
SUMMARY:Bridge
DESCRIPTION:Join us at the hall for a friendly round or two of Bridge. Free to attend for DCA members
URL:https://www.dewintonca.com/event/bridge/2029-08-08/
CATEGORIES:Program
ATTACH;FMTTYPE=image/jpeg:https://www.dewintonca.com/wp-content/uploads/2025/01/Cards-scaled-e1738682093441.jpg
END:VEVENT
BEGIN:VEVENT
DTSTART;TZID=America/Edmonton:20290809T091500
DTEND;TZID=America/Edmonton:20290809T103000
DTSTAMP:20260425T134509
CREATED:20250109T212155Z
LAST-MODIFIED:20250125T032629Z
UID:10000313-1880961300-1880965800@www.dewintonca.com
SUMMARY:Stretching/Yoga
DESCRIPTION:Join us every Monday and Thursday from 9:15 to 10:30 am to limber up your joints and slow down your mind.
URL:https://www.dewintonca.com/event/stretching-yoga/2029-08-09/
CATEGORIES:Program
ATTACH;FMTTYPE=image/jpeg:https://www.dewintonca.com/wp-content/uploads/2020/08/stretching-e1738681881428.jpg
END:VEVENT
BEGIN:VEVENT
DTSTART;TZID=America/Edmonton:20290813T091500
DTEND;TZID=America/Edmonton:20290813T103000
DTSTAMP:20260425T134509
CREATED:20251104T012604Z
LAST-MODIFIED:20251104T012609Z
UID:10003041-1881306900-1881311400@www.dewintonca.com
SUMMARY:Stretching/Yoga
DESCRIPTION:Join us every Monday and Thursday from 9:15 to 10:30 am to limber up your joints and slow down your mind.
URL:https://www.dewintonca.com/event/stretching-yoga-3/2029-08-13/
CATEGORIES:Program
ATTACH;FMTTYPE=image/jpeg:https://www.dewintonca.com/wp-content/uploads/2020/08/stretching-e1738681881428.jpg
END:VEVENT
BEGIN:VEVENT
DTSTART;TZID=America/Edmonton:20290813T183000
DTEND;TZID=America/Edmonton:20290813T213000
DTSTAMP:20260425T134509
CREATED:20250204T144249Z
LAST-MODIFIED:20250210T225120Z
UID:10002772-1881340200-1881351000@www.dewintonca.com
SUMMARY:Canasta
DESCRIPTION:Looking to unwind with a fun card game? Join us for Canasta classes every Monday night from 6:30 – 9:30pm! Whether you’re a beginner or a seasoned player\, you’ll learn new strategies\, sharpen your skills\, and have a great time. Best of all—it’s FREE for community members! Grab your cards and come have some fun with us!
URL:https://www.dewintonca.com/event/canasta/2029-08-13/
LOCATION:DeWinton Community Hall\, 114 Macleod Trail E\, DeWinton\, Alberta\, T0L 0X0\, Canada
CATEGORIES:Program
ATTACH;FMTTYPE=image/jpeg:https://www.dewintonca.com/wp-content/uploads/2025/02/CANASTA-Presentation-43.jpg
END:VEVENT
BEGIN:VEVENT
DTSTART;TZID=America/Edmonton:20290815T093000
DTEND;TZID=America/Edmonton:20290815T143000
DTSTAMP:20260425T134509
CREATED:20250109T220122Z
LAST-MODIFIED:20250125T032639Z
UID:10001355-1881480600-1881498600@www.dewintonca.com
SUMMARY:Quilting
DESCRIPTION:Free for Members. Drop in with your equipment and supplies
URL:https://www.dewintonca.com/event/quilting/2029-08-15/
CATEGORIES:Program
ATTACH;FMTTYPE=image/jpeg:https://www.dewintonca.com/wp-content/uploads/2021/03/Quilting.jpg
END:VEVENT
BEGIN:VEVENT
DTSTART;TZID=America/Edmonton:20290815T130000
DTEND;TZID=America/Edmonton:20290815T150000
DTSTAMP:20260425T134509
CREATED:20250118T233839Z
LAST-MODIFIED:20250125T032551Z
UID:10001688-1881493200-1881500400@www.dewintonca.com
SUMMARY:Bridge
DESCRIPTION:Join us at the hall for a friendly round or two of Bridge. Free to attend for DCA members
URL:https://www.dewintonca.com/event/bridge/2029-08-15/
CATEGORIES:Program
ATTACH;FMTTYPE=image/jpeg:https://www.dewintonca.com/wp-content/uploads/2025/01/Cards-scaled-e1738682093441.jpg
END:VEVENT
BEGIN:VEVENT
DTSTART;TZID=America/Edmonton:20290816T091500
DTEND;TZID=America/Edmonton:20290816T103000
DTSTAMP:20260425T134509
CREATED:20250109T212155Z
LAST-MODIFIED:20250125T032629Z
UID:10000314-1881566100-1881570600@www.dewintonca.com
SUMMARY:Stretching/Yoga
DESCRIPTION:Join us every Monday and Thursday from 9:15 to 10:30 am to limber up your joints and slow down your mind.
URL:https://www.dewintonca.com/event/stretching-yoga/2029-08-16/
CATEGORIES:Program
ATTACH;FMTTYPE=image/jpeg:https://www.dewintonca.com/wp-content/uploads/2020/08/stretching-e1738681881428.jpg
END:VEVENT
BEGIN:VEVENT
DTSTART;TZID=America/Edmonton:20290820T091500
DTEND;TZID=America/Edmonton:20290820T103000
DTSTAMP:20260425T134509
CREATED:20251104T012604Z
LAST-MODIFIED:20251104T012609Z
UID:10003042-1881911700-1881916200@www.dewintonca.com
SUMMARY:Stretching/Yoga
DESCRIPTION:Join us every Monday and Thursday from 9:15 to 10:30 am to limber up your joints and slow down your mind.
URL:https://www.dewintonca.com/event/stretching-yoga-3/2029-08-20/
CATEGORIES:Program
ATTACH;FMTTYPE=image/jpeg:https://www.dewintonca.com/wp-content/uploads/2020/08/stretching-e1738681881428.jpg
END:VEVENT
END:VCALENDAR