BEGIN:VCALENDAR
VERSION:2.0
PRODID:-//The DeWinton Community Hall - ECPv6.15.20//NONSGML v1.0//EN
CALSCALE:GREGORIAN
METHOD:PUBLISH
X-ORIGINAL-URL:https://www.dewintonca.com
X-WR-CALDESC:Events for The DeWinton Community Hall
REFRESH-INTERVAL;VALUE=DURATION:PT1H
X-Robots-Tag:noindex
X-PUBLISHED-TTL:PT1H
BEGIN:VTIMEZONE
TZID:America/Edmonton
BEGIN:DAYLIGHT
TZOFFSETFROM:-0700
TZOFFSETTO:-0600
TZNAME:MDT
DTSTART:20270314T090000
END:DAYLIGHT
BEGIN:STANDARD
TZOFFSETFROM:-0600
TZOFFSETTO:-0700
TZNAME:MST
DTSTART:20271107T080000
END:STANDARD
BEGIN:DAYLIGHT
TZOFFSETFROM:-0700
TZOFFSETTO:-0600
TZNAME:MDT
DTSTART:20280312T090000
END:DAYLIGHT
BEGIN:STANDARD
TZOFFSETFROM:-0600
TZOFFSETTO:-0700
TZNAME:MST
DTSTART:20281105T080000
END:STANDARD
BEGIN:DAYLIGHT
TZOFFSETFROM:-0700
TZOFFSETTO:-0600
TZNAME:MDT
DTSTART:20290311T090000
END:DAYLIGHT
BEGIN:STANDARD
TZOFFSETFROM:-0600
TZOFFSETTO:-0700
TZNAME:MST
DTSTART:20291104T080000
END:STANDARD
BEGIN:DAYLIGHT
TZOFFSETFROM:-0700
TZOFFSETTO:-0600
TZNAME:MDT
DTSTART:20300310T090000
END:DAYLIGHT
BEGIN:STANDARD
TZOFFSETFROM:-0600
TZOFFSETTO:-0700
TZNAME:MST
DTSTART:20301103T080000
END:STANDARD
END:VTIMEZONE
BEGIN:VEVENT
DTSTART;TZID=America/Edmonton:20281120T183000
DTEND;TZID=America/Edmonton:20281120T213000
DTSTAMP:20260425T074850
CREATED:20250204T144249Z
LAST-MODIFIED:20250210T225120Z
UID:10002734-1858357800-1858368600@www.dewintonca.com
SUMMARY:Canasta
DESCRIPTION:Looking to unwind with a fun card game? Join us for Canasta classes every Monday night from 6:30 – 9:30pm! Whether you’re a beginner or a seasoned player\, you’ll learn new strategies\, sharpen your skills\, and have a great time. Best of all—it’s FREE for community members! Grab your cards and come have some fun with us!
URL:https://www.dewintonca.com/event/canasta/2028-11-20/
LOCATION:DeWinton Community Hall\, 114 Macleod Trail E\, DeWinton\, Alberta\, T0L 0X0\, Canada
CATEGORIES:Program
ATTACH;FMTTYPE=image/jpeg:https://www.dewintonca.com/wp-content/uploads/2025/02/CANASTA-Presentation-43.jpg
END:VEVENT
BEGIN:VEVENT
DTSTART;TZID=America/Edmonton:20281122T093000
DTEND;TZID=America/Edmonton:20281122T143000
DTSTAMP:20260425T074850
CREATED:20250109T220122Z
LAST-MODIFIED:20250125T032639Z
UID:10001317-1858498200-1858516200@www.dewintonca.com
SUMMARY:Quilting
DESCRIPTION:Free for Members. Drop in with your equipment and supplies
URL:https://www.dewintonca.com/event/quilting/2028-11-22/
CATEGORIES:Program
ATTACH;FMTTYPE=image/jpeg:https://www.dewintonca.com/wp-content/uploads/2021/03/Quilting.jpg
END:VEVENT
BEGIN:VEVENT
DTSTART;TZID=America/Edmonton:20281122T130000
DTEND;TZID=America/Edmonton:20281122T150000
DTSTAMP:20260425T074850
CREATED:20250118T233839Z
LAST-MODIFIED:20250125T032551Z
UID:10001650-1858510800-1858518000@www.dewintonca.com
SUMMARY:Bridge
DESCRIPTION:Join us at the hall for a friendly round or two of Bridge. Free to attend for DCA members
URL:https://www.dewintonca.com/event/bridge/2028-11-22/
CATEGORIES:Program
ATTACH;FMTTYPE=image/jpeg:https://www.dewintonca.com/wp-content/uploads/2025/01/Cards-scaled-e1738682093441.jpg
END:VEVENT
BEGIN:VEVENT
DTSTART;TZID=America/Edmonton:20281123T091500
DTEND;TZID=America/Edmonton:20281123T103000
DTSTAMP:20260425T074850
CREATED:20250109T212155Z
LAST-MODIFIED:20250125T032629Z
UID:10000276-1858583700-1858588200@www.dewintonca.com
SUMMARY:Stretching/Yoga
DESCRIPTION:Join us every Monday and Thursday from 9:15 to 10:30 am to limber up your joints and slow down your mind.
URL:https://www.dewintonca.com/event/stretching-yoga/2028-11-23/
CATEGORIES:Program
ATTACH;FMTTYPE=image/jpeg:https://www.dewintonca.com/wp-content/uploads/2020/08/stretching-e1738681881428.jpg
END:VEVENT
BEGIN:VEVENT
DTSTART;TZID=America/Edmonton:20281127T091500
DTEND;TZID=America/Edmonton:20281127T103000
DTSTAMP:20260425T074850
CREATED:20251104T012604Z
LAST-MODIFIED:20251104T012609Z
UID:10003004-1858929300-1858933800@www.dewintonca.com
SUMMARY:Stretching/Yoga
DESCRIPTION:Join us every Monday and Thursday from 9:15 to 10:30 am to limber up your joints and slow down your mind.
URL:https://www.dewintonca.com/event/stretching-yoga-3/2028-11-27/
CATEGORIES:Program
ATTACH;FMTTYPE=image/jpeg:https://www.dewintonca.com/wp-content/uploads/2020/08/stretching-e1738681881428.jpg
END:VEVENT
BEGIN:VEVENT
DTSTART;TZID=America/Edmonton:20281127T183000
DTEND;TZID=America/Edmonton:20281127T213000
DTSTAMP:20260425T074850
CREATED:20250204T144249Z
LAST-MODIFIED:20250210T225120Z
UID:10002735-1858962600-1858973400@www.dewintonca.com
SUMMARY:Canasta
DESCRIPTION:Looking to unwind with a fun card game? Join us for Canasta classes every Monday night from 6:30 – 9:30pm! Whether you’re a beginner or a seasoned player\, you’ll learn new strategies\, sharpen your skills\, and have a great time. Best of all—it’s FREE for community members! Grab your cards and come have some fun with us!
URL:https://www.dewintonca.com/event/canasta/2028-11-27/
LOCATION:DeWinton Community Hall\, 114 Macleod Trail E\, DeWinton\, Alberta\, T0L 0X0\, Canada
CATEGORIES:Program
ATTACH;FMTTYPE=image/jpeg:https://www.dewintonca.com/wp-content/uploads/2025/02/CANASTA-Presentation-43.jpg
END:VEVENT
BEGIN:VEVENT
DTSTART;TZID=America/Edmonton:20281129T093000
DTEND;TZID=America/Edmonton:20281129T143000
DTSTAMP:20260425T074850
CREATED:20250109T220122Z
LAST-MODIFIED:20250125T032639Z
UID:10001318-1859103000-1859121000@www.dewintonca.com
SUMMARY:Quilting
DESCRIPTION:Free for Members. Drop in with your equipment and supplies
URL:https://www.dewintonca.com/event/quilting/2028-11-29/
CATEGORIES:Program
ATTACH;FMTTYPE=image/jpeg:https://www.dewintonca.com/wp-content/uploads/2021/03/Quilting.jpg
END:VEVENT
BEGIN:VEVENT
DTSTART;TZID=America/Edmonton:20281129T130000
DTEND;TZID=America/Edmonton:20281129T150000
DTSTAMP:20260425T074850
CREATED:20250118T233839Z
LAST-MODIFIED:20250125T032551Z
UID:10001651-1859115600-1859122800@www.dewintonca.com
SUMMARY:Bridge
DESCRIPTION:Join us at the hall for a friendly round or two of Bridge. Free to attend for DCA members
URL:https://www.dewintonca.com/event/bridge/2028-11-29/
CATEGORIES:Program
ATTACH;FMTTYPE=image/jpeg:https://www.dewintonca.com/wp-content/uploads/2025/01/Cards-scaled-e1738682093441.jpg
END:VEVENT
BEGIN:VEVENT
DTSTART;TZID=America/Edmonton:20281130T091500
DTEND;TZID=America/Edmonton:20281130T103000
DTSTAMP:20260425T074850
CREATED:20250109T212155Z
LAST-MODIFIED:20250125T032629Z
UID:10000277-1859188500-1859193000@www.dewintonca.com
SUMMARY:Stretching/Yoga
DESCRIPTION:Join us every Monday and Thursday from 9:15 to 10:30 am to limber up your joints and slow down your mind.
URL:https://www.dewintonca.com/event/stretching-yoga/2028-11-30/
CATEGORIES:Program
ATTACH;FMTTYPE=image/jpeg:https://www.dewintonca.com/wp-content/uploads/2020/08/stretching-e1738681881428.jpg
END:VEVENT
BEGIN:VEVENT
DTSTART;TZID=America/Edmonton:20281204T091500
DTEND;TZID=America/Edmonton:20281204T103000
DTSTAMP:20260425T074850
CREATED:20251104T012604Z
LAST-MODIFIED:20251104T012609Z
UID:10003005-1859534100-1859538600@www.dewintonca.com
SUMMARY:Stretching/Yoga
DESCRIPTION:Join us every Monday and Thursday from 9:15 to 10:30 am to limber up your joints and slow down your mind.
URL:https://www.dewintonca.com/event/stretching-yoga-3/2028-12-04/
CATEGORIES:Program
ATTACH;FMTTYPE=image/jpeg:https://www.dewintonca.com/wp-content/uploads/2020/08/stretching-e1738681881428.jpg
END:VEVENT
BEGIN:VEVENT
DTSTART;TZID=America/Edmonton:20281204T183000
DTEND;TZID=America/Edmonton:20281204T213000
DTSTAMP:20260425T074850
CREATED:20250204T144249Z
LAST-MODIFIED:20250210T225120Z
UID:10002736-1859567400-1859578200@www.dewintonca.com
SUMMARY:Canasta
DESCRIPTION:Looking to unwind with a fun card game? Join us for Canasta classes every Monday night from 6:30 – 9:30pm! Whether you’re a beginner or a seasoned player\, you’ll learn new strategies\, sharpen your skills\, and have a great time. Best of all—it’s FREE for community members! Grab your cards and come have some fun with us!
URL:https://www.dewintonca.com/event/canasta/2028-12-04/
LOCATION:DeWinton Community Hall\, 114 Macleod Trail E\, DeWinton\, Alberta\, T0L 0X0\, Canada
CATEGORIES:Program
ATTACH;FMTTYPE=image/jpeg:https://www.dewintonca.com/wp-content/uploads/2025/02/CANASTA-Presentation-43.jpg
END:VEVENT
BEGIN:VEVENT
DTSTART;TZID=America/Edmonton:20281206T093000
DTEND;TZID=America/Edmonton:20281206T143000
DTSTAMP:20260425T074850
CREATED:20250109T220122Z
LAST-MODIFIED:20250125T032639Z
UID:10001319-1859707800-1859725800@www.dewintonca.com
SUMMARY:Quilting
DESCRIPTION:Free for Members. Drop in with your equipment and supplies
URL:https://www.dewintonca.com/event/quilting/2028-12-06/
CATEGORIES:Program
ATTACH;FMTTYPE=image/jpeg:https://www.dewintonca.com/wp-content/uploads/2021/03/Quilting.jpg
END:VEVENT
BEGIN:VEVENT
DTSTART;TZID=America/Edmonton:20281206T130000
DTEND;TZID=America/Edmonton:20281206T150000
DTSTAMP:20260425T074850
CREATED:20250118T233839Z
LAST-MODIFIED:20250125T032551Z
UID:10001652-1859720400-1859727600@www.dewintonca.com
SUMMARY:Bridge
DESCRIPTION:Join us at the hall for a friendly round or two of Bridge. Free to attend for DCA members
URL:https://www.dewintonca.com/event/bridge/2028-12-06/
CATEGORIES:Program
ATTACH;FMTTYPE=image/jpeg:https://www.dewintonca.com/wp-content/uploads/2025/01/Cards-scaled-e1738682093441.jpg
END:VEVENT
BEGIN:VEVENT
DTSTART;TZID=America/Edmonton:20281207T091500
DTEND;TZID=America/Edmonton:20281207T103000
DTSTAMP:20260425T074850
CREATED:20250109T212155Z
LAST-MODIFIED:20250125T032629Z
UID:10000278-1859793300-1859797800@www.dewintonca.com
SUMMARY:Stretching/Yoga
DESCRIPTION:Join us every Monday and Thursday from 9:15 to 10:30 am to limber up your joints and slow down your mind.
URL:https://www.dewintonca.com/event/stretching-yoga/2028-12-07/
CATEGORIES:Program
ATTACH;FMTTYPE=image/jpeg:https://www.dewintonca.com/wp-content/uploads/2020/08/stretching-e1738681881428.jpg
END:VEVENT
BEGIN:VEVENT
DTSTART;TZID=America/Edmonton:20281211T091500
DTEND;TZID=America/Edmonton:20281211T103000
DTSTAMP:20260425T074850
CREATED:20251104T012604Z
LAST-MODIFIED:20251104T012609Z
UID:10003006-1860138900-1860143400@www.dewintonca.com
SUMMARY:Stretching/Yoga
DESCRIPTION:Join us every Monday and Thursday from 9:15 to 10:30 am to limber up your joints and slow down your mind.
URL:https://www.dewintonca.com/event/stretching-yoga-3/2028-12-11/
CATEGORIES:Program
ATTACH;FMTTYPE=image/jpeg:https://www.dewintonca.com/wp-content/uploads/2020/08/stretching-e1738681881428.jpg
END:VEVENT
BEGIN:VEVENT
DTSTART;TZID=America/Edmonton:20281211T183000
DTEND;TZID=America/Edmonton:20281211T213000
DTSTAMP:20260425T074850
CREATED:20250204T144249Z
LAST-MODIFIED:20250210T225120Z
UID:10002737-1860172200-1860183000@www.dewintonca.com
SUMMARY:Canasta
DESCRIPTION:Looking to unwind with a fun card game? Join us for Canasta classes every Monday night from 6:30 – 9:30pm! Whether you’re a beginner or a seasoned player\, you’ll learn new strategies\, sharpen your skills\, and have a great time. Best of all—it’s FREE for community members! Grab your cards and come have some fun with us!
URL:https://www.dewintonca.com/event/canasta/2028-12-11/
LOCATION:DeWinton Community Hall\, 114 Macleod Trail E\, DeWinton\, Alberta\, T0L 0X0\, Canada
CATEGORIES:Program
ATTACH;FMTTYPE=image/jpeg:https://www.dewintonca.com/wp-content/uploads/2025/02/CANASTA-Presentation-43.jpg
END:VEVENT
BEGIN:VEVENT
DTSTART;TZID=America/Edmonton:20281213T093000
DTEND;TZID=America/Edmonton:20281213T143000
DTSTAMP:20260425T074850
CREATED:20250109T220122Z
LAST-MODIFIED:20250125T032639Z
UID:10001320-1860312600-1860330600@www.dewintonca.com
SUMMARY:Quilting
DESCRIPTION:Free for Members. Drop in with your equipment and supplies
URL:https://www.dewintonca.com/event/quilting/2028-12-13/
CATEGORIES:Program
ATTACH;FMTTYPE=image/jpeg:https://www.dewintonca.com/wp-content/uploads/2021/03/Quilting.jpg
END:VEVENT
BEGIN:VEVENT
DTSTART;TZID=America/Edmonton:20281213T130000
DTEND;TZID=America/Edmonton:20281213T150000
DTSTAMP:20260425T074850
CREATED:20250118T233839Z
LAST-MODIFIED:20250125T032551Z
UID:10001653-1860325200-1860332400@www.dewintonca.com
SUMMARY:Bridge
DESCRIPTION:Join us at the hall for a friendly round or two of Bridge. Free to attend for DCA members
URL:https://www.dewintonca.com/event/bridge/2028-12-13/
CATEGORIES:Program
ATTACH;FMTTYPE=image/jpeg:https://www.dewintonca.com/wp-content/uploads/2025/01/Cards-scaled-e1738682093441.jpg
END:VEVENT
BEGIN:VEVENT
DTSTART;TZID=America/Edmonton:20281214T091500
DTEND;TZID=America/Edmonton:20281214T103000
DTSTAMP:20260425T074850
CREATED:20250109T212155Z
LAST-MODIFIED:20250125T032629Z
UID:10000279-1860398100-1860402600@www.dewintonca.com
SUMMARY:Stretching/Yoga
DESCRIPTION:Join us every Monday and Thursday from 9:15 to 10:30 am to limber up your joints and slow down your mind.
URL:https://www.dewintonca.com/event/stretching-yoga/2028-12-14/
CATEGORIES:Program
ATTACH;FMTTYPE=image/jpeg:https://www.dewintonca.com/wp-content/uploads/2020/08/stretching-e1738681881428.jpg
END:VEVENT
BEGIN:VEVENT
DTSTART;TZID=America/Edmonton:20281218T091500
DTEND;TZID=America/Edmonton:20281218T103000
DTSTAMP:20260425T074850
CREATED:20251104T012604Z
LAST-MODIFIED:20251104T012609Z
UID:10003007-1860743700-1860748200@www.dewintonca.com
SUMMARY:Stretching/Yoga
DESCRIPTION:Join us every Monday and Thursday from 9:15 to 10:30 am to limber up your joints and slow down your mind.
URL:https://www.dewintonca.com/event/stretching-yoga-3/2028-12-18/
CATEGORIES:Program
ATTACH;FMTTYPE=image/jpeg:https://www.dewintonca.com/wp-content/uploads/2020/08/stretching-e1738681881428.jpg
END:VEVENT
BEGIN:VEVENT
DTSTART;TZID=America/Edmonton:20281218T183000
DTEND;TZID=America/Edmonton:20281218T213000
DTSTAMP:20260425T074850
CREATED:20250204T144249Z
LAST-MODIFIED:20250210T225120Z
UID:10002738-1860777000-1860787800@www.dewintonca.com
SUMMARY:Canasta
DESCRIPTION:Looking to unwind with a fun card game? Join us for Canasta classes every Monday night from 6:30 – 9:30pm! Whether you’re a beginner or a seasoned player\, you’ll learn new strategies\, sharpen your skills\, and have a great time. Best of all—it’s FREE for community members! Grab your cards and come have some fun with us!
URL:https://www.dewintonca.com/event/canasta/2028-12-18/
LOCATION:DeWinton Community Hall\, 114 Macleod Trail E\, DeWinton\, Alberta\, T0L 0X0\, Canada
CATEGORIES:Program
ATTACH;FMTTYPE=image/jpeg:https://www.dewintonca.com/wp-content/uploads/2025/02/CANASTA-Presentation-43.jpg
END:VEVENT
BEGIN:VEVENT
DTSTART;TZID=America/Edmonton:20281220T093000
DTEND;TZID=America/Edmonton:20281220T143000
DTSTAMP:20260425T074850
CREATED:20250109T220122Z
LAST-MODIFIED:20250125T032639Z
UID:10001321-1860917400-1860935400@www.dewintonca.com
SUMMARY:Quilting
DESCRIPTION:Free for Members. Drop in with your equipment and supplies
URL:https://www.dewintonca.com/event/quilting/2028-12-20/
CATEGORIES:Program
ATTACH;FMTTYPE=image/jpeg:https://www.dewintonca.com/wp-content/uploads/2021/03/Quilting.jpg
END:VEVENT
BEGIN:VEVENT
DTSTART;TZID=America/Edmonton:20281220T130000
DTEND;TZID=America/Edmonton:20281220T150000
DTSTAMP:20260425T074850
CREATED:20250118T233839Z
LAST-MODIFIED:20250125T032551Z
UID:10001654-1860930000-1860937200@www.dewintonca.com
SUMMARY:Bridge
DESCRIPTION:Join us at the hall for a friendly round or two of Bridge. Free to attend for DCA members
URL:https://www.dewintonca.com/event/bridge/2028-12-20/
CATEGORIES:Program
ATTACH;FMTTYPE=image/jpeg:https://www.dewintonca.com/wp-content/uploads/2025/01/Cards-scaled-e1738682093441.jpg
END:VEVENT
BEGIN:VEVENT
DTSTART;TZID=America/Edmonton:20281221T091500
DTEND;TZID=America/Edmonton:20281221T103000
DTSTAMP:20260425T074850
CREATED:20250109T212155Z
LAST-MODIFIED:20250125T032629Z
UID:10000280-1861002900-1861007400@www.dewintonca.com
SUMMARY:Stretching/Yoga
DESCRIPTION:Join us every Monday and Thursday from 9:15 to 10:30 am to limber up your joints and slow down your mind.
URL:https://www.dewintonca.com/event/stretching-yoga/2028-12-21/
CATEGORIES:Program
ATTACH;FMTTYPE=image/jpeg:https://www.dewintonca.com/wp-content/uploads/2020/08/stretching-e1738681881428.jpg
END:VEVENT
BEGIN:VEVENT
DTSTART;TZID=America/Edmonton:20281225T091500
DTEND;TZID=America/Edmonton:20281225T103000
DTSTAMP:20260425T074850
CREATED:20251104T012604Z
LAST-MODIFIED:20251104T012609Z
UID:10003008-1861348500-1861353000@www.dewintonca.com
SUMMARY:Stretching/Yoga
DESCRIPTION:Join us every Monday and Thursday from 9:15 to 10:30 am to limber up your joints and slow down your mind.
URL:https://www.dewintonca.com/event/stretching-yoga-3/2028-12-25/
CATEGORIES:Program
ATTACH;FMTTYPE=image/jpeg:https://www.dewintonca.com/wp-content/uploads/2020/08/stretching-e1738681881428.jpg
END:VEVENT
BEGIN:VEVENT
DTSTART;TZID=America/Edmonton:20281225T183000
DTEND;TZID=America/Edmonton:20281225T213000
DTSTAMP:20260425T074850
CREATED:20250204T144249Z
LAST-MODIFIED:20250210T225120Z
UID:10002739-1861381800-1861392600@www.dewintonca.com
SUMMARY:Canasta
DESCRIPTION:Looking to unwind with a fun card game? Join us for Canasta classes every Monday night from 6:30 – 9:30pm! Whether you’re a beginner or a seasoned player\, you’ll learn new strategies\, sharpen your skills\, and have a great time. Best of all—it’s FREE for community members! Grab your cards and come have some fun with us!
URL:https://www.dewintonca.com/event/canasta/2028-12-25/
LOCATION:DeWinton Community Hall\, 114 Macleod Trail E\, DeWinton\, Alberta\, T0L 0X0\, Canada
CATEGORIES:Program
ATTACH;FMTTYPE=image/jpeg:https://www.dewintonca.com/wp-content/uploads/2025/02/CANASTA-Presentation-43.jpg
END:VEVENT
BEGIN:VEVENT
DTSTART;TZID=America/Edmonton:20281227T093000
DTEND;TZID=America/Edmonton:20281227T143000
DTSTAMP:20260425T074850
CREATED:20250109T220122Z
LAST-MODIFIED:20250125T032639Z
UID:10001322-1861522200-1861540200@www.dewintonca.com
SUMMARY:Quilting
DESCRIPTION:Free for Members. Drop in with your equipment and supplies
URL:https://www.dewintonca.com/event/quilting/2028-12-27/
CATEGORIES:Program
ATTACH;FMTTYPE=image/jpeg:https://www.dewintonca.com/wp-content/uploads/2021/03/Quilting.jpg
END:VEVENT
BEGIN:VEVENT
DTSTART;TZID=America/Edmonton:20281227T130000
DTEND;TZID=America/Edmonton:20281227T150000
DTSTAMP:20260425T074850
CREATED:20250118T233839Z
LAST-MODIFIED:20250125T032551Z
UID:10001655-1861534800-1861542000@www.dewintonca.com
SUMMARY:Bridge
DESCRIPTION:Join us at the hall for a friendly round or two of Bridge. Free to attend for DCA members
URL:https://www.dewintonca.com/event/bridge/2028-12-27/
CATEGORIES:Program
ATTACH;FMTTYPE=image/jpeg:https://www.dewintonca.com/wp-content/uploads/2025/01/Cards-scaled-e1738682093441.jpg
END:VEVENT
BEGIN:VEVENT
DTSTART;TZID=America/Edmonton:20281228T091500
DTEND;TZID=America/Edmonton:20281228T103000
DTSTAMP:20260425T074850
CREATED:20250109T212155Z
LAST-MODIFIED:20250125T032629Z
UID:10000281-1861607700-1861612200@www.dewintonca.com
SUMMARY:Stretching/Yoga
DESCRIPTION:Join us every Monday and Thursday from 9:15 to 10:30 am to limber up your joints and slow down your mind.
URL:https://www.dewintonca.com/event/stretching-yoga/2028-12-28/
CATEGORIES:Program
ATTACH;FMTTYPE=image/jpeg:https://www.dewintonca.com/wp-content/uploads/2020/08/stretching-e1738681881428.jpg
END:VEVENT
BEGIN:VEVENT
DTSTART;TZID=America/Edmonton:20290101T091500
DTEND;TZID=America/Edmonton:20290101T103000
DTSTAMP:20260425T074850
CREATED:20251104T012604Z
LAST-MODIFIED:20251104T012609Z
UID:10003009-1861953300-1861957800@www.dewintonca.com
SUMMARY:Stretching/Yoga
DESCRIPTION:Join us every Monday and Thursday from 9:15 to 10:30 am to limber up your joints and slow down your mind.
URL:https://www.dewintonca.com/event/stretching-yoga-3/2029-01-01/
CATEGORIES:Program
ATTACH;FMTTYPE=image/jpeg:https://www.dewintonca.com/wp-content/uploads/2020/08/stretching-e1738681881428.jpg
END:VEVENT
END:VCALENDAR