BEGIN:VCALENDAR
VERSION:2.0
PRODID:-//The DeWinton Community Hall - ECPv6.15.20//NONSGML v1.0//EN
CALSCALE:GREGORIAN
METHOD:PUBLISH
X-WR-CALNAME:The DeWinton Community Hall
X-ORIGINAL-URL:https://www.dewintonca.com
X-WR-CALDESC:Events for The DeWinton Community Hall
REFRESH-INTERVAL;VALUE=DURATION:PT1H
X-Robots-Tag:noindex
X-PUBLISHED-TTL:PT1H
BEGIN:VTIMEZONE
TZID:America/Edmonton
BEGIN:DAYLIGHT
TZOFFSETFROM:-0700
TZOFFSETTO:-0600
TZNAME:MDT
DTSTART:20240310T090000
END:DAYLIGHT
BEGIN:STANDARD
TZOFFSETFROM:-0600
TZOFFSETTO:-0700
TZNAME:MST
DTSTART:20241103T080000
END:STANDARD
BEGIN:DAYLIGHT
TZOFFSETFROM:-0700
TZOFFSETTO:-0600
TZNAME:MDT
DTSTART:20250309T090000
END:DAYLIGHT
BEGIN:STANDARD
TZOFFSETFROM:-0600
TZOFFSETTO:-0700
TZNAME:MST
DTSTART:20251102T080000
END:STANDARD
BEGIN:DAYLIGHT
TZOFFSETFROM:-0700
TZOFFSETTO:-0600
TZNAME:MDT
DTSTART:20260308T090000
END:DAYLIGHT
BEGIN:STANDARD
TZOFFSETFROM:-0600
TZOFFSETTO:-0700
TZNAME:MST
DTSTART:20261101T080000
END:STANDARD
END:VTIMEZONE
BEGIN:VEVENT
DTSTART;TZID=America/Edmonton:20250828T091500
DTEND;TZID=America/Edmonton:20250828T103000
DTSTAMP:20260419T201922
CREATED:20250109T212155Z
LAST-MODIFIED:20250125T032629Z
UID:10000107-1756372500-1756377000@www.dewintonca.com
SUMMARY:Stretching/Yoga
DESCRIPTION:Join us every Monday and Thursday from 9:15 to 10:30 am to limber up your joints and slow down your mind.
URL:https://www.dewintonca.com/event/stretching-yoga/2025-08-28/
CATEGORIES:Program
ATTACH;FMTTYPE=image/jpeg:https://www.dewintonca.com/wp-content/uploads/2020/08/stretching-e1738681881428.jpg
END:VEVENT
BEGIN:VEVENT
DTSTART;TZID=America/Edmonton:20250830T080000
DTEND;TZID=America/Edmonton:20250831T100000
DTSTAMP:20260419T201922
CREATED:20250617T154944Z
LAST-MODIFIED:20250617T154946Z
UID:10002812-1756540800-1756634400@www.dewintonca.com
SUMMARY:Wedding Booking
DESCRIPTION:The De Winton Hall is a great venue for your wedding or other group event!
URL:https://www.dewintonca.com/event/wedding-booking-8/
ATTACH;FMTTYPE=image/jpeg:https://www.dewintonca.com/wp-content/uploads/2024/09/Wedding-Rental.jpg
END:VEVENT
BEGIN:VEVENT
DTSTART;TZID=America/Edmonton:20250901T093000
DTEND;TZID=America/Edmonton:20250901T101500
DTSTAMP:20260419T201922
CREATED:20250109T215126Z
LAST-MODIFIED:20250125T032655Z
UID:10000888-1756719000-1756721700@www.dewintonca.com
SUMMARY:Stretching/Yoga
DESCRIPTION:Join us every Monday and Thursday from 9:15 to 10:30 am to limber up your joints and slow down your mind.
URL:https://www.dewintonca.com/event/stretching-yoga-2/2025-09-01/
CATEGORIES:Program
ATTACH;FMTTYPE=image/jpeg:https://www.dewintonca.com/wp-content/uploads/2020/08/stretching-e1738681881428.jpg
END:VEVENT
BEGIN:VEVENT
DTSTART;TZID=America/Edmonton:20250901T183000
DTEND;TZID=America/Edmonton:20250901T213000
DTSTAMP:20260419T201922
CREATED:20250204T144249Z
LAST-MODIFIED:20250210T225120Z
UID:10002566-1756751400-1756762200@www.dewintonca.com
SUMMARY:Canasta
DESCRIPTION:Looking to unwind with a fun card game? Join us for Canasta classes every Monday night from 6:30 – 9:30pm! Whether you’re a beginner or a seasoned player\, you’ll learn new strategies\, sharpen your skills\, and have a great time. Best of all—it’s FREE for community members! Grab your cards and come have some fun with us!
URL:https://www.dewintonca.com/event/canasta/2025-09-01/
LOCATION:DeWinton Community Hall\, 114 Macleod Trail E\, DeWinton\, Alberta\, T0L 0X0\, Canada
CATEGORIES:Program
ATTACH;FMTTYPE=image/jpeg:https://www.dewintonca.com/wp-content/uploads/2025/02/CANASTA-Presentation-43.jpg
END:VEVENT
BEGIN:VEVENT
DTSTART;TZID=America/Edmonton:20250903T093000
DTEND;TZID=America/Edmonton:20250903T143000
DTSTAMP:20260419T201922
CREATED:20250109T220122Z
LAST-MODIFIED:20250125T032639Z
UID:10001149-1756891800-1756909800@www.dewintonca.com
SUMMARY:Quilting
DESCRIPTION:Free for Members. Drop in with your equipment and supplies
URL:https://www.dewintonca.com/event/quilting/2025-09-03/
CATEGORIES:Program
ATTACH;FMTTYPE=image/jpeg:https://www.dewintonca.com/wp-content/uploads/2021/03/Quilting.jpg
END:VEVENT
BEGIN:VEVENT
DTSTART;TZID=America/Edmonton:20250903T130000
DTEND;TZID=America/Edmonton:20250903T150000
DTSTAMP:20260419T201922
CREATED:20250118T233839Z
LAST-MODIFIED:20250125T032551Z
UID:10001482-1756904400-1756911600@www.dewintonca.com
SUMMARY:Bridge
DESCRIPTION:Join us at the hall for a friendly round or two of Bridge. Free to attend for DCA members
URL:https://www.dewintonca.com/event/bridge/2025-09-03/
CATEGORIES:Program
ATTACH;FMTTYPE=image/jpeg:https://www.dewintonca.com/wp-content/uploads/2025/01/Cards-scaled-e1738682093441.jpg
END:VEVENT
BEGIN:VEVENT
DTSTART;TZID=America/Edmonton:20250904T091500
DTEND;TZID=America/Edmonton:20250904T103000
DTSTAMP:20260419T201922
CREATED:20250109T212155Z
LAST-MODIFIED:20250125T032629Z
UID:10000108-1756977300-1756981800@www.dewintonca.com
SUMMARY:Stretching/Yoga
DESCRIPTION:Join us every Monday and Thursday from 9:15 to 10:30 am to limber up your joints and slow down your mind.
URL:https://www.dewintonca.com/event/stretching-yoga/2025-09-04/
CATEGORIES:Program
ATTACH;FMTTYPE=image/jpeg:https://www.dewintonca.com/wp-content/uploads/2020/08/stretching-e1738681881428.jpg
END:VEVENT
BEGIN:VEVENT
DTSTART;TZID=America/Edmonton:20250906T080000
DTEND;TZID=America/Edmonton:20250906T170000
DTSTAMP:20260419T201922
CREATED:20250617T221429Z
LAST-MODIFIED:20250617T221431Z
UID:10002824-1757145600-1757178000@www.dewintonca.com
SUMMARY:Event Rental
DESCRIPTION:The De Winton Hall is the perfect place for your party or group event.
URL:https://www.dewintonca.com/event/event-rental-6/
CATEGORIES:Hourly Rental
ATTACH;FMTTYPE=image/jpeg:https://www.dewintonca.com/wp-content/uploads/2025/06/Event-Rental.jpg
END:VEVENT
BEGIN:VEVENT
DTSTART;TZID=America/Edmonton:20250908T093000
DTEND;TZID=America/Edmonton:20250908T101500
DTSTAMP:20260419T201922
CREATED:20250109T215126Z
LAST-MODIFIED:20250125T032655Z
UID:10000889-1757323800-1757326500@www.dewintonca.com
SUMMARY:Stretching/Yoga
DESCRIPTION:Join us every Monday and Thursday from 9:15 to 10:30 am to limber up your joints and slow down your mind.
URL:https://www.dewintonca.com/event/stretching-yoga-2/2025-09-08/
CATEGORIES:Program
ATTACH;FMTTYPE=image/jpeg:https://www.dewintonca.com/wp-content/uploads/2020/08/stretching-e1738681881428.jpg
END:VEVENT
BEGIN:VEVENT
DTSTART;TZID=America/Edmonton:20250908T183000
DTEND;TZID=America/Edmonton:20250908T213000
DTSTAMP:20260419T201922
CREATED:20250204T144249Z
LAST-MODIFIED:20250210T225120Z
UID:10002567-1757356200-1757367000@www.dewintonca.com
SUMMARY:Canasta
DESCRIPTION:Looking to unwind with a fun card game? Join us for Canasta classes every Monday night from 6:30 – 9:30pm! Whether you’re a beginner or a seasoned player\, you’ll learn new strategies\, sharpen your skills\, and have a great time. Best of all—it’s FREE for community members! Grab your cards and come have some fun with us!
URL:https://www.dewintonca.com/event/canasta/2025-09-08/
LOCATION:DeWinton Community Hall\, 114 Macleod Trail E\, DeWinton\, Alberta\, T0L 0X0\, Canada
CATEGORIES:Program
ATTACH;FMTTYPE=image/jpeg:https://www.dewintonca.com/wp-content/uploads/2025/02/CANASTA-Presentation-43.jpg
END:VEVENT
BEGIN:VEVENT
DTSTART;TZID=America/Edmonton:20250910T093000
DTEND;TZID=America/Edmonton:20250910T143000
DTSTAMP:20260419T201922
CREATED:20250109T220122Z
LAST-MODIFIED:20250125T032639Z
UID:10001150-1757496600-1757514600@www.dewintonca.com
SUMMARY:Quilting
DESCRIPTION:Free for Members. Drop in with your equipment and supplies
URL:https://www.dewintonca.com/event/quilting/2025-09-10/
CATEGORIES:Program
ATTACH;FMTTYPE=image/jpeg:https://www.dewintonca.com/wp-content/uploads/2021/03/Quilting.jpg
END:VEVENT
BEGIN:VEVENT
DTSTART;TZID=America/Edmonton:20250910T130000
DTEND;TZID=America/Edmonton:20250910T150000
DTSTAMP:20260419T201922
CREATED:20250118T233839Z
LAST-MODIFIED:20250125T032551Z
UID:10001483-1757509200-1757516400@www.dewintonca.com
SUMMARY:Bridge
DESCRIPTION:Join us at the hall for a friendly round or two of Bridge. Free to attend for DCA members
URL:https://www.dewintonca.com/event/bridge/2025-09-10/
CATEGORIES:Program
ATTACH;FMTTYPE=image/jpeg:https://www.dewintonca.com/wp-content/uploads/2025/01/Cards-scaled-e1738682093441.jpg
END:VEVENT
BEGIN:VEVENT
DTSTART;TZID=America/Edmonton:20250911T091500
DTEND;TZID=America/Edmonton:20250911T103000
DTSTAMP:20260419T201922
CREATED:20250109T212155Z
LAST-MODIFIED:20250125T032629Z
UID:10000109-1757582100-1757586600@www.dewintonca.com
SUMMARY:Stretching/Yoga
DESCRIPTION:Join us every Monday and Thursday from 9:15 to 10:30 am to limber up your joints and slow down your mind.
URL:https://www.dewintonca.com/event/stretching-yoga/2025-09-11/
CATEGORIES:Program
ATTACH;FMTTYPE=image/jpeg:https://www.dewintonca.com/wp-content/uploads/2020/08/stretching-e1738681881428.jpg
END:VEVENT
BEGIN:VEVENT
DTSTART;TZID=America/Edmonton:20250913T080000
DTEND;TZID=America/Edmonton:20250914T100000
DTSTAMP:20260419T201922
CREATED:20250617T155050Z
LAST-MODIFIED:20250617T155052Z
UID:10002813-1757750400-1757844000@www.dewintonca.com
SUMMARY:Wedding Booking
DESCRIPTION:The De Winton Hall is a great venue for your wedding or other group event!
URL:https://www.dewintonca.com/event/wedding-booking-9/
ATTACH;FMTTYPE=image/jpeg:https://www.dewintonca.com/wp-content/uploads/2024/09/Wedding-Rental.jpg
END:VEVENT
BEGIN:VEVENT
DTSTART;TZID=America/Edmonton:20250915T093000
DTEND;TZID=America/Edmonton:20250915T101500
DTSTAMP:20260419T201922
CREATED:20250109T215126Z
LAST-MODIFIED:20250125T032655Z
UID:10000890-1757928600-1757931300@www.dewintonca.com
SUMMARY:Stretching/Yoga
DESCRIPTION:Join us every Monday and Thursday from 9:15 to 10:30 am to limber up your joints and slow down your mind.
URL:https://www.dewintonca.com/event/stretching-yoga-2/2025-09-15/
CATEGORIES:Program
ATTACH;FMTTYPE=image/jpeg:https://www.dewintonca.com/wp-content/uploads/2020/08/stretching-e1738681881428.jpg
END:VEVENT
BEGIN:VEVENT
DTSTART;TZID=America/Edmonton:20250915T183000
DTEND;TZID=America/Edmonton:20250915T213000
DTSTAMP:20260419T201922
CREATED:20250204T144249Z
LAST-MODIFIED:20250210T225120Z
UID:10002568-1757961000-1757971800@www.dewintonca.com
SUMMARY:Canasta
DESCRIPTION:Looking to unwind with a fun card game? Join us for Canasta classes every Monday night from 6:30 – 9:30pm! Whether you’re a beginner or a seasoned player\, you’ll learn new strategies\, sharpen your skills\, and have a great time. Best of all—it’s FREE for community members! Grab your cards and come have some fun with us!
URL:https://www.dewintonca.com/event/canasta/2025-09-15/
LOCATION:DeWinton Community Hall\, 114 Macleod Trail E\, DeWinton\, Alberta\, T0L 0X0\, Canada
CATEGORIES:Program
ATTACH;FMTTYPE=image/jpeg:https://www.dewintonca.com/wp-content/uploads/2025/02/CANASTA-Presentation-43.jpg
END:VEVENT
BEGIN:VEVENT
DTSTART;TZID=America/Edmonton:20250917T093000
DTEND;TZID=America/Edmonton:20250917T143000
DTSTAMP:20260419T201922
CREATED:20250109T220122Z
LAST-MODIFIED:20250125T032639Z
UID:10001151-1758101400-1758119400@www.dewintonca.com
SUMMARY:Quilting
DESCRIPTION:Free for Members. Drop in with your equipment and supplies
URL:https://www.dewintonca.com/event/quilting/2025-09-17/
CATEGORIES:Program
ATTACH;FMTTYPE=image/jpeg:https://www.dewintonca.com/wp-content/uploads/2021/03/Quilting.jpg
END:VEVENT
BEGIN:VEVENT
DTSTART;TZID=America/Edmonton:20250917T130000
DTEND;TZID=America/Edmonton:20250917T150000
DTSTAMP:20260419T201922
CREATED:20250118T233839Z
LAST-MODIFIED:20250125T032551Z
UID:10001484-1758114000-1758121200@www.dewintonca.com
SUMMARY:Bridge
DESCRIPTION:Join us at the hall for a friendly round or two of Bridge. Free to attend for DCA members
URL:https://www.dewintonca.com/event/bridge/2025-09-17/
CATEGORIES:Program
ATTACH;FMTTYPE=image/jpeg:https://www.dewintonca.com/wp-content/uploads/2025/01/Cards-scaled-e1738682093441.jpg
END:VEVENT
BEGIN:VEVENT
DTSTART;TZID=America/Edmonton:20250918T091500
DTEND;TZID=America/Edmonton:20250918T103000
DTSTAMP:20260419T201922
CREATED:20250109T212155Z
LAST-MODIFIED:20250125T032629Z
UID:10000110-1758186900-1758191400@www.dewintonca.com
SUMMARY:Stretching/Yoga
DESCRIPTION:Join us every Monday and Thursday from 9:15 to 10:30 am to limber up your joints and slow down your mind.
URL:https://www.dewintonca.com/event/stretching-yoga/2025-09-18/
CATEGORIES:Program
ATTACH;FMTTYPE=image/jpeg:https://www.dewintonca.com/wp-content/uploads/2020/08/stretching-e1738681881428.jpg
END:VEVENT
BEGIN:VEVENT
DTSTART;TZID=America/Edmonton:20250920T080000
DTEND;TZID=America/Edmonton:20250921T100000
DTSTAMP:20260419T201922
CREATED:20250617T155311Z
LAST-MODIFIED:20250617T155314Z
UID:10002811-1758355200-1758448800@www.dewintonca.com
SUMMARY:Wedding Booking
DESCRIPTION:The De Winton Hall is a great venue for your wedding or other group event!
URL:https://www.dewintonca.com/event/wedding-booking-10/
ATTACH;FMTTYPE=image/jpeg:https://www.dewintonca.com/wp-content/uploads/2024/09/Wedding-Rental.jpg
END:VEVENT
BEGIN:VEVENT
DTSTART;TZID=America/Edmonton:20250922T093000
DTEND;TZID=America/Edmonton:20250922T101500
DTSTAMP:20260419T201922
CREATED:20250109T215126Z
LAST-MODIFIED:20250125T032655Z
UID:10000891-1758533400-1758536100@www.dewintonca.com
SUMMARY:Stretching/Yoga
DESCRIPTION:Join us every Monday and Thursday from 9:15 to 10:30 am to limber up your joints and slow down your mind.
URL:https://www.dewintonca.com/event/stretching-yoga-2/2025-09-22/
CATEGORIES:Program
ATTACH;FMTTYPE=image/jpeg:https://www.dewintonca.com/wp-content/uploads/2020/08/stretching-e1738681881428.jpg
END:VEVENT
BEGIN:VEVENT
DTSTART;TZID=America/Edmonton:20250922T183000
DTEND;TZID=America/Edmonton:20250922T213000
DTSTAMP:20260419T201922
CREATED:20250204T144249Z
LAST-MODIFIED:20250210T225120Z
UID:10002569-1758565800-1758576600@www.dewintonca.com
SUMMARY:Canasta
DESCRIPTION:Looking to unwind with a fun card game? Join us for Canasta classes every Monday night from 6:30 – 9:30pm! Whether you’re a beginner or a seasoned player\, you’ll learn new strategies\, sharpen your skills\, and have a great time. Best of all—it’s FREE for community members! Grab your cards and come have some fun with us!
URL:https://www.dewintonca.com/event/canasta/2025-09-22/
LOCATION:DeWinton Community Hall\, 114 Macleod Trail E\, DeWinton\, Alberta\, T0L 0X0\, Canada
CATEGORIES:Program
ATTACH;FMTTYPE=image/jpeg:https://www.dewintonca.com/wp-content/uploads/2025/02/CANASTA-Presentation-43.jpg
END:VEVENT
BEGIN:VEVENT
DTSTART;TZID=America/Edmonton:20250924T093000
DTEND;TZID=America/Edmonton:20250924T143000
DTSTAMP:20260419T201922
CREATED:20250109T220122Z
LAST-MODIFIED:20250125T032639Z
UID:10001152-1758706200-1758724200@www.dewintonca.com
SUMMARY:Quilting
DESCRIPTION:Free for Members. Drop in with your equipment and supplies
URL:https://www.dewintonca.com/event/quilting/2025-09-24/
CATEGORIES:Program
ATTACH;FMTTYPE=image/jpeg:https://www.dewintonca.com/wp-content/uploads/2021/03/Quilting.jpg
END:VEVENT
BEGIN:VEVENT
DTSTART;TZID=America/Edmonton:20250924T130000
DTEND;TZID=America/Edmonton:20250924T150000
DTSTAMP:20260419T201922
CREATED:20250118T233839Z
LAST-MODIFIED:20250125T032551Z
UID:10001485-1758718800-1758726000@www.dewintonca.com
SUMMARY:Bridge
DESCRIPTION:Join us at the hall for a friendly round or two of Bridge. Free to attend for DCA members
URL:https://www.dewintonca.com/event/bridge/2025-09-24/
CATEGORIES:Program
ATTACH;FMTTYPE=image/jpeg:https://www.dewintonca.com/wp-content/uploads/2025/01/Cards-scaled-e1738682093441.jpg
END:VEVENT
BEGIN:VEVENT
DTSTART;TZID=America/Edmonton:20250925T091500
DTEND;TZID=America/Edmonton:20250925T103000
DTSTAMP:20260419T201922
CREATED:20250109T212155Z
LAST-MODIFIED:20250125T032629Z
UID:10000111-1758791700-1758796200@www.dewintonca.com
SUMMARY:Stretching/Yoga
DESCRIPTION:Join us every Monday and Thursday from 9:15 to 10:30 am to limber up your joints and slow down your mind.
URL:https://www.dewintonca.com/event/stretching-yoga/2025-09-25/
CATEGORIES:Program
ATTACH;FMTTYPE=image/jpeg:https://www.dewintonca.com/wp-content/uploads/2020/08/stretching-e1738681881428.jpg
END:VEVENT
BEGIN:VEVENT
DTSTART;TZID=America/Edmonton:20250927T080000
DTEND;TZID=America/Edmonton:20250928T100000
DTSTAMP:20260419T201922
CREATED:20250617T155346Z
LAST-MODIFIED:20250617T155349Z
UID:10002814-1758960000-1759053600@www.dewintonca.com
SUMMARY:Wedding Booking
DESCRIPTION:The De Winton Hall is a great venue for your wedding or other group event!
URL:https://www.dewintonca.com/event/wedding-booking-11/
ATTACH;FMTTYPE=image/jpeg:https://www.dewintonca.com/wp-content/uploads/2024/09/Wedding-Rental.jpg
END:VEVENT
BEGIN:VEVENT
DTSTART;TZID=America/Edmonton:20250928T080000
DTEND;TZID=America/Edmonton:20250928T170000
DTSTAMP:20260419T201922
CREATED:20250617T221514Z
LAST-MODIFIED:20250617T221516Z
UID:10002825-1759046400-1759078800@www.dewintonca.com
SUMMARY:Event Rental
DESCRIPTION:The De Winton Hall is the perfect place for your party or group event.
URL:https://www.dewintonca.com/event/event-rental-7/
CATEGORIES:Hourly Rental
ATTACH;FMTTYPE=image/jpeg:https://www.dewintonca.com/wp-content/uploads/2025/06/Event-Rental.jpg
END:VEVENT
BEGIN:VEVENT
DTSTART;TZID=America/Edmonton:20250928T130000
DTEND;TZID=America/Edmonton:20250928T163000
DTSTAMP:20260419T201922
CREATED:20250820T000206Z
LAST-MODIFIED:20250820T000609Z
UID:10002833-1759064400-1759077000@www.dewintonca.com
SUMMARY:Midlife Wellness Retreat
DESCRIPTION:
URL:https://www.dewintonca.com/event/midlife-wellness-retreat/
CATEGORIES:Area-events
ATTACH;FMTTYPE=image/png:https://www.dewintonca.com/wp-content/uploads/2025/08/Midlife-Sept-2025.png
ORGANIZER;CN="Foothills Wellness Retreat":MAILTO:info@foothillswellnessretreat.com
END:VEVENT
BEGIN:VEVENT
DTSTART;TZID=America/Edmonton:20250929T093000
DTEND;TZID=America/Edmonton:20250929T101500
DTSTAMP:20260419T201922
CREATED:20250109T215126Z
LAST-MODIFIED:20250125T032655Z
UID:10000892-1759138200-1759140900@www.dewintonca.com
SUMMARY:Stretching/Yoga
DESCRIPTION:Join us every Monday and Thursday from 9:15 to 10:30 am to limber up your joints and slow down your mind.
URL:https://www.dewintonca.com/event/stretching-yoga-2/2025-09-29/
CATEGORIES:Program
ATTACH;FMTTYPE=image/jpeg:https://www.dewintonca.com/wp-content/uploads/2020/08/stretching-e1738681881428.jpg
END:VEVENT
BEGIN:VEVENT
DTSTART;TZID=America/Edmonton:20250929T183000
DTEND;TZID=America/Edmonton:20250929T213000
DTSTAMP:20260419T201922
CREATED:20250204T144249Z
LAST-MODIFIED:20250210T225120Z
UID:10002570-1759170600-1759181400@www.dewintonca.com
SUMMARY:Canasta
DESCRIPTION:Looking to unwind with a fun card game? Join us for Canasta classes every Monday night from 6:30 – 9:30pm! Whether you’re a beginner or a seasoned player\, you’ll learn new strategies\, sharpen your skills\, and have a great time. Best of all—it’s FREE for community members! Grab your cards and come have some fun with us!
URL:https://www.dewintonca.com/event/canasta/2025-09-29/
LOCATION:DeWinton Community Hall\, 114 Macleod Trail E\, DeWinton\, Alberta\, T0L 0X0\, Canada
CATEGORIES:Program
ATTACH;FMTTYPE=image/jpeg:https://www.dewintonca.com/wp-content/uploads/2025/02/CANASTA-Presentation-43.jpg
END:VEVENT
END:VCALENDAR