BEGIN:VCALENDAR
VERSION:2.0
PRODID:-//The DeWinton Community Hall - ECPv6.15.20//NONSGML v1.0//EN
CALSCALE:GREGORIAN
METHOD:PUBLISH
X-ORIGINAL-URL:https://www.dewintonca.com
X-WR-CALDESC:Events for The DeWinton Community Hall
REFRESH-INTERVAL;VALUE=DURATION:PT1H
X-Robots-Tag:noindex
X-PUBLISHED-TTL:PT1H
BEGIN:VTIMEZONE
TZID:America/Edmonton
BEGIN:DAYLIGHT
TZOFFSETFROM:-0700
TZOFFSETTO:-0600
TZNAME:MDT
DTSTART:20240310T090000
END:DAYLIGHT
BEGIN:STANDARD
TZOFFSETFROM:-0600
TZOFFSETTO:-0700
TZNAME:MST
DTSTART:20241103T080000
END:STANDARD
BEGIN:DAYLIGHT
TZOFFSETFROM:-0700
TZOFFSETTO:-0600
TZNAME:MDT
DTSTART:20250309T090000
END:DAYLIGHT
BEGIN:STANDARD
TZOFFSETFROM:-0600
TZOFFSETTO:-0700
TZNAME:MST
DTSTART:20251102T080000
END:STANDARD
BEGIN:DAYLIGHT
TZOFFSETFROM:-0700
TZOFFSETTO:-0600
TZNAME:MDT
DTSTART:20260308T090000
END:DAYLIGHT
BEGIN:STANDARD
TZOFFSETFROM:-0600
TZOFFSETTO:-0700
TZNAME:MST
DTSTART:20261101T080000
END:STANDARD
END:VTIMEZONE
BEGIN:VEVENT
DTSTART;TZID=America/Edmonton:20251106T091500
DTEND;TZID=America/Edmonton:20251106T103000
DTSTAMP:20260420T011025
CREATED:20250109T212155Z
LAST-MODIFIED:20250125T032629Z
UID:10000117-1762420500-1762425000@www.dewintonca.com
SUMMARY:Stretching/Yoga
DESCRIPTION:Join us every Monday and Thursday from 9:15 to 10:30 am to limber up your joints and slow down your mind.
URL:https://www.dewintonca.com/event/stretching-yoga/2025-11-06/
CATEGORIES:Program
ATTACH;FMTTYPE=image/jpeg:https://www.dewintonca.com/wp-content/uploads/2020/08/stretching-e1738681881428.jpg
END:VEVENT
BEGIN:VEVENT
DTSTART;TZID=America/Edmonton:20251109T080000
DTEND;TZID=America/Edmonton:20251109T170000
DTSTAMP:20260420T011025
CREATED:20250617T221702Z
LAST-MODIFIED:20250617T221704Z
UID:10002828-1762675200-1762707600@www.dewintonca.com
SUMMARY:Event Rental
DESCRIPTION:The De Winton Hall is the perfect place for your party or group event.
URL:https://www.dewintonca.com/event/event-rental-10/
CATEGORIES:Hourly Rental
ATTACH;FMTTYPE=image/jpeg:https://www.dewintonca.com/wp-content/uploads/2025/06/Event-Rental.jpg
END:VEVENT
BEGIN:VEVENT
DTSTART;TZID=America/Edmonton:20251110T091500
DTEND;TZID=America/Edmonton:20251110T103000
DTSTAMP:20260420T011025
CREATED:20251104T012604Z
LAST-MODIFIED:20251104T012609Z
UID:10000898-1762766100-1762770600@www.dewintonca.com
SUMMARY:Stretching/Yoga
DESCRIPTION:Join us every Monday and Thursday from 9:15 to 10:30 am to limber up your joints and slow down your mind.
URL:https://www.dewintonca.com/event/stretching-yoga-3/2025-11-10/
CATEGORIES:Program
ATTACH;FMTTYPE=image/jpeg:https://www.dewintonca.com/wp-content/uploads/2020/08/stretching-e1738681881428.jpg
END:VEVENT
BEGIN:VEVENT
DTSTART;TZID=America/Edmonton:20251110T183000
DTEND;TZID=America/Edmonton:20251110T213000
DTSTAMP:20260420T011025
CREATED:20250204T144249Z
LAST-MODIFIED:20250210T225120Z
UID:10002576-1762799400-1762810200@www.dewintonca.com
SUMMARY:Canasta
DESCRIPTION:Looking to unwind with a fun card game? Join us for Canasta classes every Monday night from 6:30 – 9:30pm! Whether you’re a beginner or a seasoned player\, you’ll learn new strategies\, sharpen your skills\, and have a great time. Best of all—it’s FREE for community members! Grab your cards and come have some fun with us!
URL:https://www.dewintonca.com/event/canasta/2025-11-10/
LOCATION:DeWinton Community Hall\, 114 Macleod Trail E\, DeWinton\, Alberta\, T0L 0X0\, Canada
CATEGORIES:Program
ATTACH;FMTTYPE=image/jpeg:https://www.dewintonca.com/wp-content/uploads/2025/02/CANASTA-Presentation-43.jpg
END:VEVENT
BEGIN:VEVENT
DTSTART;TZID=America/Edmonton:20251112T093000
DTEND;TZID=America/Edmonton:20251112T143000
DTSTAMP:20260420T011025
CREATED:20250109T220122Z
LAST-MODIFIED:20250125T032639Z
UID:10001159-1762939800-1762957800@www.dewintonca.com
SUMMARY:Quilting
DESCRIPTION:Free for Members. Drop in with your equipment and supplies
URL:https://www.dewintonca.com/event/quilting/2025-11-12/
CATEGORIES:Program
ATTACH;FMTTYPE=image/jpeg:https://www.dewintonca.com/wp-content/uploads/2021/03/Quilting.jpg
END:VEVENT
BEGIN:VEVENT
DTSTART;TZID=America/Edmonton:20251112T130000
DTEND;TZID=America/Edmonton:20251112T150000
DTSTAMP:20260420T011025
CREATED:20250118T233839Z
LAST-MODIFIED:20250125T032551Z
UID:10001492-1762952400-1762959600@www.dewintonca.com
SUMMARY:Bridge
DESCRIPTION:Join us at the hall for a friendly round or two of Bridge. Free to attend for DCA members
URL:https://www.dewintonca.com/event/bridge/2025-11-12/
CATEGORIES:Program
ATTACH;FMTTYPE=image/jpeg:https://www.dewintonca.com/wp-content/uploads/2025/01/Cards-scaled-e1738682093441.jpg
END:VEVENT
BEGIN:VEVENT
DTSTART;TZID=America/Edmonton:20251113T091500
DTEND;TZID=America/Edmonton:20251113T103000
DTSTAMP:20260420T011025
CREATED:20250109T212155Z
LAST-MODIFIED:20250125T032629Z
UID:10000118-1763025300-1763029800@www.dewintonca.com
SUMMARY:Stretching/Yoga
DESCRIPTION:Join us every Monday and Thursday from 9:15 to 10:30 am to limber up your joints and slow down your mind.
URL:https://www.dewintonca.com/event/stretching-yoga/2025-11-13/
CATEGORIES:Program
ATTACH;FMTTYPE=image/jpeg:https://www.dewintonca.com/wp-content/uploads/2020/08/stretching-e1738681881428.jpg
END:VEVENT
BEGIN:VEVENT
DTSTART;TZID=America/Edmonton:20251117T091500
DTEND;TZID=America/Edmonton:20251117T103000
DTSTAMP:20260420T011025
CREATED:20251104T012604Z
LAST-MODIFIED:20251104T012609Z
UID:10002846-1763370900-1763375400@www.dewintonca.com
SUMMARY:Stretching/Yoga
DESCRIPTION:Join us every Monday and Thursday from 9:15 to 10:30 am to limber up your joints and slow down your mind.
URL:https://www.dewintonca.com/event/stretching-yoga-3/2025-11-17/
CATEGORIES:Program
ATTACH;FMTTYPE=image/jpeg:https://www.dewintonca.com/wp-content/uploads/2020/08/stretching-e1738681881428.jpg
END:VEVENT
BEGIN:VEVENT
DTSTART;TZID=America/Edmonton:20251117T183000
DTEND;TZID=America/Edmonton:20251117T213000
DTSTAMP:20260420T011025
CREATED:20250204T144249Z
LAST-MODIFIED:20250210T225120Z
UID:10002577-1763404200-1763415000@www.dewintonca.com
SUMMARY:Canasta
DESCRIPTION:Looking to unwind with a fun card game? Join us for Canasta classes every Monday night from 6:30 – 9:30pm! Whether you’re a beginner or a seasoned player\, you’ll learn new strategies\, sharpen your skills\, and have a great time. Best of all—it’s FREE for community members! Grab your cards and come have some fun with us!
URL:https://www.dewintonca.com/event/canasta/2025-11-17/
LOCATION:DeWinton Community Hall\, 114 Macleod Trail E\, DeWinton\, Alberta\, T0L 0X0\, Canada
CATEGORIES:Program
ATTACH;FMTTYPE=image/jpeg:https://www.dewintonca.com/wp-content/uploads/2025/02/CANASTA-Presentation-43.jpg
END:VEVENT
BEGIN:VEVENT
DTSTART;TZID=America/Edmonton:20251119T093000
DTEND;TZID=America/Edmonton:20251119T143000
DTSTAMP:20260420T011025
CREATED:20250109T220122Z
LAST-MODIFIED:20250125T032639Z
UID:10001160-1763544600-1763562600@www.dewintonca.com
SUMMARY:Quilting
DESCRIPTION:Free for Members. Drop in with your equipment and supplies
URL:https://www.dewintonca.com/event/quilting/2025-11-19/
CATEGORIES:Program
ATTACH;FMTTYPE=image/jpeg:https://www.dewintonca.com/wp-content/uploads/2021/03/Quilting.jpg
END:VEVENT
BEGIN:VEVENT
DTSTART;TZID=America/Edmonton:20251119T130000
DTEND;TZID=America/Edmonton:20251119T150000
DTSTAMP:20260420T011025
CREATED:20250118T233839Z
LAST-MODIFIED:20250125T032551Z
UID:10001493-1763557200-1763564400@www.dewintonca.com
SUMMARY:Bridge
DESCRIPTION:Join us at the hall for a friendly round or two of Bridge. Free to attend for DCA members
URL:https://www.dewintonca.com/event/bridge/2025-11-19/
CATEGORIES:Program
ATTACH;FMTTYPE=image/jpeg:https://www.dewintonca.com/wp-content/uploads/2025/01/Cards-scaled-e1738682093441.jpg
END:VEVENT
BEGIN:VEVENT
DTSTART;TZID=America/Edmonton:20251120T091500
DTEND;TZID=America/Edmonton:20251120T103000
DTSTAMP:20260420T011025
CREATED:20250109T212155Z
LAST-MODIFIED:20250125T032629Z
UID:10000119-1763630100-1763634600@www.dewintonca.com
SUMMARY:Stretching/Yoga
DESCRIPTION:Join us every Monday and Thursday from 9:15 to 10:30 am to limber up your joints and slow down your mind.
URL:https://www.dewintonca.com/event/stretching-yoga/2025-11-20/
CATEGORIES:Program
ATTACH;FMTTYPE=image/jpeg:https://www.dewintonca.com/wp-content/uploads/2020/08/stretching-e1738681881428.jpg
END:VEVENT
BEGIN:VEVENT
DTSTART;TZID=America/Edmonton:20251122T100000
DTEND;TZID=America/Edmonton:20251122T160000
DTSTAMP:20260420T011025
CREATED:20250618T031713Z
LAST-MODIFIED:20251107T230751Z
UID:10002832-1763805600-1763827200@www.dewintonca.com
SUMMARY:De Winton Christmas Market
DESCRIPTION:Mark your calendars! Join us on Saturday\, November 22\, 2025 for our Community Christmas Market! Browse local vendors\, find unique holiday gifts\, and enjoy a festive day with friends and family. \n\n\n\nEntry is FREE\, so bring your friends and family and kick off the holiday season with us! \n\n\n\nChristmas photos with Lilyfire Photography will be available from 10 am to 1 pm\, and the Calgary Fiddlers will perform at 2:15 and 3 pm.
URL:https://www.dewintonca.com/event/de-winton-christmas-market/
LOCATION:DeWinton Community Hall\, 114 Macleod Trail E\, DeWinton\, Alberta\, T0L 0X0\, Canada
CATEGORIES:Community Event,DCA
ATTACH;FMTTYPE=image/jpeg:https://www.dewintonca.com/wp-content/uploads/2025/06/22-November.jpg
END:VEVENT
BEGIN:VEVENT
DTSTART;TZID=America/Edmonton:20251124T091500
DTEND;TZID=America/Edmonton:20251124T103000
DTSTAMP:20260420T011025
CREATED:20251104T012604Z
LAST-MODIFIED:20251104T012609Z
UID:10002847-1763975700-1763980200@www.dewintonca.com
SUMMARY:Stretching/Yoga
DESCRIPTION:Join us every Monday and Thursday from 9:15 to 10:30 am to limber up your joints and slow down your mind.
URL:https://www.dewintonca.com/event/stretching-yoga-3/2025-11-24/
CATEGORIES:Program
ATTACH;FMTTYPE=image/jpeg:https://www.dewintonca.com/wp-content/uploads/2020/08/stretching-e1738681881428.jpg
END:VEVENT
BEGIN:VEVENT
DTSTART;TZID=America/Edmonton:20251124T183000
DTEND;TZID=America/Edmonton:20251124T213000
DTSTAMP:20260420T011025
CREATED:20250204T144249Z
LAST-MODIFIED:20250210T225120Z
UID:10002578-1764009000-1764019800@www.dewintonca.com
SUMMARY:Canasta
DESCRIPTION:Looking to unwind with a fun card game? Join us for Canasta classes every Monday night from 6:30 – 9:30pm! Whether you’re a beginner or a seasoned player\, you’ll learn new strategies\, sharpen your skills\, and have a great time. Best of all—it’s FREE for community members! Grab your cards and come have some fun with us!
URL:https://www.dewintonca.com/event/canasta/2025-11-24/
LOCATION:DeWinton Community Hall\, 114 Macleod Trail E\, DeWinton\, Alberta\, T0L 0X0\, Canada
CATEGORIES:Program
ATTACH;FMTTYPE=image/jpeg:https://www.dewintonca.com/wp-content/uploads/2025/02/CANASTA-Presentation-43.jpg
END:VEVENT
BEGIN:VEVENT
DTSTART;TZID=America/Edmonton:20251126T093000
DTEND;TZID=America/Edmonton:20251126T143000
DTSTAMP:20260420T011025
CREATED:20250109T220122Z
LAST-MODIFIED:20250125T032639Z
UID:10001161-1764149400-1764167400@www.dewintonca.com
SUMMARY:Quilting
DESCRIPTION:Free for Members. Drop in with your equipment and supplies
URL:https://www.dewintonca.com/event/quilting/2025-11-26/
CATEGORIES:Program
ATTACH;FMTTYPE=image/jpeg:https://www.dewintonca.com/wp-content/uploads/2021/03/Quilting.jpg
END:VEVENT
BEGIN:VEVENT
DTSTART;TZID=America/Edmonton:20251126T130000
DTEND;TZID=America/Edmonton:20251126T150000
DTSTAMP:20260420T011025
CREATED:20250118T233839Z
LAST-MODIFIED:20250125T032551Z
UID:10001494-1764162000-1764169200@www.dewintonca.com
SUMMARY:Bridge
DESCRIPTION:Join us at the hall for a friendly round or two of Bridge. Free to attend for DCA members
URL:https://www.dewintonca.com/event/bridge/2025-11-26/
CATEGORIES:Program
ATTACH;FMTTYPE=image/jpeg:https://www.dewintonca.com/wp-content/uploads/2025/01/Cards-scaled-e1738682093441.jpg
END:VEVENT
BEGIN:VEVENT
DTSTART;TZID=America/Edmonton:20251127T091500
DTEND;TZID=America/Edmonton:20251127T103000
DTSTAMP:20260420T011025
CREATED:20250109T212155Z
LAST-MODIFIED:20250125T032629Z
UID:10000120-1764234900-1764239400@www.dewintonca.com
SUMMARY:Stretching/Yoga
DESCRIPTION:Join us every Monday and Thursday from 9:15 to 10:30 am to limber up your joints and slow down your mind.
URL:https://www.dewintonca.com/event/stretching-yoga/2025-11-27/
CATEGORIES:Program
ATTACH;FMTTYPE=image/jpeg:https://www.dewintonca.com/wp-content/uploads/2020/08/stretching-e1738681881428.jpg
END:VEVENT
BEGIN:VEVENT
DTSTART;TZID=America/Edmonton:20251201T091500
DTEND;TZID=America/Edmonton:20251201T103000
DTSTAMP:20260420T011025
CREATED:20251104T012604Z
LAST-MODIFIED:20251104T012609Z
UID:10002848-1764580500-1764585000@www.dewintonca.com
SUMMARY:Stretching/Yoga
DESCRIPTION:Join us every Monday and Thursday from 9:15 to 10:30 am to limber up your joints and slow down your mind.
URL:https://www.dewintonca.com/event/stretching-yoga-3/2025-12-01/
CATEGORIES:Program
ATTACH;FMTTYPE=image/jpeg:https://www.dewintonca.com/wp-content/uploads/2020/08/stretching-e1738681881428.jpg
END:VEVENT
BEGIN:VEVENT
DTSTART;TZID=America/Edmonton:20251201T183000
DTEND;TZID=America/Edmonton:20251201T213000
DTSTAMP:20260420T011025
CREATED:20250204T144249Z
LAST-MODIFIED:20250210T225120Z
UID:10002579-1764613800-1764624600@www.dewintonca.com
SUMMARY:Canasta
DESCRIPTION:Looking to unwind with a fun card game? Join us for Canasta classes every Monday night from 6:30 – 9:30pm! Whether you’re a beginner or a seasoned player\, you’ll learn new strategies\, sharpen your skills\, and have a great time. Best of all—it’s FREE for community members! Grab your cards and come have some fun with us!
URL:https://www.dewintonca.com/event/canasta/2025-12-01/
LOCATION:DeWinton Community Hall\, 114 Macleod Trail E\, DeWinton\, Alberta\, T0L 0X0\, Canada
CATEGORIES:Program
ATTACH;FMTTYPE=image/jpeg:https://www.dewintonca.com/wp-content/uploads/2025/02/CANASTA-Presentation-43.jpg
END:VEVENT
BEGIN:VEVENT
DTSTART;TZID=America/Edmonton:20251203T093000
DTEND;TZID=America/Edmonton:20251203T143000
DTSTAMP:20260420T011025
CREATED:20250109T220122Z
LAST-MODIFIED:20250125T032639Z
UID:10001162-1764754200-1764772200@www.dewintonca.com
SUMMARY:Quilting
DESCRIPTION:Free for Members. Drop in with your equipment and supplies
URL:https://www.dewintonca.com/event/quilting/2025-12-03/
CATEGORIES:Program
ATTACH;FMTTYPE=image/jpeg:https://www.dewintonca.com/wp-content/uploads/2021/03/Quilting.jpg
END:VEVENT
BEGIN:VEVENT
DTSTART;TZID=America/Edmonton:20251203T130000
DTEND;TZID=America/Edmonton:20251203T150000
DTSTAMP:20260420T011025
CREATED:20250118T233839Z
LAST-MODIFIED:20250125T032551Z
UID:10001495-1764766800-1764774000@www.dewintonca.com
SUMMARY:Bridge
DESCRIPTION:Join us at the hall for a friendly round or two of Bridge. Free to attend for DCA members
URL:https://www.dewintonca.com/event/bridge/2025-12-03/
CATEGORIES:Program
ATTACH;FMTTYPE=image/jpeg:https://www.dewintonca.com/wp-content/uploads/2025/01/Cards-scaled-e1738682093441.jpg
END:VEVENT
BEGIN:VEVENT
DTSTART;TZID=America/Edmonton:20251204T091500
DTEND;TZID=America/Edmonton:20251204T103000
DTSTAMP:20260420T011025
CREATED:20250109T212155Z
LAST-MODIFIED:20250125T032629Z
UID:10000121-1764839700-1764844200@www.dewintonca.com
SUMMARY:Stretching/Yoga
DESCRIPTION:Join us every Monday and Thursday from 9:15 to 10:30 am to limber up your joints and slow down your mind.
URL:https://www.dewintonca.com/event/stretching-yoga/2025-12-04/
CATEGORIES:Program
ATTACH;FMTTYPE=image/jpeg:https://www.dewintonca.com/wp-content/uploads/2020/08/stretching-e1738681881428.jpg
END:VEVENT
BEGIN:VEVENT
DTSTART;TZID=America/Edmonton:20251208T091500
DTEND;TZID=America/Edmonton:20251208T103000
DTSTAMP:20260420T011025
CREATED:20251104T012604Z
LAST-MODIFIED:20251104T012609Z
UID:10002849-1765185300-1765189800@www.dewintonca.com
SUMMARY:Stretching/Yoga
DESCRIPTION:Join us every Monday and Thursday from 9:15 to 10:30 am to limber up your joints and slow down your mind.
URL:https://www.dewintonca.com/event/stretching-yoga-3/2025-12-08/
CATEGORIES:Program
ATTACH;FMTTYPE=image/jpeg:https://www.dewintonca.com/wp-content/uploads/2020/08/stretching-e1738681881428.jpg
END:VEVENT
BEGIN:VEVENT
DTSTART;TZID=America/Edmonton:20251208T183000
DTEND;TZID=America/Edmonton:20251208T213000
DTSTAMP:20260420T011025
CREATED:20250204T144249Z
LAST-MODIFIED:20250210T225120Z
UID:10002580-1765218600-1765229400@www.dewintonca.com
SUMMARY:Canasta
DESCRIPTION:Looking to unwind with a fun card game? Join us for Canasta classes every Monday night from 6:30 – 9:30pm! Whether you’re a beginner or a seasoned player\, you’ll learn new strategies\, sharpen your skills\, and have a great time. Best of all—it’s FREE for community members! Grab your cards and come have some fun with us!
URL:https://www.dewintonca.com/event/canasta/2025-12-08/
LOCATION:DeWinton Community Hall\, 114 Macleod Trail E\, DeWinton\, Alberta\, T0L 0X0\, Canada
CATEGORIES:Program
ATTACH;FMTTYPE=image/jpeg:https://www.dewintonca.com/wp-content/uploads/2025/02/CANASTA-Presentation-43.jpg
END:VEVENT
BEGIN:VEVENT
DTSTART;TZID=America/Edmonton:20251210T093000
DTEND;TZID=America/Edmonton:20251210T143000
DTSTAMP:20260420T011025
CREATED:20250109T220122Z
LAST-MODIFIED:20250125T032639Z
UID:10001163-1765359000-1765377000@www.dewintonca.com
SUMMARY:Quilting
DESCRIPTION:Free for Members. Drop in with your equipment and supplies
URL:https://www.dewintonca.com/event/quilting/2025-12-10/
CATEGORIES:Program
ATTACH;FMTTYPE=image/jpeg:https://www.dewintonca.com/wp-content/uploads/2021/03/Quilting.jpg
END:VEVENT
BEGIN:VEVENT
DTSTART;TZID=America/Edmonton:20251210T130000
DTEND;TZID=America/Edmonton:20251210T150000
DTSTAMP:20260420T011025
CREATED:20250118T233839Z
LAST-MODIFIED:20250125T032551Z
UID:10001496-1765371600-1765378800@www.dewintonca.com
SUMMARY:Bridge
DESCRIPTION:Join us at the hall for a friendly round or two of Bridge. Free to attend for DCA members
URL:https://www.dewintonca.com/event/bridge/2025-12-10/
CATEGORIES:Program
ATTACH;FMTTYPE=image/jpeg:https://www.dewintonca.com/wp-content/uploads/2025/01/Cards-scaled-e1738682093441.jpg
END:VEVENT
BEGIN:VEVENT
DTSTART;TZID=America/Edmonton:20251211T091500
DTEND;TZID=America/Edmonton:20251211T103000
DTSTAMP:20260420T011025
CREATED:20250109T212155Z
LAST-MODIFIED:20250125T032629Z
UID:10000122-1765444500-1765449000@www.dewintonca.com
SUMMARY:Stretching/Yoga
DESCRIPTION:Join us every Monday and Thursday from 9:15 to 10:30 am to limber up your joints and slow down your mind.
URL:https://www.dewintonca.com/event/stretching-yoga/2025-12-11/
CATEGORIES:Program
ATTACH;FMTTYPE=image/jpeg:https://www.dewintonca.com/wp-content/uploads/2020/08/stretching-e1738681881428.jpg
END:VEVENT
BEGIN:VEVENT
DTSTART;TZID=America/Edmonton:20251214T120000
DTEND;TZID=America/Edmonton:20251214T170000
DTSTAMP:20260420T011025
CREATED:20251210T021023Z
LAST-MODIFIED:20251210T023158Z
UID:10003107-1765713600-1765731600@www.dewintonca.com
SUMMARY:Event Rental
DESCRIPTION:
URL:https://www.dewintonca.com/event/hourly-rental-2/
ATTACH;FMTTYPE=image/jpeg:https://www.dewintonca.com/wp-content/uploads/2025/06/Event-Rental.jpg
END:VEVENT
BEGIN:VEVENT
DTSTART;TZID=America/Edmonton:20251215T091500
DTEND;TZID=America/Edmonton:20251215T103000
DTSTAMP:20260420T011025
CREATED:20251104T012604Z
LAST-MODIFIED:20251104T012609Z
UID:10002850-1765790100-1765794600@www.dewintonca.com
SUMMARY:Stretching/Yoga
DESCRIPTION:Join us every Monday and Thursday from 9:15 to 10:30 am to limber up your joints and slow down your mind.
URL:https://www.dewintonca.com/event/stretching-yoga-3/2025-12-15/
CATEGORIES:Program
ATTACH;FMTTYPE=image/jpeg:https://www.dewintonca.com/wp-content/uploads/2020/08/stretching-e1738681881428.jpg
END:VEVENT
END:VCALENDAR