BEGIN:VCALENDAR
VERSION:2.0
PRODID:-//The DeWinton Community Hall - ECPv6.15.20//NONSGML v1.0//EN
CALSCALE:GREGORIAN
METHOD:PUBLISH
X-ORIGINAL-URL:https://www.dewintonca.com
X-WR-CALDESC:Events for The DeWinton Community Hall
REFRESH-INTERVAL;VALUE=DURATION:PT1H
X-Robots-Tag:noindex
X-PUBLISHED-TTL:PT1H
BEGIN:VTIMEZONE
TZID:America/Edmonton
BEGIN:DAYLIGHT
TZOFFSETFROM:-0700
TZOFFSETTO:-0600
TZNAME:MDT
DTSTART:20240310T090000
END:DAYLIGHT
BEGIN:STANDARD
TZOFFSETFROM:-0600
TZOFFSETTO:-0700
TZNAME:MST
DTSTART:20241103T080000
END:STANDARD
BEGIN:DAYLIGHT
TZOFFSETFROM:-0700
TZOFFSETTO:-0600
TZNAME:MDT
DTSTART:20250309T090000
END:DAYLIGHT
BEGIN:STANDARD
TZOFFSETFROM:-0600
TZOFFSETTO:-0700
TZNAME:MST
DTSTART:20251102T080000
END:STANDARD
BEGIN:DAYLIGHT
TZOFFSETFROM:-0700
TZOFFSETTO:-0600
TZNAME:MDT
DTSTART:20260308T090000
END:DAYLIGHT
BEGIN:STANDARD
TZOFFSETFROM:-0600
TZOFFSETTO:-0700
TZNAME:MST
DTSTART:20261101T080000
END:STANDARD
END:VTIMEZONE
BEGIN:VEVENT
DTSTART;TZID=America/Edmonton:20250802T080000
DTEND;TZID=America/Edmonton:20250803T100000
DTSTAMP:20260419T215300
CREATED:20250617T153744Z
LAST-MODIFIED:20250617T153746Z
UID:10002807-1754121600-1754215200@www.dewintonca.com
SUMMARY:Wedding Booking
DESCRIPTION:The De Winton Hall is a great venue for your wedding or other group event!
URL:https://www.dewintonca.com/event/wedding-booking-4/
ATTACH;FMTTYPE=image/jpeg:https://www.dewintonca.com/wp-content/uploads/2024/09/Wedding-Rental.jpg
END:VEVENT
BEGIN:VEVENT
DTSTART;TZID=America/Edmonton:20250803T080000
DTEND;TZID=America/Edmonton:20250803T170000
DTSTAMP:20260419T215300
CREATED:20250617T221359Z
LAST-MODIFIED:20250617T221400Z
UID:10002823-1754208000-1754240400@www.dewintonca.com
SUMMARY:Event Rental
DESCRIPTION:The De Winton Hall is the perfect place for your party or group event.
URL:https://www.dewintonca.com/event/event-rental-5/
CATEGORIES:Hourly Rental
ATTACH;FMTTYPE=image/jpeg:https://www.dewintonca.com/wp-content/uploads/2025/06/Event-Rental.jpg
END:VEVENT
BEGIN:VEVENT
DTSTART;TZID=America/Edmonton:20250804T093000
DTEND;TZID=America/Edmonton:20250804T101500
DTSTAMP:20260419T215300
CREATED:20250109T215126Z
LAST-MODIFIED:20250125T032655Z
UID:10000884-1754299800-1754302500@www.dewintonca.com
SUMMARY:Stretching/Yoga
DESCRIPTION:Join us every Monday and Thursday from 9:15 to 10:30 am to limber up your joints and slow down your mind.
URL:https://www.dewintonca.com/event/stretching-yoga-2/2025-08-04/
CATEGORIES:Program
ATTACH;FMTTYPE=image/jpeg:https://www.dewintonca.com/wp-content/uploads/2020/08/stretching-e1738681881428.jpg
END:VEVENT
BEGIN:VEVENT
DTSTART;TZID=America/Edmonton:20250804T183000
DTEND;TZID=America/Edmonton:20250804T213000
DTSTAMP:20260419T215300
CREATED:20250204T144249Z
LAST-MODIFIED:20250210T225120Z
UID:10002562-1754332200-1754343000@www.dewintonca.com
SUMMARY:Canasta
DESCRIPTION:Looking to unwind with a fun card game? Join us for Canasta classes every Monday night from 6:30 – 9:30pm! Whether you’re a beginner or a seasoned player\, you’ll learn new strategies\, sharpen your skills\, and have a great time. Best of all—it’s FREE for community members! Grab your cards and come have some fun with us!
URL:https://www.dewintonca.com/event/canasta/2025-08-04/
LOCATION:DeWinton Community Hall\, 114 Macleod Trail E\, DeWinton\, Alberta\, T0L 0X0\, Canada
CATEGORIES:Program
ATTACH;FMTTYPE=image/jpeg:https://www.dewintonca.com/wp-content/uploads/2025/02/CANASTA-Presentation-43.jpg
END:VEVENT
BEGIN:VEVENT
DTSTART;TZID=America/Edmonton:20250806T093000
DTEND;TZID=America/Edmonton:20250806T143000
DTSTAMP:20260419T215300
CREATED:20250109T220122Z
LAST-MODIFIED:20250125T032639Z
UID:10001145-1754472600-1754490600@www.dewintonca.com
SUMMARY:Quilting
DESCRIPTION:Free for Members. Drop in with your equipment and supplies
URL:https://www.dewintonca.com/event/quilting/2025-08-06/
CATEGORIES:Program
ATTACH;FMTTYPE=image/jpeg:https://www.dewintonca.com/wp-content/uploads/2021/03/Quilting.jpg
END:VEVENT
BEGIN:VEVENT
DTSTART;TZID=America/Edmonton:20250806T130000
DTEND;TZID=America/Edmonton:20250806T150000
DTSTAMP:20260419T215300
CREATED:20250118T233839Z
LAST-MODIFIED:20250125T032551Z
UID:10001478-1754485200-1754492400@www.dewintonca.com
SUMMARY:Bridge
DESCRIPTION:Join us at the hall for a friendly round or two of Bridge. Free to attend for DCA members
URL:https://www.dewintonca.com/event/bridge/2025-08-06/
CATEGORIES:Program
ATTACH;FMTTYPE=image/jpeg:https://www.dewintonca.com/wp-content/uploads/2025/01/Cards-scaled-e1738682093441.jpg
END:VEVENT
BEGIN:VEVENT
DTSTART;TZID=America/Edmonton:20250807T091500
DTEND;TZID=America/Edmonton:20250807T103000
DTSTAMP:20260419T215300
CREATED:20250109T212155Z
LAST-MODIFIED:20250125T032629Z
UID:10000104-1754558100-1754562600@www.dewintonca.com
SUMMARY:Stretching/Yoga
DESCRIPTION:Join us every Monday and Thursday from 9:15 to 10:30 am to limber up your joints and slow down your mind.
URL:https://www.dewintonca.com/event/stretching-yoga/2025-08-07/
CATEGORIES:Program
ATTACH;FMTTYPE=image/jpeg:https://www.dewintonca.com/wp-content/uploads/2020/08/stretching-e1738681881428.jpg
END:VEVENT
BEGIN:VEVENT
DTSTART;TZID=America/Edmonton:20250809T080000
DTEND;TZID=America/Edmonton:20250810T100000
DTSTAMP:20260419T215300
CREATED:20250617T153850Z
LAST-MODIFIED:20250617T153852Z
UID:10002808-1754726400-1754820000@www.dewintonca.com
SUMMARY:Wedding Booking
DESCRIPTION:The De Winton Hall is a great venue for your wedding or other group event!
URL:https://www.dewintonca.com/event/wedding-booking-5/
ATTACH;FMTTYPE=image/jpeg:https://www.dewintonca.com/wp-content/uploads/2024/09/Wedding-Rental.jpg
END:VEVENT
BEGIN:VEVENT
DTSTART;TZID=America/Edmonton:20250811T093000
DTEND;TZID=America/Edmonton:20250811T101500
DTSTAMP:20260419T215300
CREATED:20250109T215126Z
LAST-MODIFIED:20250125T032655Z
UID:10000885-1754904600-1754907300@www.dewintonca.com
SUMMARY:Stretching/Yoga
DESCRIPTION:Join us every Monday and Thursday from 9:15 to 10:30 am to limber up your joints and slow down your mind.
URL:https://www.dewintonca.com/event/stretching-yoga-2/2025-08-11/
CATEGORIES:Program
ATTACH;FMTTYPE=image/jpeg:https://www.dewintonca.com/wp-content/uploads/2020/08/stretching-e1738681881428.jpg
END:VEVENT
BEGIN:VEVENT
DTSTART;TZID=America/Edmonton:20250811T183000
DTEND;TZID=America/Edmonton:20250811T213000
DTSTAMP:20260419T215300
CREATED:20250204T144249Z
LAST-MODIFIED:20250210T225120Z
UID:10002563-1754937000-1754947800@www.dewintonca.com
SUMMARY:Canasta
DESCRIPTION:Looking to unwind with a fun card game? Join us for Canasta classes every Monday night from 6:30 – 9:30pm! Whether you’re a beginner or a seasoned player\, you’ll learn new strategies\, sharpen your skills\, and have a great time. Best of all—it’s FREE for community members! Grab your cards and come have some fun with us!
URL:https://www.dewintonca.com/event/canasta/2025-08-11/
LOCATION:DeWinton Community Hall\, 114 Macleod Trail E\, DeWinton\, Alberta\, T0L 0X0\, Canada
CATEGORIES:Program
ATTACH;FMTTYPE=image/jpeg:https://www.dewintonca.com/wp-content/uploads/2025/02/CANASTA-Presentation-43.jpg
END:VEVENT
BEGIN:VEVENT
DTSTART;TZID=America/Edmonton:20250813T093000
DTEND;TZID=America/Edmonton:20250813T143000
DTSTAMP:20260419T215300
CREATED:20250109T220122Z
LAST-MODIFIED:20250125T032639Z
UID:10001146-1755077400-1755095400@www.dewintonca.com
SUMMARY:Quilting
DESCRIPTION:Free for Members. Drop in with your equipment and supplies
URL:https://www.dewintonca.com/event/quilting/2025-08-13/
CATEGORIES:Program
ATTACH;FMTTYPE=image/jpeg:https://www.dewintonca.com/wp-content/uploads/2021/03/Quilting.jpg
END:VEVENT
BEGIN:VEVENT
DTSTART;TZID=America/Edmonton:20250813T130000
DTEND;TZID=America/Edmonton:20250813T150000
DTSTAMP:20260419T215300
CREATED:20250118T233839Z
LAST-MODIFIED:20250125T032551Z
UID:10001479-1755090000-1755097200@www.dewintonca.com
SUMMARY:Bridge
DESCRIPTION:Join us at the hall for a friendly round or two of Bridge. Free to attend for DCA members
URL:https://www.dewintonca.com/event/bridge/2025-08-13/
CATEGORIES:Program
ATTACH;FMTTYPE=image/jpeg:https://www.dewintonca.com/wp-content/uploads/2025/01/Cards-scaled-e1738682093441.jpg
END:VEVENT
BEGIN:VEVENT
DTSTART;TZID=America/Edmonton:20250814T091500
DTEND;TZID=America/Edmonton:20250814T103000
DTSTAMP:20260419T215300
CREATED:20250109T212155Z
LAST-MODIFIED:20250125T032629Z
UID:10000105-1755162900-1755167400@www.dewintonca.com
SUMMARY:Stretching/Yoga
DESCRIPTION:Join us every Monday and Thursday from 9:15 to 10:30 am to limber up your joints and slow down your mind.
URL:https://www.dewintonca.com/event/stretching-yoga/2025-08-14/
CATEGORIES:Program
ATTACH;FMTTYPE=image/jpeg:https://www.dewintonca.com/wp-content/uploads/2020/08/stretching-e1738681881428.jpg
END:VEVENT
BEGIN:VEVENT
DTSTART;TZID=America/Edmonton:20250816T080000
DTEND;TZID=America/Edmonton:20250817T100000
DTSTAMP:20260419T215300
CREATED:20250617T153926Z
LAST-MODIFIED:20250617T153928Z
UID:10002809-1755331200-1755424800@www.dewintonca.com
SUMMARY:Wedding Booking
DESCRIPTION:The De Winton Hall is a great venue for your wedding or other group event!
URL:https://www.dewintonca.com/event/wedding-booking-6/
ATTACH;FMTTYPE=image/jpeg:https://www.dewintonca.com/wp-content/uploads/2024/09/Wedding-Rental.jpg
END:VEVENT
BEGIN:VEVENT
DTSTART;TZID=America/Edmonton:20250818T093000
DTEND;TZID=America/Edmonton:20250818T101500
DTSTAMP:20260419T215300
CREATED:20250109T215126Z
LAST-MODIFIED:20250125T032655Z
UID:10000886-1755509400-1755512100@www.dewintonca.com
SUMMARY:Stretching/Yoga
DESCRIPTION:Join us every Monday and Thursday from 9:15 to 10:30 am to limber up your joints and slow down your mind.
URL:https://www.dewintonca.com/event/stretching-yoga-2/2025-08-18/
CATEGORIES:Program
ATTACH;FMTTYPE=image/jpeg:https://www.dewintonca.com/wp-content/uploads/2020/08/stretching-e1738681881428.jpg
END:VEVENT
BEGIN:VEVENT
DTSTART;TZID=America/Edmonton:20250818T183000
DTEND;TZID=America/Edmonton:20250818T213000
DTSTAMP:20260419T215300
CREATED:20250204T144249Z
LAST-MODIFIED:20250210T225120Z
UID:10002564-1755541800-1755552600@www.dewintonca.com
SUMMARY:Canasta
DESCRIPTION:Looking to unwind with a fun card game? Join us for Canasta classes every Monday night from 6:30 – 9:30pm! Whether you’re a beginner or a seasoned player\, you’ll learn new strategies\, sharpen your skills\, and have a great time. Best of all—it’s FREE for community members! Grab your cards and come have some fun with us!
URL:https://www.dewintonca.com/event/canasta/2025-08-18/
LOCATION:DeWinton Community Hall\, 114 Macleod Trail E\, DeWinton\, Alberta\, T0L 0X0\, Canada
CATEGORIES:Program
ATTACH;FMTTYPE=image/jpeg:https://www.dewintonca.com/wp-content/uploads/2025/02/CANASTA-Presentation-43.jpg
END:VEVENT
BEGIN:VEVENT
DTSTART;TZID=America/Edmonton:20250820T093000
DTEND;TZID=America/Edmonton:20250820T143000
DTSTAMP:20260419T215300
CREATED:20250109T220122Z
LAST-MODIFIED:20250125T032639Z
UID:10001147-1755682200-1755700200@www.dewintonca.com
SUMMARY:Quilting
DESCRIPTION:Free for Members. Drop in with your equipment and supplies
URL:https://www.dewintonca.com/event/quilting/2025-08-20/
CATEGORIES:Program
ATTACH;FMTTYPE=image/jpeg:https://www.dewintonca.com/wp-content/uploads/2021/03/Quilting.jpg
END:VEVENT
BEGIN:VEVENT
DTSTART;TZID=America/Edmonton:20250820T130000
DTEND;TZID=America/Edmonton:20250820T150000
DTSTAMP:20260419T215300
CREATED:20250118T233839Z
LAST-MODIFIED:20250125T032551Z
UID:10001480-1755694800-1755702000@www.dewintonca.com
SUMMARY:Bridge
DESCRIPTION:Join us at the hall for a friendly round or two of Bridge. Free to attend for DCA members
URL:https://www.dewintonca.com/event/bridge/2025-08-20/
CATEGORIES:Program
ATTACH;FMTTYPE=image/jpeg:https://www.dewintonca.com/wp-content/uploads/2025/01/Cards-scaled-e1738682093441.jpg
END:VEVENT
BEGIN:VEVENT
DTSTART;TZID=America/Edmonton:20250821T091500
DTEND;TZID=America/Edmonton:20250821T103000
DTSTAMP:20260419T215300
CREATED:20250109T212155Z
LAST-MODIFIED:20250125T032629Z
UID:10000106-1755767700-1755772200@www.dewintonca.com
SUMMARY:Stretching/Yoga
DESCRIPTION:Join us every Monday and Thursday from 9:15 to 10:30 am to limber up your joints and slow down your mind.
URL:https://www.dewintonca.com/event/stretching-yoga/2025-08-21/
CATEGORIES:Program
ATTACH;FMTTYPE=image/jpeg:https://www.dewintonca.com/wp-content/uploads/2020/08/stretching-e1738681881428.jpg
END:VEVENT
BEGIN:VEVENT
DTSTART;TZID=America/Edmonton:20250823T080000
DTEND;TZID=America/Edmonton:20250824T100000
DTSTAMP:20260419T215300
CREATED:20250617T154316Z
LAST-MODIFIED:20250617T154909Z
UID:10002810-1755936000-1756029600@www.dewintonca.com
SUMMARY:Wedding Booking
DESCRIPTION:The De Winton Hall is a great venue for your wedding or other group event!
URL:https://www.dewintonca.com/event/wedding-booking-7/
ATTACH;FMTTYPE=image/jpeg:https://www.dewintonca.com/wp-content/uploads/2024/09/Wedding-Rental.jpg
END:VEVENT
BEGIN:VEVENT
DTSTART;TZID=America/Edmonton:20250825T093000
DTEND;TZID=America/Edmonton:20250825T101500
DTSTAMP:20260419T215300
CREATED:20250109T215126Z
LAST-MODIFIED:20250125T032655Z
UID:10000887-1756114200-1756116900@www.dewintonca.com
SUMMARY:Stretching/Yoga
DESCRIPTION:Join us every Monday and Thursday from 9:15 to 10:30 am to limber up your joints and slow down your mind.
URL:https://www.dewintonca.com/event/stretching-yoga-2/2025-08-25/
CATEGORIES:Program
ATTACH;FMTTYPE=image/jpeg:https://www.dewintonca.com/wp-content/uploads/2020/08/stretching-e1738681881428.jpg
END:VEVENT
BEGIN:VEVENT
DTSTART;TZID=America/Edmonton:20250825T183000
DTEND;TZID=America/Edmonton:20250825T213000
DTSTAMP:20260419T215300
CREATED:20250204T144249Z
LAST-MODIFIED:20250210T225120Z
UID:10002565-1756146600-1756157400@www.dewintonca.com
SUMMARY:Canasta
DESCRIPTION:Looking to unwind with a fun card game? Join us for Canasta classes every Monday night from 6:30 – 9:30pm! Whether you’re a beginner or a seasoned player\, you’ll learn new strategies\, sharpen your skills\, and have a great time. Best of all—it’s FREE for community members! Grab your cards and come have some fun with us!
URL:https://www.dewintonca.com/event/canasta/2025-08-25/
LOCATION:DeWinton Community Hall\, 114 Macleod Trail E\, DeWinton\, Alberta\, T0L 0X0\, Canada
CATEGORIES:Program
ATTACH;FMTTYPE=image/jpeg:https://www.dewintonca.com/wp-content/uploads/2025/02/CANASTA-Presentation-43.jpg
END:VEVENT
BEGIN:VEVENT
DTSTART;TZID=America/Edmonton:20250827T093000
DTEND;TZID=America/Edmonton:20250827T143000
DTSTAMP:20260419T215300
CREATED:20250109T220122Z
LAST-MODIFIED:20250125T032639Z
UID:10001148-1756287000-1756305000@www.dewintonca.com
SUMMARY:Quilting
DESCRIPTION:Free for Members. Drop in with your equipment and supplies
URL:https://www.dewintonca.com/event/quilting/2025-08-27/
CATEGORIES:Program
ATTACH;FMTTYPE=image/jpeg:https://www.dewintonca.com/wp-content/uploads/2021/03/Quilting.jpg
END:VEVENT
BEGIN:VEVENT
DTSTART;TZID=America/Edmonton:20250827T130000
DTEND;TZID=America/Edmonton:20250827T150000
DTSTAMP:20260419T215300
CREATED:20250118T233839Z
LAST-MODIFIED:20250125T032551Z
UID:10001481-1756299600-1756306800@www.dewintonca.com
SUMMARY:Bridge
DESCRIPTION:Join us at the hall for a friendly round or two of Bridge. Free to attend for DCA members
URL:https://www.dewintonca.com/event/bridge/2025-08-27/
CATEGORIES:Program
ATTACH;FMTTYPE=image/jpeg:https://www.dewintonca.com/wp-content/uploads/2025/01/Cards-scaled-e1738682093441.jpg
END:VEVENT
BEGIN:VEVENT
DTSTART;TZID=America/Edmonton:20250828T091500
DTEND;TZID=America/Edmonton:20250828T103000
DTSTAMP:20260419T215300
CREATED:20250109T212155Z
LAST-MODIFIED:20250125T032629Z
UID:10000107-1756372500-1756377000@www.dewintonca.com
SUMMARY:Stretching/Yoga
DESCRIPTION:Join us every Monday and Thursday from 9:15 to 10:30 am to limber up your joints and slow down your mind.
URL:https://www.dewintonca.com/event/stretching-yoga/2025-08-28/
CATEGORIES:Program
ATTACH;FMTTYPE=image/jpeg:https://www.dewintonca.com/wp-content/uploads/2020/08/stretching-e1738681881428.jpg
END:VEVENT
BEGIN:VEVENT
DTSTART;TZID=America/Edmonton:20250830T080000
DTEND;TZID=America/Edmonton:20250831T100000
DTSTAMP:20260419T215300
CREATED:20250617T154944Z
LAST-MODIFIED:20250617T154946Z
UID:10002812-1756540800-1756634400@www.dewintonca.com
SUMMARY:Wedding Booking
DESCRIPTION:The De Winton Hall is a great venue for your wedding or other group event!
URL:https://www.dewintonca.com/event/wedding-booking-8/
ATTACH;FMTTYPE=image/jpeg:https://www.dewintonca.com/wp-content/uploads/2024/09/Wedding-Rental.jpg
END:VEVENT
BEGIN:VEVENT
DTSTART;TZID=America/Edmonton:20250901T093000
DTEND;TZID=America/Edmonton:20250901T101500
DTSTAMP:20260419T215300
CREATED:20250109T215126Z
LAST-MODIFIED:20250125T032655Z
UID:10000888-1756719000-1756721700@www.dewintonca.com
SUMMARY:Stretching/Yoga
DESCRIPTION:Join us every Monday and Thursday from 9:15 to 10:30 am to limber up your joints and slow down your mind.
URL:https://www.dewintonca.com/event/stretching-yoga-2/2025-09-01/
CATEGORIES:Program
ATTACH;FMTTYPE=image/jpeg:https://www.dewintonca.com/wp-content/uploads/2020/08/stretching-e1738681881428.jpg
END:VEVENT
BEGIN:VEVENT
DTSTART;TZID=America/Edmonton:20250901T183000
DTEND;TZID=America/Edmonton:20250901T213000
DTSTAMP:20260419T215300
CREATED:20250204T144249Z
LAST-MODIFIED:20250210T225120Z
UID:10002566-1756751400-1756762200@www.dewintonca.com
SUMMARY:Canasta
DESCRIPTION:Looking to unwind with a fun card game? Join us for Canasta classes every Monday night from 6:30 – 9:30pm! Whether you’re a beginner or a seasoned player\, you’ll learn new strategies\, sharpen your skills\, and have a great time. Best of all—it’s FREE for community members! Grab your cards and come have some fun with us!
URL:https://www.dewintonca.com/event/canasta/2025-09-01/
LOCATION:DeWinton Community Hall\, 114 Macleod Trail E\, DeWinton\, Alberta\, T0L 0X0\, Canada
CATEGORIES:Program
ATTACH;FMTTYPE=image/jpeg:https://www.dewintonca.com/wp-content/uploads/2025/02/CANASTA-Presentation-43.jpg
END:VEVENT
BEGIN:VEVENT
DTSTART;TZID=America/Edmonton:20250903T093000
DTEND;TZID=America/Edmonton:20250903T143000
DTSTAMP:20260419T215300
CREATED:20250109T220122Z
LAST-MODIFIED:20250125T032639Z
UID:10001149-1756891800-1756909800@www.dewintonca.com
SUMMARY:Quilting
DESCRIPTION:Free for Members. Drop in with your equipment and supplies
URL:https://www.dewintonca.com/event/quilting/2025-09-03/
CATEGORIES:Program
ATTACH;FMTTYPE=image/jpeg:https://www.dewintonca.com/wp-content/uploads/2021/03/Quilting.jpg
END:VEVENT
BEGIN:VEVENT
DTSTART;TZID=America/Edmonton:20250903T130000
DTEND;TZID=America/Edmonton:20250903T150000
DTSTAMP:20260419T215300
CREATED:20250118T233839Z
LAST-MODIFIED:20250125T032551Z
UID:10001482-1756904400-1756911600@www.dewintonca.com
SUMMARY:Bridge
DESCRIPTION:Join us at the hall for a friendly round or two of Bridge. Free to attend for DCA members
URL:https://www.dewintonca.com/event/bridge/2025-09-03/
CATEGORIES:Program
ATTACH;FMTTYPE=image/jpeg:https://www.dewintonca.com/wp-content/uploads/2025/01/Cards-scaled-e1738682093441.jpg
END:VEVENT
END:VCALENDAR