BEGIN:VCALENDAR
VERSION:2.0
PRODID:-//The DeWinton Community Hall - ECPv6.15.20//NONSGML v1.0//EN
CALSCALE:GREGORIAN
METHOD:PUBLISH
X-WR-CALNAME:The DeWinton Community Hall
X-ORIGINAL-URL:https://www.dewintonca.com
X-WR-CALDESC:Events for The DeWinton Community Hall
REFRESH-INTERVAL;VALUE=DURATION:PT1H
X-Robots-Tag:noindex
X-PUBLISHED-TTL:PT1H
BEGIN:VTIMEZONE
TZID:America/Edmonton
BEGIN:DAYLIGHT
TZOFFSETFROM:-0700
TZOFFSETTO:-0600
TZNAME:MDT
DTSTART:20240310T090000
END:DAYLIGHT
BEGIN:STANDARD
TZOFFSETFROM:-0600
TZOFFSETTO:-0700
TZNAME:MST
DTSTART:20241103T080000
END:STANDARD
BEGIN:DAYLIGHT
TZOFFSETFROM:-0700
TZOFFSETTO:-0600
TZNAME:MDT
DTSTART:20250309T090000
END:DAYLIGHT
BEGIN:STANDARD
TZOFFSETFROM:-0600
TZOFFSETTO:-0700
TZNAME:MST
DTSTART:20251102T080000
END:STANDARD
BEGIN:DAYLIGHT
TZOFFSETFROM:-0700
TZOFFSETTO:-0600
TZNAME:MDT
DTSTART:20260308T090000
END:DAYLIGHT
BEGIN:STANDARD
TZOFFSETFROM:-0600
TZOFFSETTO:-0700
TZNAME:MST
DTSTART:20261101T080000
END:STANDARD
END:VTIMEZONE
BEGIN:VEVENT
DTSTART;TZID=America/Edmonton:20250809T080000
DTEND;TZID=America/Edmonton:20250810T100000
DTSTAMP:20260419T160346
CREATED:20250617T153850Z
LAST-MODIFIED:20250617T153852Z
UID:10002808-1754726400-1754820000@www.dewintonca.com
SUMMARY:Wedding Booking
DESCRIPTION:The De Winton Hall is a great venue for your wedding or other group event!
URL:https://www.dewintonca.com/event/wedding-booking-5/
ATTACH;FMTTYPE=image/jpeg:https://www.dewintonca.com/wp-content/uploads/2024/09/Wedding-Rental.jpg
END:VEVENT
BEGIN:VEVENT
DTSTART;TZID=America/Edmonton:20250807T091500
DTEND;TZID=America/Edmonton:20250807T103000
DTSTAMP:20260419T160346
CREATED:20250109T212155Z
LAST-MODIFIED:20250125T032629Z
UID:10000104-1754558100-1754562600@www.dewintonca.com
SUMMARY:Stretching/Yoga
DESCRIPTION:Join us every Monday and Thursday from 9:15 to 10:30 am to limber up your joints and slow down your mind.
URL:https://www.dewintonca.com/event/stretching-yoga/2025-08-07/
CATEGORIES:Program
ATTACH;FMTTYPE=image/jpeg:https://www.dewintonca.com/wp-content/uploads/2020/08/stretching-e1738681881428.jpg
END:VEVENT
BEGIN:VEVENT
DTSTART;TZID=America/Edmonton:20250806T130000
DTEND;TZID=America/Edmonton:20250806T150000
DTSTAMP:20260419T160346
CREATED:20250118T233839Z
LAST-MODIFIED:20250125T032551Z
UID:10001478-1754485200-1754492400@www.dewintonca.com
SUMMARY:Bridge
DESCRIPTION:Join us at the hall for a friendly round or two of Bridge. Free to attend for DCA members
URL:https://www.dewintonca.com/event/bridge/2025-08-06/
CATEGORIES:Program
ATTACH;FMTTYPE=image/jpeg:https://www.dewintonca.com/wp-content/uploads/2025/01/Cards-scaled-e1738682093441.jpg
END:VEVENT
BEGIN:VEVENT
DTSTART;TZID=America/Edmonton:20250806T093000
DTEND;TZID=America/Edmonton:20250806T143000
DTSTAMP:20260419T160346
CREATED:20250109T220122Z
LAST-MODIFIED:20250125T032639Z
UID:10001145-1754472600-1754490600@www.dewintonca.com
SUMMARY:Quilting
DESCRIPTION:Free for Members. Drop in with your equipment and supplies
URL:https://www.dewintonca.com/event/quilting/2025-08-06/
CATEGORIES:Program
ATTACH;FMTTYPE=image/jpeg:https://www.dewintonca.com/wp-content/uploads/2021/03/Quilting.jpg
END:VEVENT
BEGIN:VEVENT
DTSTART;TZID=America/Edmonton:20250804T183000
DTEND;TZID=America/Edmonton:20250804T213000
DTSTAMP:20260419T160346
CREATED:20250204T144249Z
LAST-MODIFIED:20250210T225120Z
UID:10002562-1754332200-1754343000@www.dewintonca.com
SUMMARY:Canasta
DESCRIPTION:Looking to unwind with a fun card game? Join us for Canasta classes every Monday night from 6:30 – 9:30pm! Whether you’re a beginner or a seasoned player\, you’ll learn new strategies\, sharpen your skills\, and have a great time. Best of all—it’s FREE for community members! Grab your cards and come have some fun with us!
URL:https://www.dewintonca.com/event/canasta/2025-08-04/
LOCATION:DeWinton Community Hall\, 114 Macleod Trail E\, DeWinton\, Alberta\, T0L 0X0\, Canada
CATEGORIES:Program
ATTACH;FMTTYPE=image/jpeg:https://www.dewintonca.com/wp-content/uploads/2025/02/CANASTA-Presentation-43.jpg
END:VEVENT
BEGIN:VEVENT
DTSTART;TZID=America/Edmonton:20250804T093000
DTEND;TZID=America/Edmonton:20250804T101500
DTSTAMP:20260419T160346
CREATED:20250109T215126Z
LAST-MODIFIED:20250125T032655Z
UID:10000884-1754299800-1754302500@www.dewintonca.com
SUMMARY:Stretching/Yoga
DESCRIPTION:Join us every Monday and Thursday from 9:15 to 10:30 am to limber up your joints and slow down your mind.
URL:https://www.dewintonca.com/event/stretching-yoga-2/2025-08-04/
CATEGORIES:Program
ATTACH;FMTTYPE=image/jpeg:https://www.dewintonca.com/wp-content/uploads/2020/08/stretching-e1738681881428.jpg
END:VEVENT
BEGIN:VEVENT
DTSTART;TZID=America/Edmonton:20250803T080000
DTEND;TZID=America/Edmonton:20250803T170000
DTSTAMP:20260419T160346
CREATED:20250617T221359Z
LAST-MODIFIED:20250617T221400Z
UID:10002823-1754208000-1754240400@www.dewintonca.com
SUMMARY:Event Rental
DESCRIPTION:The De Winton Hall is the perfect place for your party or group event.
URL:https://www.dewintonca.com/event/event-rental-5/
CATEGORIES:Hourly Rental
ATTACH;FMTTYPE=image/jpeg:https://www.dewintonca.com/wp-content/uploads/2025/06/Event-Rental.jpg
END:VEVENT
BEGIN:VEVENT
DTSTART;TZID=America/Edmonton:20250802T080000
DTEND;TZID=America/Edmonton:20250803T100000
DTSTAMP:20260419T160346
CREATED:20250617T153744Z
LAST-MODIFIED:20250617T153746Z
UID:10002807-1754121600-1754215200@www.dewintonca.com
SUMMARY:Wedding Booking
DESCRIPTION:The De Winton Hall is a great venue for your wedding or other group event!
URL:https://www.dewintonca.com/event/wedding-booking-4/
ATTACH;FMTTYPE=image/jpeg:https://www.dewintonca.com/wp-content/uploads/2024/09/Wedding-Rental.jpg
END:VEVENT
BEGIN:VEVENT
DTSTART;TZID=America/Edmonton:20250731T091500
DTEND;TZID=America/Edmonton:20250731T103000
DTSTAMP:20260419T160346
CREATED:20250109T212155Z
LAST-MODIFIED:20250125T032629Z
UID:10000103-1753953300-1753957800@www.dewintonca.com
SUMMARY:Stretching/Yoga
DESCRIPTION:Join us every Monday and Thursday from 9:15 to 10:30 am to limber up your joints and slow down your mind.
URL:https://www.dewintonca.com/event/stretching-yoga/2025-07-31/
CATEGORIES:Program
ATTACH;FMTTYPE=image/jpeg:https://www.dewintonca.com/wp-content/uploads/2020/08/stretching-e1738681881428.jpg
END:VEVENT
BEGIN:VEVENT
DTSTART;TZID=America/Edmonton:20250730T130000
DTEND;TZID=America/Edmonton:20250730T150000
DTSTAMP:20260419T160346
CREATED:20250118T233839Z
LAST-MODIFIED:20250125T032551Z
UID:10001477-1753880400-1753887600@www.dewintonca.com
SUMMARY:Bridge
DESCRIPTION:Join us at the hall for a friendly round or two of Bridge. Free to attend for DCA members
URL:https://www.dewintonca.com/event/bridge/2025-07-30/
CATEGORIES:Program
ATTACH;FMTTYPE=image/jpeg:https://www.dewintonca.com/wp-content/uploads/2025/01/Cards-scaled-e1738682093441.jpg
END:VEVENT
BEGIN:VEVENT
DTSTART;TZID=America/Edmonton:20250730T093000
DTEND;TZID=America/Edmonton:20250730T143000
DTSTAMP:20260419T160346
CREATED:20250109T220122Z
LAST-MODIFIED:20250125T032639Z
UID:10001144-1753867800-1753885800@www.dewintonca.com
SUMMARY:Quilting
DESCRIPTION:Free for Members. Drop in with your equipment and supplies
URL:https://www.dewintonca.com/event/quilting/2025-07-30/
CATEGORIES:Program
ATTACH;FMTTYPE=image/jpeg:https://www.dewintonca.com/wp-content/uploads/2021/03/Quilting.jpg
END:VEVENT
BEGIN:VEVENT
DTSTART;TZID=America/Edmonton:20250728T183000
DTEND;TZID=America/Edmonton:20250728T213000
DTSTAMP:20260419T160346
CREATED:20250204T144249Z
LAST-MODIFIED:20250210T225120Z
UID:10002561-1753727400-1753738200@www.dewintonca.com
SUMMARY:Canasta
DESCRIPTION:Looking to unwind with a fun card game? Join us for Canasta classes every Monday night from 6:30 – 9:30pm! Whether you’re a beginner or a seasoned player\, you’ll learn new strategies\, sharpen your skills\, and have a great time. Best of all—it’s FREE for community members! Grab your cards and come have some fun with us!
URL:https://www.dewintonca.com/event/canasta/2025-07-28/
LOCATION:DeWinton Community Hall\, 114 Macleod Trail E\, DeWinton\, Alberta\, T0L 0X0\, Canada
CATEGORIES:Program
ATTACH;FMTTYPE=image/jpeg:https://www.dewintonca.com/wp-content/uploads/2025/02/CANASTA-Presentation-43.jpg
END:VEVENT
BEGIN:VEVENT
DTSTART;TZID=America/Edmonton:20250728T093000
DTEND;TZID=America/Edmonton:20250728T101500
DTSTAMP:20260419T160346
CREATED:20250109T215126Z
LAST-MODIFIED:20250125T032655Z
UID:10000883-1753695000-1753697700@www.dewintonca.com
SUMMARY:Stretching/Yoga
DESCRIPTION:Join us every Monday and Thursday from 9:15 to 10:30 am to limber up your joints and slow down your mind.
URL:https://www.dewintonca.com/event/stretching-yoga-2/2025-07-28/
CATEGORIES:Program
ATTACH;FMTTYPE=image/jpeg:https://www.dewintonca.com/wp-content/uploads/2020/08/stretching-e1738681881428.jpg
END:VEVENT
BEGIN:VEVENT
DTSTART;TZID=America/Edmonton:20250726T080000
DTEND;TZID=America/Edmonton:20250727T100000
DTSTAMP:20260419T160346
CREATED:20250617T153313Z
LAST-MODIFIED:20250617T153315Z
UID:10002806-1753516800-1753610400@www.dewintonca.com
SUMMARY:Wedding Booking
DESCRIPTION:The De Winton Hall is a great venue for your wedding or other group event!
URL:https://www.dewintonca.com/event/wedding-booking-3/
ATTACH;FMTTYPE=image/jpeg:https://www.dewintonca.com/wp-content/uploads/2024/09/Wedding-Rental.jpg
END:VEVENT
BEGIN:VEVENT
DTSTART;TZID=America/Edmonton:20250724T091500
DTEND;TZID=America/Edmonton:20250724T103000
DTSTAMP:20260419T160346
CREATED:20250109T212155Z
LAST-MODIFIED:20250125T032629Z
UID:10000102-1753348500-1753353000@www.dewintonca.com
SUMMARY:Stretching/Yoga
DESCRIPTION:Join us every Monday and Thursday from 9:15 to 10:30 am to limber up your joints and slow down your mind.
URL:https://www.dewintonca.com/event/stretching-yoga/2025-07-24/
CATEGORIES:Program
ATTACH;FMTTYPE=image/jpeg:https://www.dewintonca.com/wp-content/uploads/2020/08/stretching-e1738681881428.jpg
END:VEVENT
BEGIN:VEVENT
DTSTART;TZID=America/Edmonton:20250723T130000
DTEND;TZID=America/Edmonton:20250723T150000
DTSTAMP:20260419T160346
CREATED:20250118T233839Z
LAST-MODIFIED:20250125T032551Z
UID:10001476-1753275600-1753282800@www.dewintonca.com
SUMMARY:Bridge
DESCRIPTION:Join us at the hall for a friendly round or two of Bridge. Free to attend for DCA members
URL:https://www.dewintonca.com/event/bridge/2025-07-23/
CATEGORIES:Program
ATTACH;FMTTYPE=image/jpeg:https://www.dewintonca.com/wp-content/uploads/2025/01/Cards-scaled-e1738682093441.jpg
END:VEVENT
BEGIN:VEVENT
DTSTART;TZID=America/Edmonton:20250723T093000
DTEND;TZID=America/Edmonton:20250723T143000
DTSTAMP:20260419T160346
CREATED:20250109T220122Z
LAST-MODIFIED:20250125T032639Z
UID:10001143-1753263000-1753281000@www.dewintonca.com
SUMMARY:Quilting
DESCRIPTION:Free for Members. Drop in with your equipment and supplies
URL:https://www.dewintonca.com/event/quilting/2025-07-23/
CATEGORIES:Program
ATTACH;FMTTYPE=image/jpeg:https://www.dewintonca.com/wp-content/uploads/2021/03/Quilting.jpg
END:VEVENT
BEGIN:VEVENT
DTSTART;TZID=America/Edmonton:20250721T183000
DTEND;TZID=America/Edmonton:20250721T213000
DTSTAMP:20260419T160346
CREATED:20250204T144249Z
LAST-MODIFIED:20250210T225120Z
UID:10002560-1753122600-1753133400@www.dewintonca.com
SUMMARY:Canasta
DESCRIPTION:Looking to unwind with a fun card game? Join us for Canasta classes every Monday night from 6:30 – 9:30pm! Whether you’re a beginner or a seasoned player\, you’ll learn new strategies\, sharpen your skills\, and have a great time. Best of all—it’s FREE for community members! Grab your cards and come have some fun with us!
URL:https://www.dewintonca.com/event/canasta/2025-07-21/
LOCATION:DeWinton Community Hall\, 114 Macleod Trail E\, DeWinton\, Alberta\, T0L 0X0\, Canada
CATEGORIES:Program
ATTACH;FMTTYPE=image/jpeg:https://www.dewintonca.com/wp-content/uploads/2025/02/CANASTA-Presentation-43.jpg
END:VEVENT
BEGIN:VEVENT
DTSTART;TZID=America/Edmonton:20250721T093000
DTEND;TZID=America/Edmonton:20250721T101500
DTSTAMP:20260419T160346
CREATED:20250109T215126Z
LAST-MODIFIED:20250125T032655Z
UID:10000882-1753090200-1753092900@www.dewintonca.com
SUMMARY:Stretching/Yoga
DESCRIPTION:Join us every Monday and Thursday from 9:15 to 10:30 am to limber up your joints and slow down your mind.
URL:https://www.dewintonca.com/event/stretching-yoga-2/2025-07-21/
CATEGORIES:Program
ATTACH;FMTTYPE=image/jpeg:https://www.dewintonca.com/wp-content/uploads/2020/08/stretching-e1738681881428.jpg
END:VEVENT
BEGIN:VEVENT
DTSTART;TZID=America/Edmonton:20250720T080000
DTEND;TZID=America/Edmonton:20250720T170000
DTSTAMP:20260419T160346
CREATED:20250617T163220Z
LAST-MODIFIED:20250617T221118Z
UID:10002818-1752998400-1753030800@www.dewintonca.com
SUMMARY:Event Rental
DESCRIPTION:The De Winton Hall is the perfect place for your party or group event.
URL:https://www.dewintonca.com/event/event-rental/
CATEGORIES:Hourly Rental
ATTACH;FMTTYPE=image/jpeg:https://www.dewintonca.com/wp-content/uploads/2025/06/Event-Rental.jpg
END:VEVENT
BEGIN:VEVENT
DTSTART;TZID=America/Edmonton:20250719T080000
DTEND;TZID=America/Edmonton:20250720T100000
DTSTAMP:20260419T160346
CREATED:20250617T153223Z
LAST-MODIFIED:20250617T153225Z
UID:10002805-1752912000-1753005600@www.dewintonca.com
SUMMARY:Wedding Booking
DESCRIPTION:The De Winton Hall is a great venue for your wedding or other group event!
URL:https://www.dewintonca.com/event/wedding-booking-2/
ATTACH;FMTTYPE=image/jpeg:https://www.dewintonca.com/wp-content/uploads/2024/09/Wedding-Rental.jpg
END:VEVENT
BEGIN:VEVENT
DTSTART;TZID=America/Edmonton:20250717T091500
DTEND;TZID=America/Edmonton:20250717T103000
DTSTAMP:20260419T160346
CREATED:20250109T212155Z
LAST-MODIFIED:20250125T032629Z
UID:10000101-1752743700-1752748200@www.dewintonca.com
SUMMARY:Stretching/Yoga
DESCRIPTION:Join us every Monday and Thursday from 9:15 to 10:30 am to limber up your joints and slow down your mind.
URL:https://www.dewintonca.com/event/stretching-yoga/2025-07-17/
CATEGORIES:Program
ATTACH;FMTTYPE=image/jpeg:https://www.dewintonca.com/wp-content/uploads/2020/08/stretching-e1738681881428.jpg
END:VEVENT
BEGIN:VEVENT
DTSTART;TZID=America/Edmonton:20250716T130000
DTEND;TZID=America/Edmonton:20250716T150000
DTSTAMP:20260419T160346
CREATED:20250118T233839Z
LAST-MODIFIED:20250125T032551Z
UID:10001475-1752670800-1752678000@www.dewintonca.com
SUMMARY:Bridge
DESCRIPTION:Join us at the hall for a friendly round or two of Bridge. Free to attend for DCA members
URL:https://www.dewintonca.com/event/bridge/2025-07-16/
CATEGORIES:Program
ATTACH;FMTTYPE=image/jpeg:https://www.dewintonca.com/wp-content/uploads/2025/01/Cards-scaled-e1738682093441.jpg
END:VEVENT
BEGIN:VEVENT
DTSTART;TZID=America/Edmonton:20250716T093000
DTEND;TZID=America/Edmonton:20250716T143000
DTSTAMP:20260419T160346
CREATED:20250109T220122Z
LAST-MODIFIED:20250125T032639Z
UID:10001142-1752658200-1752676200@www.dewintonca.com
SUMMARY:Quilting
DESCRIPTION:Free for Members. Drop in with your equipment and supplies
URL:https://www.dewintonca.com/event/quilting/2025-07-16/
CATEGORIES:Program
ATTACH;FMTTYPE=image/jpeg:https://www.dewintonca.com/wp-content/uploads/2021/03/Quilting.jpg
END:VEVENT
BEGIN:VEVENT
DTSTART;TZID=America/Edmonton:20250714T183000
DTEND;TZID=America/Edmonton:20250714T213000
DTSTAMP:20260419T160346
CREATED:20250204T144249Z
LAST-MODIFIED:20250210T225120Z
UID:10002559-1752517800-1752528600@www.dewintonca.com
SUMMARY:Canasta
DESCRIPTION:Looking to unwind with a fun card game? Join us for Canasta classes every Monday night from 6:30 – 9:30pm! Whether you’re a beginner or a seasoned player\, you’ll learn new strategies\, sharpen your skills\, and have a great time. Best of all—it’s FREE for community members! Grab your cards and come have some fun with us!
URL:https://www.dewintonca.com/event/canasta/2025-07-14/
LOCATION:DeWinton Community Hall\, 114 Macleod Trail E\, DeWinton\, Alberta\, T0L 0X0\, Canada
CATEGORIES:Program
ATTACH;FMTTYPE=image/jpeg:https://www.dewintonca.com/wp-content/uploads/2025/02/CANASTA-Presentation-43.jpg
END:VEVENT
BEGIN:VEVENT
DTSTART;TZID=America/Edmonton:20250714T093000
DTEND;TZID=America/Edmonton:20250714T101500
DTSTAMP:20260419T160346
CREATED:20250109T215126Z
LAST-MODIFIED:20250125T032655Z
UID:10000881-1752485400-1752488100@www.dewintonca.com
SUMMARY:Stretching/Yoga
DESCRIPTION:Join us every Monday and Thursday from 9:15 to 10:30 am to limber up your joints and slow down your mind.
URL:https://www.dewintonca.com/event/stretching-yoga-2/2025-07-14/
CATEGORIES:Program
ATTACH;FMTTYPE=image/jpeg:https://www.dewintonca.com/wp-content/uploads/2020/08/stretching-e1738681881428.jpg
END:VEVENT
BEGIN:VEVENT
DTSTART;TZID=America/Edmonton:20250713T080000
DTEND;TZID=America/Edmonton:20250713T170000
DTSTAMP:20260419T160346
CREATED:20250617T221323Z
LAST-MODIFIED:20250617T221325Z
UID:10002822-1752393600-1752426000@www.dewintonca.com
SUMMARY:Event Rental
DESCRIPTION:The De Winton Hall is the perfect place for your party or group event.
URL:https://www.dewintonca.com/event/event-rental-4/
CATEGORIES:Hourly Rental
ATTACH;FMTTYPE=image/jpeg:https://www.dewintonca.com/wp-content/uploads/2025/06/Event-Rental.jpg
END:VEVENT
BEGIN:VEVENT
DTSTART;TZID=America/Edmonton:20250711T080000
DTEND;TZID=America/Edmonton:20250711T170000
DTSTAMP:20260419T160346
CREATED:20250617T221253Z
LAST-MODIFIED:20250617T221256Z
UID:10002821-1752220800-1752253200@www.dewintonca.com
SUMMARY:Event Rental
DESCRIPTION:The De Winton Hall is the perfect place for your party or group event.
URL:https://www.dewintonca.com/event/event-rental-3/
CATEGORIES:Hourly Rental
ATTACH;FMTTYPE=image/jpeg:https://www.dewintonca.com/wp-content/uploads/2025/06/Event-Rental.jpg
END:VEVENT
BEGIN:VEVENT
DTSTART;TZID=America/Edmonton:20250710T091500
DTEND;TZID=America/Edmonton:20250710T103000
DTSTAMP:20260419T160346
CREATED:20250109T212155Z
LAST-MODIFIED:20250125T032629Z
UID:10000100-1752138900-1752143400@www.dewintonca.com
SUMMARY:Stretching/Yoga
DESCRIPTION:Join us every Monday and Thursday from 9:15 to 10:30 am to limber up your joints and slow down your mind.
URL:https://www.dewintonca.com/event/stretching-yoga/2025-07-10/
CATEGORIES:Program
ATTACH;FMTTYPE=image/jpeg:https://www.dewintonca.com/wp-content/uploads/2020/08/stretching-e1738681881428.jpg
END:VEVENT
BEGIN:VEVENT
DTSTART;TZID=America/Edmonton:20250709T130000
DTEND;TZID=America/Edmonton:20250709T150000
DTSTAMP:20260419T160346
CREATED:20250118T233839Z
LAST-MODIFIED:20250125T032551Z
UID:10001474-1752066000-1752073200@www.dewintonca.com
SUMMARY:Bridge
DESCRIPTION:Join us at the hall for a friendly round or two of Bridge. Free to attend for DCA members
URL:https://www.dewintonca.com/event/bridge/2025-07-09/
CATEGORIES:Program
ATTACH;FMTTYPE=image/jpeg:https://www.dewintonca.com/wp-content/uploads/2025/01/Cards-scaled-e1738682093441.jpg
END:VEVENT
END:VCALENDAR