BEGIN:VCALENDAR
VERSION:2.0
PRODID:-//The DeWinton Community Hall - ECPv6.15.20//NONSGML v1.0//EN
CALSCALE:GREGORIAN
METHOD:PUBLISH
X-ORIGINAL-URL:https://www.dewintonca.com
X-WR-CALDESC:Events for The DeWinton Community Hall
REFRESH-INTERVAL;VALUE=DURATION:PT1H
X-Robots-Tag:noindex
X-PUBLISHED-TTL:PT1H
BEGIN:VTIMEZONE
TZID:America/Edmonton
BEGIN:DAYLIGHT
TZOFFSETFROM:-0700
TZOFFSETTO:-0600
TZNAME:MDT
DTSTART:20240310T090000
END:DAYLIGHT
BEGIN:STANDARD
TZOFFSETFROM:-0600
TZOFFSETTO:-0700
TZNAME:MST
DTSTART:20241103T080000
END:STANDARD
BEGIN:DAYLIGHT
TZOFFSETFROM:-0700
TZOFFSETTO:-0600
TZNAME:MDT
DTSTART:20250309T090000
END:DAYLIGHT
BEGIN:STANDARD
TZOFFSETFROM:-0600
TZOFFSETTO:-0700
TZNAME:MST
DTSTART:20251102T080000
END:STANDARD
BEGIN:DAYLIGHT
TZOFFSETFROM:-0700
TZOFFSETTO:-0600
TZNAME:MDT
DTSTART:20260308T090000
END:DAYLIGHT
BEGIN:STANDARD
TZOFFSETFROM:-0600
TZOFFSETTO:-0700
TZNAME:MST
DTSTART:20261101T080000
END:STANDARD
END:VTIMEZONE
BEGIN:VEVENT
DTSTART;TZID=America/Edmonton:20250925T091500
DTEND;TZID=America/Edmonton:20250925T103000
DTSTAMP:20260419T201209
CREATED:20250109T212155Z
LAST-MODIFIED:20250125T032629Z
UID:10000111-1758791700-1758796200@www.dewintonca.com
SUMMARY:Stretching/Yoga
DESCRIPTION:Join us every Monday and Thursday from 9:15 to 10:30 am to limber up your joints and slow down your mind.
URL:https://www.dewintonca.com/event/stretching-yoga/2025-09-25/
CATEGORIES:Program
ATTACH;FMTTYPE=image/jpeg:https://www.dewintonca.com/wp-content/uploads/2020/08/stretching-e1738681881428.jpg
END:VEVENT
BEGIN:VEVENT
DTSTART;TZID=America/Edmonton:20250927T080000
DTEND;TZID=America/Edmonton:20250928T100000
DTSTAMP:20260419T201209
CREATED:20250617T155346Z
LAST-MODIFIED:20250617T155349Z
UID:10002814-1758960000-1759053600@www.dewintonca.com
SUMMARY:Wedding Booking
DESCRIPTION:The De Winton Hall is a great venue for your wedding or other group event!
URL:https://www.dewintonca.com/event/wedding-booking-11/
ATTACH;FMTTYPE=image/jpeg:https://www.dewintonca.com/wp-content/uploads/2024/09/Wedding-Rental.jpg
END:VEVENT
BEGIN:VEVENT
DTSTART;TZID=America/Edmonton:20250928T080000
DTEND;TZID=America/Edmonton:20250928T170000
DTSTAMP:20260419T201209
CREATED:20250617T221514Z
LAST-MODIFIED:20250617T221516Z
UID:10002825-1759046400-1759078800@www.dewintonca.com
SUMMARY:Event Rental
DESCRIPTION:The De Winton Hall is the perfect place for your party or group event.
URL:https://www.dewintonca.com/event/event-rental-7/
CATEGORIES:Hourly Rental
ATTACH;FMTTYPE=image/jpeg:https://www.dewintonca.com/wp-content/uploads/2025/06/Event-Rental.jpg
END:VEVENT
BEGIN:VEVENT
DTSTART;TZID=America/Edmonton:20250928T130000
DTEND;TZID=America/Edmonton:20250928T163000
DTSTAMP:20260419T201209
CREATED:20250820T000206Z
LAST-MODIFIED:20250820T000609Z
UID:10002833-1759064400-1759077000@www.dewintonca.com
SUMMARY:Midlife Wellness Retreat
DESCRIPTION:
URL:https://www.dewintonca.com/event/midlife-wellness-retreat/
CATEGORIES:Area-events
ATTACH;FMTTYPE=image/png:https://www.dewintonca.com/wp-content/uploads/2025/08/Midlife-Sept-2025.png
ORGANIZER;CN="Foothills Wellness Retreat":MAILTO:info@foothillswellnessretreat.com
END:VEVENT
BEGIN:VEVENT
DTSTART;TZID=America/Edmonton:20250929T093000
DTEND;TZID=America/Edmonton:20250929T101500
DTSTAMP:20260419T201209
CREATED:20250109T215126Z
LAST-MODIFIED:20250125T032655Z
UID:10000892-1759138200-1759140900@www.dewintonca.com
SUMMARY:Stretching/Yoga
DESCRIPTION:Join us every Monday and Thursday from 9:15 to 10:30 am to limber up your joints and slow down your mind.
URL:https://www.dewintonca.com/event/stretching-yoga-2/2025-09-29/
CATEGORIES:Program
ATTACH;FMTTYPE=image/jpeg:https://www.dewintonca.com/wp-content/uploads/2020/08/stretching-e1738681881428.jpg
END:VEVENT
BEGIN:VEVENT
DTSTART;TZID=America/Edmonton:20250929T183000
DTEND;TZID=America/Edmonton:20250929T213000
DTSTAMP:20260419T201209
CREATED:20250204T144249Z
LAST-MODIFIED:20250210T225120Z
UID:10002570-1759170600-1759181400@www.dewintonca.com
SUMMARY:Canasta
DESCRIPTION:Looking to unwind with a fun card game? Join us for Canasta classes every Monday night from 6:30 – 9:30pm! Whether you’re a beginner or a seasoned player\, you’ll learn new strategies\, sharpen your skills\, and have a great time. Best of all—it’s FREE for community members! Grab your cards and come have some fun with us!
URL:https://www.dewintonca.com/event/canasta/2025-09-29/
LOCATION:DeWinton Community Hall\, 114 Macleod Trail E\, DeWinton\, Alberta\, T0L 0X0\, Canada
CATEGORIES:Program
ATTACH;FMTTYPE=image/jpeg:https://www.dewintonca.com/wp-content/uploads/2025/02/CANASTA-Presentation-43.jpg
END:VEVENT
BEGIN:VEVENT
DTSTART;TZID=America/Edmonton:20251001T093000
DTEND;TZID=America/Edmonton:20251001T143000
DTSTAMP:20260419T201209
CREATED:20250109T220122Z
LAST-MODIFIED:20250125T032639Z
UID:10001153-1759311000-1759329000@www.dewintonca.com
SUMMARY:Quilting
DESCRIPTION:Free for Members. Drop in with your equipment and supplies
URL:https://www.dewintonca.com/event/quilting/2025-10-01/
CATEGORIES:Program
ATTACH;FMTTYPE=image/jpeg:https://www.dewintonca.com/wp-content/uploads/2021/03/Quilting.jpg
END:VEVENT
BEGIN:VEVENT
DTSTART;TZID=America/Edmonton:20251001T130000
DTEND;TZID=America/Edmonton:20251001T150000
DTSTAMP:20260419T201209
CREATED:20250118T233839Z
LAST-MODIFIED:20250125T032551Z
UID:10001486-1759323600-1759330800@www.dewintonca.com
SUMMARY:Bridge
DESCRIPTION:Join us at the hall for a friendly round or two of Bridge. Free to attend for DCA members
URL:https://www.dewintonca.com/event/bridge/2025-10-01/
CATEGORIES:Program
ATTACH;FMTTYPE=image/jpeg:https://www.dewintonca.com/wp-content/uploads/2025/01/Cards-scaled-e1738682093441.jpg
END:VEVENT
BEGIN:VEVENT
DTSTART;TZID=America/Edmonton:20251002T091500
DTEND;TZID=America/Edmonton:20251002T103000
DTSTAMP:20260419T201209
CREATED:20250109T212155Z
LAST-MODIFIED:20250125T032629Z
UID:10000112-1759396500-1759401000@www.dewintonca.com
SUMMARY:Stretching/Yoga
DESCRIPTION:Join us every Monday and Thursday from 9:15 to 10:30 am to limber up your joints and slow down your mind.
URL:https://www.dewintonca.com/event/stretching-yoga/2025-10-02/
CATEGORIES:Program
ATTACH;FMTTYPE=image/jpeg:https://www.dewintonca.com/wp-content/uploads/2020/08/stretching-e1738681881428.jpg
END:VEVENT
BEGIN:VEVENT
DTSTART;TZID=America/Edmonton:20251004T080000
DTEND;TZID=America/Edmonton:20251005T100000
DTSTAMP:20260419T201209
CREATED:20250617T155445Z
LAST-MODIFIED:20250617T155447Z
UID:10002815-1759564800-1759658400@www.dewintonca.com
SUMMARY:Wedding Booking
DESCRIPTION:The De Winton Hall is a great venue for your wedding or other group event!
URL:https://www.dewintonca.com/event/wedding-booking-12/
ATTACH;FMTTYPE=image/jpeg:https://www.dewintonca.com/wp-content/uploads/2024/09/Wedding-Rental.jpg
END:VEVENT
BEGIN:VEVENT
DTSTART;TZID=America/Edmonton:20251006T093000
DTEND;TZID=America/Edmonton:20251006T101500
DTSTAMP:20260419T201209
CREATED:20250109T215126Z
LAST-MODIFIED:20250125T032655Z
UID:10000893-1759743000-1759745700@www.dewintonca.com
SUMMARY:Stretching/Yoga
DESCRIPTION:Join us every Monday and Thursday from 9:15 to 10:30 am to limber up your joints and slow down your mind.
URL:https://www.dewintonca.com/event/stretching-yoga-2/2025-10-06/
CATEGORIES:Program
ATTACH;FMTTYPE=image/jpeg:https://www.dewintonca.com/wp-content/uploads/2020/08/stretching-e1738681881428.jpg
END:VEVENT
BEGIN:VEVENT
DTSTART;TZID=America/Edmonton:20251006T183000
DTEND;TZID=America/Edmonton:20251006T213000
DTSTAMP:20260419T201209
CREATED:20250204T144249Z
LAST-MODIFIED:20250210T225120Z
UID:10002571-1759775400-1759786200@www.dewintonca.com
SUMMARY:Canasta
DESCRIPTION:Looking to unwind with a fun card game? Join us for Canasta classes every Monday night from 6:30 – 9:30pm! Whether you’re a beginner or a seasoned player\, you’ll learn new strategies\, sharpen your skills\, and have a great time. Best of all—it’s FREE for community members! Grab your cards and come have some fun with us!
URL:https://www.dewintonca.com/event/canasta/2025-10-06/
LOCATION:DeWinton Community Hall\, 114 Macleod Trail E\, DeWinton\, Alberta\, T0L 0X0\, Canada
CATEGORIES:Program
ATTACH;FMTTYPE=image/jpeg:https://www.dewintonca.com/wp-content/uploads/2025/02/CANASTA-Presentation-43.jpg
END:VEVENT
BEGIN:VEVENT
DTSTART;TZID=America/Edmonton:20251008T093000
DTEND;TZID=America/Edmonton:20251008T143000
DTSTAMP:20260419T201209
CREATED:20250109T220122Z
LAST-MODIFIED:20250125T032639Z
UID:10001154-1759915800-1759933800@www.dewintonca.com
SUMMARY:Quilting
DESCRIPTION:Free for Members. Drop in with your equipment and supplies
URL:https://www.dewintonca.com/event/quilting/2025-10-08/
CATEGORIES:Program
ATTACH;FMTTYPE=image/jpeg:https://www.dewintonca.com/wp-content/uploads/2021/03/Quilting.jpg
END:VEVENT
BEGIN:VEVENT
DTSTART;TZID=America/Edmonton:20251008T130000
DTEND;TZID=America/Edmonton:20251008T150000
DTSTAMP:20260419T201209
CREATED:20250118T233839Z
LAST-MODIFIED:20250125T032551Z
UID:10001487-1759928400-1759935600@www.dewintonca.com
SUMMARY:Bridge
DESCRIPTION:Join us at the hall for a friendly round or two of Bridge. Free to attend for DCA members
URL:https://www.dewintonca.com/event/bridge/2025-10-08/
CATEGORIES:Program
ATTACH;FMTTYPE=image/jpeg:https://www.dewintonca.com/wp-content/uploads/2025/01/Cards-scaled-e1738682093441.jpg
END:VEVENT
BEGIN:VEVENT
DTSTART;TZID=America/Edmonton:20251009T091500
DTEND;TZID=America/Edmonton:20251009T103000
DTSTAMP:20260419T201209
CREATED:20250109T212155Z
LAST-MODIFIED:20250125T032629Z
UID:10000113-1760001300-1760005800@www.dewintonca.com
SUMMARY:Stretching/Yoga
DESCRIPTION:Join us every Monday and Thursday from 9:15 to 10:30 am to limber up your joints and slow down your mind.
URL:https://www.dewintonca.com/event/stretching-yoga/2025-10-09/
CATEGORIES:Program
ATTACH;FMTTYPE=image/jpeg:https://www.dewintonca.com/wp-content/uploads/2020/08/stretching-e1738681881428.jpg
END:VEVENT
BEGIN:VEVENT
DTSTART;TZID=America/Edmonton:20251011T080000
DTEND;TZID=America/Edmonton:20251011T170000
DTSTAMP:20260419T201209
CREATED:20250617T221546Z
LAST-MODIFIED:20250617T221548Z
UID:10002826-1760169600-1760202000@www.dewintonca.com
SUMMARY:Event Rental
DESCRIPTION:The De Winton Hall is the perfect place for your party or group event.
URL:https://www.dewintonca.com/event/event-rental-8/
CATEGORIES:Hourly Rental
ATTACH;FMTTYPE=image/jpeg:https://www.dewintonca.com/wp-content/uploads/2025/06/Event-Rental.jpg
END:VEVENT
BEGIN:VEVENT
DTSTART;TZID=America/Edmonton:20251013T093000
DTEND;TZID=America/Edmonton:20251013T101500
DTSTAMP:20260419T201209
CREATED:20250109T215126Z
LAST-MODIFIED:20250125T032655Z
UID:10000894-1760347800-1760350500@www.dewintonca.com
SUMMARY:Stretching/Yoga
DESCRIPTION:Join us every Monday and Thursday from 9:15 to 10:30 am to limber up your joints and slow down your mind.
URL:https://www.dewintonca.com/event/stretching-yoga-2/2025-10-13/
CATEGORIES:Program
ATTACH;FMTTYPE=image/jpeg:https://www.dewintonca.com/wp-content/uploads/2020/08/stretching-e1738681881428.jpg
END:VEVENT
BEGIN:VEVENT
DTSTART;TZID=America/Edmonton:20251013T183000
DTEND;TZID=America/Edmonton:20251013T213000
DTSTAMP:20260419T201209
CREATED:20250204T144249Z
LAST-MODIFIED:20250210T225120Z
UID:10002572-1760380200-1760391000@www.dewintonca.com
SUMMARY:Canasta
DESCRIPTION:Looking to unwind with a fun card game? Join us for Canasta classes every Monday night from 6:30 – 9:30pm! Whether you’re a beginner or a seasoned player\, you’ll learn new strategies\, sharpen your skills\, and have a great time. Best of all—it’s FREE for community members! Grab your cards and come have some fun with us!
URL:https://www.dewintonca.com/event/canasta/2025-10-13/
LOCATION:DeWinton Community Hall\, 114 Macleod Trail E\, DeWinton\, Alberta\, T0L 0X0\, Canada
CATEGORIES:Program
ATTACH;FMTTYPE=image/jpeg:https://www.dewintonca.com/wp-content/uploads/2025/02/CANASTA-Presentation-43.jpg
END:VEVENT
BEGIN:VEVENT
DTSTART;TZID=America/Edmonton:20251015T093000
DTEND;TZID=America/Edmonton:20251015T143000
DTSTAMP:20260419T201209
CREATED:20250109T220122Z
LAST-MODIFIED:20250125T032639Z
UID:10001155-1760520600-1760538600@www.dewintonca.com
SUMMARY:Quilting
DESCRIPTION:Free for Members. Drop in with your equipment and supplies
URL:https://www.dewintonca.com/event/quilting/2025-10-15/
CATEGORIES:Program
ATTACH;FMTTYPE=image/jpeg:https://www.dewintonca.com/wp-content/uploads/2021/03/Quilting.jpg
END:VEVENT
BEGIN:VEVENT
DTSTART;TZID=America/Edmonton:20251015T130000
DTEND;TZID=America/Edmonton:20251015T150000
DTSTAMP:20260419T201209
CREATED:20250118T233839Z
LAST-MODIFIED:20250125T032551Z
UID:10001488-1760533200-1760540400@www.dewintonca.com
SUMMARY:Bridge
DESCRIPTION:Join us at the hall for a friendly round or two of Bridge. Free to attend for DCA members
URL:https://www.dewintonca.com/event/bridge/2025-10-15/
CATEGORIES:Program
ATTACH;FMTTYPE=image/jpeg:https://www.dewintonca.com/wp-content/uploads/2025/01/Cards-scaled-e1738682093441.jpg
END:VEVENT
BEGIN:VEVENT
DTSTART;TZID=America/Edmonton:20251016T091500
DTEND;TZID=America/Edmonton:20251016T103000
DTSTAMP:20260419T201209
CREATED:20250109T212155Z
LAST-MODIFIED:20250125T032629Z
UID:10000114-1760606100-1760610600@www.dewintonca.com
SUMMARY:Stretching/Yoga
DESCRIPTION:Join us every Monday and Thursday from 9:15 to 10:30 am to limber up your joints and slow down your mind.
URL:https://www.dewintonca.com/event/stretching-yoga/2025-10-16/
CATEGORIES:Program
ATTACH;FMTTYPE=image/jpeg:https://www.dewintonca.com/wp-content/uploads/2020/08/stretching-e1738681881428.jpg
END:VEVENT
BEGIN:VEVENT
DTSTART;TZID=America/Edmonton:20251018T140000
DTEND;TZID=America/Edmonton:20251018T180000
DTSTAMP:20260419T201209
CREATED:20250617T230253Z
LAST-MODIFIED:20251002T124222Z
UID:10002831-1760796000-1760810400@www.dewintonca.com
SUMMARY:DCA Family Halloween Party
DESCRIPTION:Bring the whole family down to the hall for a screaming good time.  \n\n\n\n\n\n\n\nThis is a very labor intensive event to host. If you would be interested in helping to get the haunted house set up please contact us and we will direct you to the host.
URL:https://www.dewintonca.com/event/dca-family-halloween-party/
LOCATION:DeWinton Community Hall\, 114 Macleod Trail E\, DeWinton\, Alberta\, T0L 0X0\, Canada
CATEGORIES:Community Event,DCA,Family Event
ATTACH;FMTTYPE=image/jpeg:https://www.dewintonca.com/wp-content/uploads/2025/06/Halloween-party_basic.jpg
END:VEVENT
BEGIN:VEVENT
DTSTART;TZID=America/Edmonton:20251020T093000
DTEND;TZID=America/Edmonton:20251020T101500
DTSTAMP:20260419T201209
CREATED:20250109T215126Z
LAST-MODIFIED:20250125T032655Z
UID:10000895-1760952600-1760955300@www.dewintonca.com
SUMMARY:Stretching/Yoga
DESCRIPTION:Join us every Monday and Thursday from 9:15 to 10:30 am to limber up your joints and slow down your mind.
URL:https://www.dewintonca.com/event/stretching-yoga-2/2025-10-20/
CATEGORIES:Program
ATTACH;FMTTYPE=image/jpeg:https://www.dewintonca.com/wp-content/uploads/2020/08/stretching-e1738681881428.jpg
END:VEVENT
BEGIN:VEVENT
DTSTART;TZID=America/Edmonton:20251020T183000
DTEND;TZID=America/Edmonton:20251020T213000
DTSTAMP:20260419T201209
CREATED:20250204T144249Z
LAST-MODIFIED:20250210T225120Z
UID:10002573-1760985000-1760995800@www.dewintonca.com
SUMMARY:Canasta
DESCRIPTION:Looking to unwind with a fun card game? Join us for Canasta classes every Monday night from 6:30 – 9:30pm! Whether you’re a beginner or a seasoned player\, you’ll learn new strategies\, sharpen your skills\, and have a great time. Best of all—it’s FREE for community members! Grab your cards and come have some fun with us!
URL:https://www.dewintonca.com/event/canasta/2025-10-20/
LOCATION:DeWinton Community Hall\, 114 Macleod Trail E\, DeWinton\, Alberta\, T0L 0X0\, Canada
CATEGORIES:Program
ATTACH;FMTTYPE=image/jpeg:https://www.dewintonca.com/wp-content/uploads/2025/02/CANASTA-Presentation-43.jpg
END:VEVENT
BEGIN:VEVENT
DTSTART;TZID=America/Edmonton:20251022T093000
DTEND;TZID=America/Edmonton:20251022T143000
DTSTAMP:20260419T201209
CREATED:20250109T220122Z
LAST-MODIFIED:20250125T032639Z
UID:10001156-1761125400-1761143400@www.dewintonca.com
SUMMARY:Quilting
DESCRIPTION:Free for Members. Drop in with your equipment and supplies
URL:https://www.dewintonca.com/event/quilting/2025-10-22/
CATEGORIES:Program
ATTACH;FMTTYPE=image/jpeg:https://www.dewintonca.com/wp-content/uploads/2021/03/Quilting.jpg
END:VEVENT
BEGIN:VEVENT
DTSTART;TZID=America/Edmonton:20251022T130000
DTEND;TZID=America/Edmonton:20251022T150000
DTSTAMP:20260419T201209
CREATED:20250118T233839Z
LAST-MODIFIED:20250125T032551Z
UID:10001489-1761138000-1761145200@www.dewintonca.com
SUMMARY:Bridge
DESCRIPTION:Join us at the hall for a friendly round or two of Bridge. Free to attend for DCA members
URL:https://www.dewintonca.com/event/bridge/2025-10-22/
CATEGORIES:Program
ATTACH;FMTTYPE=image/jpeg:https://www.dewintonca.com/wp-content/uploads/2025/01/Cards-scaled-e1738682093441.jpg
END:VEVENT
BEGIN:VEVENT
DTSTART;TZID=America/Edmonton:20251023T091500
DTEND;TZID=America/Edmonton:20251023T103000
DTSTAMP:20260419T201209
CREATED:20250109T212155Z
LAST-MODIFIED:20250125T032629Z
UID:10000115-1761210900-1761215400@www.dewintonca.com
SUMMARY:Stretching/Yoga
DESCRIPTION:Join us every Monday and Thursday from 9:15 to 10:30 am to limber up your joints and slow down your mind.
URL:https://www.dewintonca.com/event/stretching-yoga/2025-10-23/
CATEGORIES:Program
ATTACH;FMTTYPE=image/jpeg:https://www.dewintonca.com/wp-content/uploads/2020/08/stretching-e1738681881428.jpg
END:VEVENT
BEGIN:VEVENT
DTSTART;TZID=America/Edmonton:20251023T120000
DTEND;TZID=America/Edmonton:20251026T170000
DTSTAMP:20260419T201209
CREATED:20250617T221939Z
LAST-MODIFIED:20250617T221941Z
UID:10002830-1761220800-1761498000@www.dewintonca.com
SUMMARY:Event Rental
DESCRIPTION:The De Winton Hall is the perfect place for your party or group event.
URL:https://www.dewintonca.com/event/event-rental-12/
CATEGORIES:Hourly Rental
ATTACH;FMTTYPE=image/jpeg:https://www.dewintonca.com/wp-content/uploads/2025/06/Event-Rental.jpg
END:VEVENT
BEGIN:VEVENT
DTSTART;TZID=America/Edmonton:20251027T093000
DTEND;TZID=America/Edmonton:20251027T101500
DTSTAMP:20260419T201209
CREATED:20250109T215126Z
LAST-MODIFIED:20250125T032655Z
UID:10000896-1761557400-1761560100@www.dewintonca.com
SUMMARY:Stretching/Yoga
DESCRIPTION:Join us every Monday and Thursday from 9:15 to 10:30 am to limber up your joints and slow down your mind.
URL:https://www.dewintonca.com/event/stretching-yoga-2/2025-10-27/
CATEGORIES:Program
ATTACH;FMTTYPE=image/jpeg:https://www.dewintonca.com/wp-content/uploads/2020/08/stretching-e1738681881428.jpg
END:VEVENT
BEGIN:VEVENT
DTSTART;TZID=America/Edmonton:20251027T183000
DTEND;TZID=America/Edmonton:20251027T213000
DTSTAMP:20260419T201209
CREATED:20250204T144249Z
LAST-MODIFIED:20250210T225120Z
UID:10002574-1761589800-1761600600@www.dewintonca.com
SUMMARY:Canasta
DESCRIPTION:Looking to unwind with a fun card game? Join us for Canasta classes every Monday night from 6:30 – 9:30pm! Whether you’re a beginner or a seasoned player\, you’ll learn new strategies\, sharpen your skills\, and have a great time. Best of all—it’s FREE for community members! Grab your cards and come have some fun with us!
URL:https://www.dewintonca.com/event/canasta/2025-10-27/
LOCATION:DeWinton Community Hall\, 114 Macleod Trail E\, DeWinton\, Alberta\, T0L 0X0\, Canada
CATEGORIES:Program
ATTACH;FMTTYPE=image/jpeg:https://www.dewintonca.com/wp-content/uploads/2025/02/CANASTA-Presentation-43.jpg
END:VEVENT
END:VCALENDAR