BEGIN:VCALENDAR
VERSION:2.0
PRODID:-//The DeWinton Community Hall - ECPv6.15.20//NONSGML v1.0//EN
CALSCALE:GREGORIAN
METHOD:PUBLISH
X-WR-CALNAME:The DeWinton Community Hall
X-ORIGINAL-URL:https://www.dewintonca.com
X-WR-CALDESC:Events for The DeWinton Community Hall
REFRESH-INTERVAL;VALUE=DURATION:PT1H
X-Robots-Tag:noindex
X-PUBLISHED-TTL:PT1H
BEGIN:VTIMEZONE
TZID:America/Edmonton
BEGIN:DAYLIGHT
TZOFFSETFROM:-0700
TZOFFSETTO:-0600
TZNAME:MDT
DTSTART:20260308T090000
END:DAYLIGHT
BEGIN:STANDARD
TZOFFSETFROM:-0600
TZOFFSETTO:-0700
TZNAME:MST
DTSTART:20261101T080000
END:STANDARD
BEGIN:DAYLIGHT
TZOFFSETFROM:-0700
TZOFFSETTO:-0600
TZNAME:MDT
DTSTART:20270314T090000
END:DAYLIGHT
BEGIN:STANDARD
TZOFFSETFROM:-0600
TZOFFSETTO:-0700
TZNAME:MST
DTSTART:20271107T080000
END:STANDARD
BEGIN:DAYLIGHT
TZOFFSETFROM:-0700
TZOFFSETTO:-0600
TZNAME:MDT
DTSTART:20280312T090000
END:DAYLIGHT
BEGIN:STANDARD
TZOFFSETFROM:-0600
TZOFFSETTO:-0700
TZNAME:MST
DTSTART:20281105T080000
END:STANDARD
END:VTIMEZONE
BEGIN:VEVENT
DTSTART;TZID=America/Edmonton:20271101T091500
DTEND;TZID=America/Edmonton:20271101T103000
DTSTAMP:20260420T220558
CREATED:20251104T012604Z
LAST-MODIFIED:20251104T012609Z
UID:10002948-1825060500-1825065000@www.dewintonca.com
SUMMARY:Stretching/Yoga
DESCRIPTION:Join us every Monday and Thursday from 9:15 to 10:30 am to limber up your joints and slow down your mind.
URL:https://www.dewintonca.com/event/stretching-yoga-3/2027-11-01/
CATEGORIES:Program
ATTACH;FMTTYPE=image/jpeg:https://www.dewintonca.com/wp-content/uploads/2020/08/stretching-e1738681881428.jpg
END:VEVENT
BEGIN:VEVENT
DTSTART;TZID=America/Edmonton:20271101T183000
DTEND;TZID=America/Edmonton:20271101T213000
DTSTAMP:20260420T220558
CREATED:20250204T144249Z
LAST-MODIFIED:20250210T225120Z
UID:10002679-1825093800-1825104600@www.dewintonca.com
SUMMARY:Canasta
DESCRIPTION:Looking to unwind with a fun card game? Join us for Canasta classes every Monday night from 6:30 – 9:30pm! Whether you’re a beginner or a seasoned player\, you’ll learn new strategies\, sharpen your skills\, and have a great time. Best of all—it’s FREE for community members! Grab your cards and come have some fun with us!
URL:https://www.dewintonca.com/event/canasta/2027-11-01/
LOCATION:DeWinton Community Hall\, 114 Macleod Trail E\, DeWinton\, Alberta\, T0L 0X0\, Canada
CATEGORIES:Program
ATTACH;FMTTYPE=image/jpeg:https://www.dewintonca.com/wp-content/uploads/2025/02/CANASTA-Presentation-43.jpg
END:VEVENT
BEGIN:VEVENT
DTSTART;TZID=America/Edmonton:20271103T093000
DTEND;TZID=America/Edmonton:20271103T143000
DTSTAMP:20260420T220558
CREATED:20250109T220122Z
LAST-MODIFIED:20250125T032639Z
UID:10001262-1825234200-1825252200@www.dewintonca.com
SUMMARY:Quilting
DESCRIPTION:Free for Members. Drop in with your equipment and supplies
URL:https://www.dewintonca.com/event/quilting/2027-11-03/
CATEGORIES:Program
ATTACH;FMTTYPE=image/jpeg:https://www.dewintonca.com/wp-content/uploads/2021/03/Quilting.jpg
END:VEVENT
BEGIN:VEVENT
DTSTART;TZID=America/Edmonton:20271103T130000
DTEND;TZID=America/Edmonton:20271103T150000
DTSTAMP:20260420T220558
CREATED:20250118T233839Z
LAST-MODIFIED:20250125T032551Z
UID:10001595-1825246800-1825254000@www.dewintonca.com
SUMMARY:Bridge
DESCRIPTION:Join us at the hall for a friendly round or two of Bridge. Free to attend for DCA members
URL:https://www.dewintonca.com/event/bridge/2027-11-03/
CATEGORIES:Program
ATTACH;FMTTYPE=image/jpeg:https://www.dewintonca.com/wp-content/uploads/2025/01/Cards-scaled-e1738682093441.jpg
END:VEVENT
BEGIN:VEVENT
DTSTART;TZID=America/Edmonton:20271104T091500
DTEND;TZID=America/Edmonton:20271104T103000
DTSTAMP:20260420T220558
CREATED:20250109T212155Z
LAST-MODIFIED:20250125T032629Z
UID:10000221-1825319700-1825324200@www.dewintonca.com
SUMMARY:Stretching/Yoga
DESCRIPTION:Join us every Monday and Thursday from 9:15 to 10:30 am to limber up your joints and slow down your mind.
URL:https://www.dewintonca.com/event/stretching-yoga/2027-11-04/
CATEGORIES:Program
ATTACH;FMTTYPE=image/jpeg:https://www.dewintonca.com/wp-content/uploads/2020/08/stretching-e1738681881428.jpg
END:VEVENT
BEGIN:VEVENT
DTSTART;TZID=America/Edmonton:20271108T091500
DTEND;TZID=America/Edmonton:20271108T103000
DTSTAMP:20260420T220558
CREATED:20251104T012604Z
LAST-MODIFIED:20251104T012609Z
UID:10002949-1825665300-1825669800@www.dewintonca.com
SUMMARY:Stretching/Yoga
DESCRIPTION:Join us every Monday and Thursday from 9:15 to 10:30 am to limber up your joints and slow down your mind.
URL:https://www.dewintonca.com/event/stretching-yoga-3/2027-11-08/
CATEGORIES:Program
ATTACH;FMTTYPE=image/jpeg:https://www.dewintonca.com/wp-content/uploads/2020/08/stretching-e1738681881428.jpg
END:VEVENT
BEGIN:VEVENT
DTSTART;TZID=America/Edmonton:20271108T183000
DTEND;TZID=America/Edmonton:20271108T213000
DTSTAMP:20260420T220558
CREATED:20250204T144249Z
LAST-MODIFIED:20250210T225120Z
UID:10002680-1825698600-1825709400@www.dewintonca.com
SUMMARY:Canasta
DESCRIPTION:Looking to unwind with a fun card game? Join us for Canasta classes every Monday night from 6:30 – 9:30pm! Whether you’re a beginner or a seasoned player\, you’ll learn new strategies\, sharpen your skills\, and have a great time. Best of all—it’s FREE for community members! Grab your cards and come have some fun with us!
URL:https://www.dewintonca.com/event/canasta/2027-11-08/
LOCATION:DeWinton Community Hall\, 114 Macleod Trail E\, DeWinton\, Alberta\, T0L 0X0\, Canada
CATEGORIES:Program
ATTACH;FMTTYPE=image/jpeg:https://www.dewintonca.com/wp-content/uploads/2025/02/CANASTA-Presentation-43.jpg
END:VEVENT
BEGIN:VEVENT
DTSTART;TZID=America/Edmonton:20271110T093000
DTEND;TZID=America/Edmonton:20271110T143000
DTSTAMP:20260420T220558
CREATED:20250109T220122Z
LAST-MODIFIED:20250125T032639Z
UID:10001263-1825839000-1825857000@www.dewintonca.com
SUMMARY:Quilting
DESCRIPTION:Free for Members. Drop in with your equipment and supplies
URL:https://www.dewintonca.com/event/quilting/2027-11-10/
CATEGORIES:Program
ATTACH;FMTTYPE=image/jpeg:https://www.dewintonca.com/wp-content/uploads/2021/03/Quilting.jpg
END:VEVENT
BEGIN:VEVENT
DTSTART;TZID=America/Edmonton:20271110T130000
DTEND;TZID=America/Edmonton:20271110T150000
DTSTAMP:20260420T220558
CREATED:20250118T233839Z
LAST-MODIFIED:20250125T032551Z
UID:10001596-1825851600-1825858800@www.dewintonca.com
SUMMARY:Bridge
DESCRIPTION:Join us at the hall for a friendly round or two of Bridge. Free to attend for DCA members
URL:https://www.dewintonca.com/event/bridge/2027-11-10/
CATEGORIES:Program
ATTACH;FMTTYPE=image/jpeg:https://www.dewintonca.com/wp-content/uploads/2025/01/Cards-scaled-e1738682093441.jpg
END:VEVENT
BEGIN:VEVENT
DTSTART;TZID=America/Edmonton:20271111T091500
DTEND;TZID=America/Edmonton:20271111T103000
DTSTAMP:20260420T220558
CREATED:20250109T212155Z
LAST-MODIFIED:20250125T032629Z
UID:10000222-1825924500-1825929000@www.dewintonca.com
SUMMARY:Stretching/Yoga
DESCRIPTION:Join us every Monday and Thursday from 9:15 to 10:30 am to limber up your joints and slow down your mind.
URL:https://www.dewintonca.com/event/stretching-yoga/2027-11-11/
CATEGORIES:Program
ATTACH;FMTTYPE=image/jpeg:https://www.dewintonca.com/wp-content/uploads/2020/08/stretching-e1738681881428.jpg
END:VEVENT
BEGIN:VEVENT
DTSTART;TZID=America/Edmonton:20271115T091500
DTEND;TZID=America/Edmonton:20271115T103000
DTSTAMP:20260420T220558
CREATED:20251104T012604Z
LAST-MODIFIED:20251104T012609Z
UID:10002950-1826270100-1826274600@www.dewintonca.com
SUMMARY:Stretching/Yoga
DESCRIPTION:Join us every Monday and Thursday from 9:15 to 10:30 am to limber up your joints and slow down your mind.
URL:https://www.dewintonca.com/event/stretching-yoga-3/2027-11-15/
CATEGORIES:Program
ATTACH;FMTTYPE=image/jpeg:https://www.dewintonca.com/wp-content/uploads/2020/08/stretching-e1738681881428.jpg
END:VEVENT
BEGIN:VEVENT
DTSTART;TZID=America/Edmonton:20271115T183000
DTEND;TZID=America/Edmonton:20271115T213000
DTSTAMP:20260420T220558
CREATED:20250204T144249Z
LAST-MODIFIED:20250210T225120Z
UID:10002681-1826303400-1826314200@www.dewintonca.com
SUMMARY:Canasta
DESCRIPTION:Looking to unwind with a fun card game? Join us for Canasta classes every Monday night from 6:30 – 9:30pm! Whether you’re a beginner or a seasoned player\, you’ll learn new strategies\, sharpen your skills\, and have a great time. Best of all—it’s FREE for community members! Grab your cards and come have some fun with us!
URL:https://www.dewintonca.com/event/canasta/2027-11-15/
LOCATION:DeWinton Community Hall\, 114 Macleod Trail E\, DeWinton\, Alberta\, T0L 0X0\, Canada
CATEGORIES:Program
ATTACH;FMTTYPE=image/jpeg:https://www.dewintonca.com/wp-content/uploads/2025/02/CANASTA-Presentation-43.jpg
END:VEVENT
BEGIN:VEVENT
DTSTART;TZID=America/Edmonton:20271117T093000
DTEND;TZID=America/Edmonton:20271117T143000
DTSTAMP:20260420T220558
CREATED:20250109T220122Z
LAST-MODIFIED:20250125T032639Z
UID:10001264-1826443800-1826461800@www.dewintonca.com
SUMMARY:Quilting
DESCRIPTION:Free for Members. Drop in with your equipment and supplies
URL:https://www.dewintonca.com/event/quilting/2027-11-17/
CATEGORIES:Program
ATTACH;FMTTYPE=image/jpeg:https://www.dewintonca.com/wp-content/uploads/2021/03/Quilting.jpg
END:VEVENT
BEGIN:VEVENT
DTSTART;TZID=America/Edmonton:20271117T130000
DTEND;TZID=America/Edmonton:20271117T150000
DTSTAMP:20260420T220558
CREATED:20250118T233839Z
LAST-MODIFIED:20250125T032551Z
UID:10001597-1826456400-1826463600@www.dewintonca.com
SUMMARY:Bridge
DESCRIPTION:Join us at the hall for a friendly round or two of Bridge. Free to attend for DCA members
URL:https://www.dewintonca.com/event/bridge/2027-11-17/
CATEGORIES:Program
ATTACH;FMTTYPE=image/jpeg:https://www.dewintonca.com/wp-content/uploads/2025/01/Cards-scaled-e1738682093441.jpg
END:VEVENT
BEGIN:VEVENT
DTSTART;TZID=America/Edmonton:20271118T091500
DTEND;TZID=America/Edmonton:20271118T103000
DTSTAMP:20260420T220558
CREATED:20250109T212155Z
LAST-MODIFIED:20250125T032629Z
UID:10000223-1826529300-1826533800@www.dewintonca.com
SUMMARY:Stretching/Yoga
DESCRIPTION:Join us every Monday and Thursday from 9:15 to 10:30 am to limber up your joints and slow down your mind.
URL:https://www.dewintonca.com/event/stretching-yoga/2027-11-18/
CATEGORIES:Program
ATTACH;FMTTYPE=image/jpeg:https://www.dewintonca.com/wp-content/uploads/2020/08/stretching-e1738681881428.jpg
END:VEVENT
BEGIN:VEVENT
DTSTART;TZID=America/Edmonton:20271122T091500
DTEND;TZID=America/Edmonton:20271122T103000
DTSTAMP:20260420T220558
CREATED:20251104T012604Z
LAST-MODIFIED:20251104T012609Z
UID:10002951-1826874900-1826879400@www.dewintonca.com
SUMMARY:Stretching/Yoga
DESCRIPTION:Join us every Monday and Thursday from 9:15 to 10:30 am to limber up your joints and slow down your mind.
URL:https://www.dewintonca.com/event/stretching-yoga-3/2027-11-22/
CATEGORIES:Program
ATTACH;FMTTYPE=image/jpeg:https://www.dewintonca.com/wp-content/uploads/2020/08/stretching-e1738681881428.jpg
END:VEVENT
BEGIN:VEVENT
DTSTART;TZID=America/Edmonton:20271122T183000
DTEND;TZID=America/Edmonton:20271122T213000
DTSTAMP:20260420T220558
CREATED:20250204T144249Z
LAST-MODIFIED:20250210T225120Z
UID:10002682-1826908200-1826919000@www.dewintonca.com
SUMMARY:Canasta
DESCRIPTION:Looking to unwind with a fun card game? Join us for Canasta classes every Monday night from 6:30 – 9:30pm! Whether you’re a beginner or a seasoned player\, you’ll learn new strategies\, sharpen your skills\, and have a great time. Best of all—it’s FREE for community members! Grab your cards and come have some fun with us!
URL:https://www.dewintonca.com/event/canasta/2027-11-22/
LOCATION:DeWinton Community Hall\, 114 Macleod Trail E\, DeWinton\, Alberta\, T0L 0X0\, Canada
CATEGORIES:Program
ATTACH;FMTTYPE=image/jpeg:https://www.dewintonca.com/wp-content/uploads/2025/02/CANASTA-Presentation-43.jpg
END:VEVENT
BEGIN:VEVENT
DTSTART;TZID=America/Edmonton:20271124T093000
DTEND;TZID=America/Edmonton:20271124T143000
DTSTAMP:20260420T220558
CREATED:20250109T220122Z
LAST-MODIFIED:20250125T032639Z
UID:10001265-1827048600-1827066600@www.dewintonca.com
SUMMARY:Quilting
DESCRIPTION:Free for Members. Drop in with your equipment and supplies
URL:https://www.dewintonca.com/event/quilting/2027-11-24/
CATEGORIES:Program
ATTACH;FMTTYPE=image/jpeg:https://www.dewintonca.com/wp-content/uploads/2021/03/Quilting.jpg
END:VEVENT
BEGIN:VEVENT
DTSTART;TZID=America/Edmonton:20271124T130000
DTEND;TZID=America/Edmonton:20271124T150000
DTSTAMP:20260420T220558
CREATED:20250118T233839Z
LAST-MODIFIED:20250125T032551Z
UID:10001598-1827061200-1827068400@www.dewintonca.com
SUMMARY:Bridge
DESCRIPTION:Join us at the hall for a friendly round or two of Bridge. Free to attend for DCA members
URL:https://www.dewintonca.com/event/bridge/2027-11-24/
CATEGORIES:Program
ATTACH;FMTTYPE=image/jpeg:https://www.dewintonca.com/wp-content/uploads/2025/01/Cards-scaled-e1738682093441.jpg
END:VEVENT
BEGIN:VEVENT
DTSTART;TZID=America/Edmonton:20271125T091500
DTEND;TZID=America/Edmonton:20271125T103000
DTSTAMP:20260420T220558
CREATED:20250109T212155Z
LAST-MODIFIED:20250125T032629Z
UID:10000224-1827134100-1827138600@www.dewintonca.com
SUMMARY:Stretching/Yoga
DESCRIPTION:Join us every Monday and Thursday from 9:15 to 10:30 am to limber up your joints and slow down your mind.
URL:https://www.dewintonca.com/event/stretching-yoga/2027-11-25/
CATEGORIES:Program
ATTACH;FMTTYPE=image/jpeg:https://www.dewintonca.com/wp-content/uploads/2020/08/stretching-e1738681881428.jpg
END:VEVENT
BEGIN:VEVENT
DTSTART;TZID=America/Edmonton:20271129T091500
DTEND;TZID=America/Edmonton:20271129T103000
DTSTAMP:20260420T220558
CREATED:20251104T012604Z
LAST-MODIFIED:20251104T012609Z
UID:10002952-1827479700-1827484200@www.dewintonca.com
SUMMARY:Stretching/Yoga
DESCRIPTION:Join us every Monday and Thursday from 9:15 to 10:30 am to limber up your joints and slow down your mind.
URL:https://www.dewintonca.com/event/stretching-yoga-3/2027-11-29/
CATEGORIES:Program
ATTACH;FMTTYPE=image/jpeg:https://www.dewintonca.com/wp-content/uploads/2020/08/stretching-e1738681881428.jpg
END:VEVENT
BEGIN:VEVENT
DTSTART;TZID=America/Edmonton:20271129T183000
DTEND;TZID=America/Edmonton:20271129T213000
DTSTAMP:20260420T220558
CREATED:20250204T144249Z
LAST-MODIFIED:20250210T225120Z
UID:10002683-1827513000-1827523800@www.dewintonca.com
SUMMARY:Canasta
DESCRIPTION:Looking to unwind with a fun card game? Join us for Canasta classes every Monday night from 6:30 – 9:30pm! Whether you’re a beginner or a seasoned player\, you’ll learn new strategies\, sharpen your skills\, and have a great time. Best of all—it’s FREE for community members! Grab your cards and come have some fun with us!
URL:https://www.dewintonca.com/event/canasta/2027-11-29/
LOCATION:DeWinton Community Hall\, 114 Macleod Trail E\, DeWinton\, Alberta\, T0L 0X0\, Canada
CATEGORIES:Program
ATTACH;FMTTYPE=image/jpeg:https://www.dewintonca.com/wp-content/uploads/2025/02/CANASTA-Presentation-43.jpg
END:VEVENT
END:VCALENDAR